BEGIN:VCALENDAR
VERSION:2.0
PRODID:-//reigen.at - ECPv6.0.12//NONSGML v1.0//EN
CALSCALE:GREGORIAN
METHOD:PUBLISH
X-WR-CALNAME:reigen.at
X-ORIGINAL-URL:https://www.reigen.at
X-WR-CALDESC:Veranstaltungen für reigen.at
REFRESH-INTERVAL;VALUE=DURATION:PT1H
X-Robots-Tag:noindex
X-PUBLISHED-TTL:PT1H
BEGIN:VTIMEZONE
TZID:Europe/Berlin
BEGIN:DAYLIGHT
TZOFFSETFROM:+0100
TZOFFSETTO:+0200
TZNAME:CEST
DTSTART:20240331T010000
END:DAYLIGHT
BEGIN:STANDARD
TZOFFSETFROM:+0200
TZOFFSETTO:+0100
TZNAME:CET
DTSTART:20241027T010000
END:STANDARD
END:VTIMEZONE
BEGIN:VEVENT
DTSTART;TZID=Europe/Berlin:20241123T203000
DTEND;TZID=Europe/Berlin:20241123T233000
DTSTAMP:20260420T114627
CREATED:20240515T204836Z
LAST-MODIFIED:20241112T185919Z
UID:3547-1732393800-1732404600@www.reigen.at
SUMMARY:Nasty Habits Classic Rock Project
DESCRIPTION:Vienna Jazzfloor 2024 \nDas Wiener Rock Urgestein NASTY HABITS werden gemeinsam mit ihrem ungarischen Ausnahme Vokalisten ATTILA SCHOLTZ ihr neues Programm Rocken.\nMusikalische Edelsteine von Bands wie THE WHO\, URIAH HEEP\, LED ZEPPELIN\, DEEP PURPLE\, WHITESNAKE\, CREAM\, UFO\, THE DOORS\, THE BEATLES\, u.a. Legenden werden an diesen Abend zum Besten gegeben.\n\nATTILA SCHOLTZ : Lead Vocals\nCHRISTIAN HEISSENBERGER; Guitar\nWOLFGANG PFENNEBERGER : Bass\nHELMUT PUSCHACHER: Keyboards\nPETER BRKUSIC: Drums
URL:https://www.reigen.at/event/nasty-habits-classic-rock-project-2/
LOCATION:REIGEN LIVE\, Hadikgasse 62\, Wien\, 1140\, Österreich
ATTACH;FMTTYPE=image/jpeg:https://www.reigen.at/wp-content/uploads/2023/04/attila-scholtz-1.jpg
END:VEVENT
END:VCALENDAR