BEGIN:VCALENDAR
VERSION:2.0
PRODID:-//reigen.at - ECPv6.0.12//NONSGML v1.0//EN
CALSCALE:GREGORIAN
METHOD:PUBLISH
X-WR-CALNAME:reigen.at
X-ORIGINAL-URL:https://www.reigen.at
X-WR-CALDESC:Veranstaltungen für reigen.at
REFRESH-INTERVAL;VALUE=DURATION:PT1H
X-Robots-Tag:noindex
X-PUBLISHED-TTL:PT1H
BEGIN:VTIMEZONE
TZID:Europe/Berlin
BEGIN:DAYLIGHT
TZOFFSETFROM:+0100
TZOFFSETTO:+0200
TZNAME:CEST
DTSTART:20240331T010000
END:DAYLIGHT
BEGIN:STANDARD
TZOFFSETFROM:+0200
TZOFFSETTO:+0100
TZNAME:CET
DTSTART:20241027T010000
END:STANDARD
END:VTIMEZONE
BEGIN:VEVENT
DTSTART;TZID=Europe/Berlin:20241127T203000
DTEND;TZID=Europe/Berlin:20241127T233000
DTSTAMP:20260420T101655
CREATED:20240620T210131Z
LAST-MODIFIED:20240910T230939Z
UID:3726-1732739400-1732750200@www.reigen.at
SUMMARY:Kelly Green Trio
DESCRIPTION:Vienna Jazzfloor 2024 \n\nWir freuen uns\, Kelly Green\, Pianistin mit dreifacher Begabung vorstellen zu dürfen. Sängerin und Komponistin mit Sitz in NYC. Sie wird für ihre Natürlichkeit gefeiert\, ihrenGesang\, ihr anspruchsvolles Klavierspiel und ihre Fähigkeit das Publikumvoll einzubinden und mit einfallsreiche Arrangements von Jazzstandards zu  begeistern. Kelly Green war Headliner in prestigeträchtigen Veranstaltungsorten weltweit\, darunter das Kennedy Center und Dizzy's Jazz \nClub und das Birdland Theater und trat bei internationalen Jazz auf Festivals rund um den Globus auf. Ihre ersten vier Alben sind im Radio bei Stationen auf der ganzen Welt\, einschließlich WBGO und Sirius XM zu hören. Sie veröffentlichte im März 2024 ihr neuestes Album: „Seems“ mit ihrem langjährigen Partner Trio mit Evan Hyde (Schlagzeug) und Luca Soul Rosenfeld (Bass) mit dem Flötisten Elijah J. Thomas und dem besonderen Gast Rich Perry am Tenor Saxophon.\n\n“Kelly Green is one of the most talented & spirited people I know.  Everything about her is joyous and swingin’!” Christian McBride*\n“She is no mere songwriter\, but an artist and performer in toto...Green’s composing skills are more than impressive.” -Michael Bailey (All About Jazz)*
URL:https://www.reigen.at/event/kelly-green/
ATTACH;FMTTYPE=image/webp:https://www.reigen.at/wp-content/uploads/2024/06/KellyGreen.jpg-scaled.webp
END:VEVENT
END:VCALENDAR