BEGIN:VCALENDAR
VERSION:2.0
PRODID:-//reigen.at - ECPv6.0.12//NONSGML v1.0//EN
CALSCALE:GREGORIAN
METHOD:PUBLISH
X-ORIGINAL-URL:https://www.reigen.at
X-WR-CALDESC:Veranstaltungen für reigen.at
REFRESH-INTERVAL;VALUE=DURATION:PT1H
X-Robots-Tag:noindex
X-PUBLISHED-TTL:PT1H
BEGIN:VTIMEZONE
TZID:Europe/Berlin
BEGIN:DAYLIGHT
TZOFFSETFROM:+0100
TZOFFSETTO:+0200
TZNAME:CEST
DTSTART:20240331T010000
END:DAYLIGHT
BEGIN:STANDARD
TZOFFSETFROM:+0200
TZOFFSETTO:+0100
TZNAME:CET
DTSTART:20241027T010000
END:STANDARD
END:VTIMEZONE
BEGIN:VEVENT
DTSTART;TZID=Europe/Berlin:20241203T203000
DTEND;TZID=Europe/Berlin:20241203T233000
DTSTAMP:20260420T101954
CREATED:20240924T153839Z
LAST-MODIFIED:20240924T205141Z
UID:4237-1733257800-1733268600@www.reigen.at
SUMMARY:WOLF MAIL &  BAND -„THE WOLF IS AT OUR DOOR“
DESCRIPTION:WOLF MAIL (Australia)\nDer Blues-Soul-Gitarrist\, Sänger\, Showman und Songwriter Wolf Mail hat eine Karriere von 30 Jahren aufgebaut\, mit einem Top-10-Billboard-Hit\, 7 Originalalben auf dem Buckel und über 3000 Shows weltweit. \nGeboren in Montreal\, Canada\, aufgewachsen in Südfrankreich und in Kalifornien\, mit Wohnsitz in Australia\, ist Wolf Mail zu einem reisenden Nomaden geworden.  „Meine prägende Inspiration ist immer aus dem Erforschen und dem Kennenlernen neuer Kulturen und ihrer Menschen erwachsen“\, sagt er.\n„Mein Anliegen ist es diese Gefühle in die Musik zu übertragen“. Wolf Mail gehört zur Spitze einer neuen Generation von Blues-Gitarristen.\nTageszeitungen aus England und Japan bezeichnen ihn als:  “The New Blues Master of the Telecaster.\n„Der Mann hat eine Stimme\, dass man Gänsehaut bekommt!“  Die Kombination seines Gitarrenspiels und des Gesangs\, gepaart mit dem kraftvollen Songwriting führten in Japan dazu\,  dass „Solid Ground“ immerhin länger als drei Wochen in den japanischen Top 10 Charts zu finden war.\nMails Musikstil ist eine Mischung aus traditionellem Blues\, prägenden Einflüssen von Albert Collins und Roy Buchanan über den klassischen Soul von Curtis Mayfield und Otis Redding bis zum bluesrock eines Johnny Winter. \nWolf Mail= Guitar/voc\nLukasz Gorczyca= Bass (ex Gary Moore)\nTomek Dominik= Drums (ex Jennifer Batten)
URL:https://www.reigen.at/event/wolf-mail/
LOCATION:REIGEN LIVE\, Hadikgasse 62\, Wien\, 1140\, Österreich
ATTACH;FMTTYPE=image/jpeg:https://www.reigen.at/wp-content/uploads/2024/09/Wolf-Mail-Tenessee-2023_GS.jpg
END:VEVENT
END:VCALENDAR