BEGIN:VCALENDAR
VERSION:2.0
PRODID:-//reigen.at - ECPv6.0.12//NONSGML v1.0//EN
CALSCALE:GREGORIAN
METHOD:PUBLISH
X-ORIGINAL-URL:https://www.reigen.at
X-WR-CALDESC:Veranstaltungen für reigen.at
REFRESH-INTERVAL;VALUE=DURATION:PT1H
X-Robots-Tag:noindex
X-PUBLISHED-TTL:PT1H
BEGIN:VTIMEZONE
TZID:Europe/Berlin
BEGIN:DAYLIGHT
TZOFFSETFROM:+0100
TZOFFSETTO:+0200
TZNAME:CEST
DTSTART:20240331T010000
END:DAYLIGHT
BEGIN:STANDARD
TZOFFSETFROM:+0200
TZOFFSETTO:+0100
TZNAME:CET
DTSTART:20241027T010000
END:STANDARD
END:VTIMEZONE
BEGIN:VEVENT
DTSTART;TZID=Europe/Berlin:20241206T203000
DTEND;TZID=Europe/Berlin:20241206T233000
DTSTAMP:20260420T101829
CREATED:20240722T235149Z
LAST-MODIFIED:20241006T161727Z
UID:3955-1733517000-1733527800@www.reigen.at
SUMMARY:Geoffrey Goodman King & Bluesband - Christmas Special
DESCRIPTION:35 Jahre Reigenlive Festival \nDer österreichische Gitarrist und Sänger Geoffrey Goodman King lädt herzlichst zu seinem Christmas Special ein. Im Auftrag vom Nikolo werden bluesig und jazzig gespielte amerikanische Songs rund um das Thema Weihnachten dargeboten. In dieser besinnlichen Zeit denken wir oft an unsere Beziehungen\, Einsamkeit\, aber auch an kuriose Dinge. So erzählt der Titel “Backdoor Santa” vom Weihnachtsmann als Frauenverführer\, der sich die Hintertür zur Flucht offen lässt\, oder “Lonesome Christmas” über die Einsamkeit nach einer gescheiterten Beziehung. Diese Songtexte werden in gefühlvolle Balladen\, sowie auch in typischen “Chicago-Blues-Rhythmen” präsentiert. \nGeoffrey Goodman King’s einfühlsame Stimme und sein typisches Gitarrenspiel in Verbindung mit den ausgefeilten Bläserarrangements versetzt das Publikum in vorweihnachtliche Stimmung. Natürlich hat er auch die dazugehörige CD „Christmas Blues“ mit im Gepäck. \nGeoffrey Goodman King – vocal\, guitar\nTom Müller – keyboards\nMarkus Babler – guitar\nLeo Ruehrer – bass\nAlfred Bäck – drums\nJan Kolaja – trumpet\nGerhard Aflenzer – trumpet\nMichel Nahabedian – tenor sax\nMartin Jank – baritone sax
URL:https://www.reigen.at/event/g-g-kingband-christmas-special/
LOCATION:REIGEN LIVE\, Hadikgasse 62\, Wien\, 1140\, Österreich
ATTACH;FMTTYPE=image/jpeg:https://www.reigen.at/wp-content/uploads/2024/07/Christmas-Special.jpg
END:VEVENT
END:VCALENDAR