BEGIN:VCALENDAR
VERSION:2.0
PRODID:-//reigen.at - ECPv6.0.12//NONSGML v1.0//EN
CALSCALE:GREGORIAN
METHOD:PUBLISH
X-WR-CALNAME:reigen.at
X-ORIGINAL-URL:https://www.reigen.at
X-WR-CALDESC:Veranstaltungen für reigen.at
REFRESH-INTERVAL;VALUE=DURATION:PT1H
X-Robots-Tag:noindex
X-PUBLISHED-TTL:PT1H
BEGIN:VTIMEZONE
TZID:Europe/Berlin
BEGIN:DAYLIGHT
TZOFFSETFROM:+0100
TZOFFSETTO:+0200
TZNAME:CEST
DTSTART:20240331T010000
END:DAYLIGHT
BEGIN:STANDARD
TZOFFSETFROM:+0200
TZOFFSETTO:+0100
TZNAME:CET
DTSTART:20241027T010000
END:STANDARD
END:VTIMEZONE
BEGIN:VEVENT
DTSTART;TZID=Europe/Berlin:20241207T203000
DTEND;TZID=Europe/Berlin:20241207T233000
DTSTAMP:20260420T101614
CREATED:20240214T110122Z
LAST-MODIFIED:20241206T101408Z
UID:3134-1733603400-1733614200@www.reigen.at
SUMMARY:Peter Kern & Band: Album Release Party AUSVERKAUFT!
DESCRIPTION:Liebe Freunde\, das Konzert von Peter Kern ist ausverkauft\, es können nur mehr reservierte Karten abgeholt werden. \n35 Jahre Reigenlive Festival \nIm Dezember erwartet uns ein musikalisches Highlight: Peter Kern\, der charismatische Musiker aus Wien\, spielt mit seiner energiegeladenen Blues-Band im Reigen live auf! Mit im Gepäck ist sein brandneues Album „Guitar Man“ – eine vielseitige Kollektion seiner Songs\, die die Leidenschaft und Energie des elektrischen Blues einfängt.\nPeter Kern’s Fingerfertigkeit an der Gitarre lässt magische Klänge entstehen\, während seine markante Stimme und sein mitreißendes Auftreten die Bühne in höchste Schwingungen versetzen. Der Preisträger der Internationalen Blues Challenge (IBC) 2001 in Memphis\, Tennessee präsentiert eine lebendige Mischung aus Chicago-Blues\, Boogie und Rock’n’Roll.\n\nPeter Kern: guitar\, vocals\nChristoph Huber: guitar\nRichard Haasz: e-bass\nFlorian Tuchacek: drums\nAndy Harp: blues harp
URL:https://www.reigen.at/event/peter-kern/
LOCATION:REIGEN LIVE\, Hadikgasse 62\, Wien\, 1140\, Österreich
ATTACH;FMTTYPE=image/png:https://www.reigen.at/wp-content/uploads/2024/02/c-Joe-Vigerl.png
END:VEVENT
END:VCALENDAR