BEGIN:VCALENDAR
VERSION:2.0
PRODID:-//reigen.at - ECPv6.0.12//NONSGML v1.0//EN
CALSCALE:GREGORIAN
METHOD:PUBLISH
X-WR-CALNAME:reigen.at
X-ORIGINAL-URL:https://www.reigen.at
X-WR-CALDESC:Veranstaltungen für reigen.at
REFRESH-INTERVAL;VALUE=DURATION:PT1H
X-Robots-Tag:noindex
X-PUBLISHED-TTL:PT1H
BEGIN:VTIMEZONE
TZID:Europe/Berlin
BEGIN:DAYLIGHT
TZOFFSETFROM:+0100
TZOFFSETTO:+0200
TZNAME:CEST
DTSTART:20250330T010000
END:DAYLIGHT
BEGIN:STANDARD
TZOFFSETFROM:+0200
TZOFFSETTO:+0100
TZNAME:CET
DTSTART:20251026T010000
END:STANDARD
END:VTIMEZONE
BEGIN:VEVENT
DTSTART;TZID=Europe/Berlin:20250125T203000
DTEND;TZID=Europe/Berlin:20250125T233000
DTSTAMP:20260420T114439
CREATED:20241002T143038Z
LAST-MODIFIED:20241023T103025Z
UID:4274-1737837000-1737847800@www.reigen.at
SUMMARY:Moon City Masters
DESCRIPTION:The Moon City Masters are a neo-classic rock band with a contemporary edge and more than a hint of soul and funk. The band\, consisting of twin brothers\, Jordan and Talor Steinberg\, brings together the whole package\, with virtuosic playing and singing combined with excellent songcraft and an aesthetic that is all their own. It’s the unique MCM vibe that makes outlets like Classic Rock Magazine say that their music is full of „heart\, harmonies and rays of California sunshine.“ Ever since they first picked up their instruments at the tender age of 12 after their dad took them to see the Red Hot Chili Peppers\, the brothers have been cranking out riffs and tunes with preternatural ability. \nInitially\, they both picked up guitars\, but Jordan soon switched to bass. Over the course of the next several years\, they honed their singing and playing chops to a fine edge. The band kicked their songwriting into overdrive when they started working with Grammy-nominated producer\, Justin Craig. The band released their debut E.P.\, “The Adventures of the Moon City Masters” in late 2019.\n \n  \n  \n \n  \n 
URL:https://www.reigen.at/event/moon-city-masters/
LOCATION:REIGEN LIVE\, Hadikgasse 62\, Wien\, 1140\, Österreich
ATTACH;FMTTYPE=image/png:https://www.reigen.at/wp-content/uploads/2024/10/The-Moon-City-Masters.png
END:VEVENT
END:VCALENDAR