BEGIN:VCALENDAR
VERSION:2.0
PRODID:-//reigen.at - ECPv6.0.12//NONSGML v1.0//EN
CALSCALE:GREGORIAN
METHOD:PUBLISH
X-WR-CALNAME:reigen.at
X-ORIGINAL-URL:https://www.reigen.at
X-WR-CALDESC:Veranstaltungen für reigen.at
REFRESH-INTERVAL;VALUE=DURATION:PT1H
X-Robots-Tag:noindex
X-PUBLISHED-TTL:PT1H
BEGIN:VTIMEZONE
TZID:Europe/Berlin
BEGIN:DAYLIGHT
TZOFFSETFROM:+0100
TZOFFSETTO:+0200
TZNAME:CEST
DTSTART:20250330T010000
END:DAYLIGHT
BEGIN:STANDARD
TZOFFSETFROM:+0200
TZOFFSETTO:+0100
TZNAME:CET
DTSTART:20251026T010000
END:STANDARD
END:VTIMEZONE
BEGIN:VEVENT
DTSTART;TZID=Europe/Berlin:20250204T203000
DTEND;TZID=Europe/Berlin:20250204T233000
DTSTAMP:20260420T160930
CREATED:20240924T001244Z
LAST-MODIFIED:20241203T003717Z
UID:4235-1738701000-1738711800@www.reigen.at
SUMMARY:Carl Sentance
DESCRIPTION:Carl Sentance – Ein außergewöhnlicher Rock-Sänger live mit neuem Album und Klassikern von Nazareth\nCarl Sentance ist ein renommierter britischer Rocksänger\, bekannt für seine kraftvolle Stimme und seine dynamische Bühnenpräsenz. Geboren am 28. Juni 1961 in Loughborough\, England\, begann Sentance seine musikalische Karriere in den frühen 1980er Jahren als Leadsänger der Band Persian Risk. Größere Bekanntheit erlangte er 2015\, als er der legendären Band Nazareth beitrat und den langjährigen Frontmann Dan McCafferty ersetzte.\nIm Laufe seiner Karriere hat Sentance mit namhaften Künstlern und Bands wie Krokus\, Geezer Butler und Don Aireyzusammengearbeitet und dabei seine Vielseitigkeit in verschiedenen Rockgenres unter Beweis gestellt. Seine umfassende Karriere zeichnet sich durch eine leidenschaftliche Hingabe zur Musik und eine beeindruckende Fähigkeit aus\, das Publikum mit elektrisierenden Auftritten zu begeistern.\nCarl Sentance wird sein neues Album „Silent Angels“ vorstellen und gleichzeitig einige Klassiker von Nazarethpräsentieren. Mit seiner kraftvollen Stimme und seiner charismatischen Bühnenpräsenz ist er seit 2015 der Leadsänger von Nazareth. Sein bevorstehendes Konzert verspricht eine dynamische Mischung aus frischem Material und beliebten Klassikern von Nazareth – eine einzigartige Verbindung aus Vergangenheit und Gegenwart der Rockmusik.\nDieses Event ist ein absolutes Muss für Rockfans\, die Carl Sentance’s außergewöhnliches Talent und das fortwährende Vermächtnis von Nazareth erleben möchten. \n \n 
URL:https://www.reigen.at/event/carl-sentance/
LOCATION:REIGEN LIVE\, Hadikgasse 62\, Wien\, 1140\, Österreich
ATTACH;FMTTYPE=image/jpeg:https://www.reigen.at/wp-content/uploads/2024/09/sentance.jpg
END:VEVENT
END:VCALENDAR