BEGIN:VCALENDAR
VERSION:2.0
PRODID:-//reigen.at - ECPv6.0.12//NONSGML v1.0//EN
CALSCALE:GREGORIAN
METHOD:PUBLISH
X-WR-CALNAME:reigen.at
X-ORIGINAL-URL:https://www.reigen.at
X-WR-CALDESC:Veranstaltungen für reigen.at
REFRESH-INTERVAL;VALUE=DURATION:PT1H
X-Robots-Tag:noindex
X-PUBLISHED-TTL:PT1H
BEGIN:VTIMEZONE
TZID:Europe/Berlin
BEGIN:DAYLIGHT
TZOFFSETFROM:+0100
TZOFFSETTO:+0200
TZNAME:CEST
DTSTART:20250330T010000
END:DAYLIGHT
BEGIN:STANDARD
TZOFFSETFROM:+0200
TZOFFSETTO:+0100
TZNAME:CET
DTSTART:20251026T010000
END:STANDARD
END:VTIMEZONE
BEGIN:VEVENT
DTSTART;TZID=Europe/Berlin:20250221T203000
DTEND;TZID=Europe/Berlin:20250221T233000
DTSTAMP:20260421T021803
CREATED:20241217T173205Z
LAST-MODIFIED:20241219T104054Z
UID:4530-1740169800-1740180600@www.reigen.at
SUMMARY:Amiya & Band
DESCRIPTION:Amiya ist eine charismatische Künstlerin\, deren Klänge weit über die Grenzen des Blues hinausgehen. Ihre eigene Musik – die sie selbst komponiert und derzeit mit einer neuen\, außergewöhnlichen Band kreiert – ist nicht nur Melodie\, sondern auch eine emotionale Reise durch Leben\, Liebe und Träume. Amiya ist eine polnische Blues-Rock-Sängerin\, Komponistin und Produzentin\, die als beste Blues-Sängerin des Jahres Anerkennung fand. Sie wurde zweimal mit dem „Blues Kalarus“ ausgezeichnet und erhielt Anerkennung in der „Pełnia Bluesa“- Kategorie auf InteriaMuzyka. Zudem vertrat sie Polen auf internationalen Bühnen in der Slowakei\, Tschechien und Deutschland. Ihr Auftritt im legendären Berliner Club „Quasimodo“ im Februar 2024 ist nur einer ihrer vielen Erfolge. \nAmiya arbeitet mit führenden Persönlichkeiten der polnischen Blues-Szene zusammen\, wie Jan Gałach und Jakub Andrzejewski\, und sie sang auf dem neuen Album von Michał Kielak\, auf dem auch Sebastian Riedel zu hören ist. Ihre dynamischen Auftritte ziehen nicht nur die Aufmerksamkeit von Fans\, sondern auch von Kritikern auf sich\, die ihre Ausstrahlung mit der von Kalina Jędrusik vergleichen\, einer polnischen Ikone. Derzeit promotet die Künstlerin intensiv ihre Musik und arbeitet an neuem Material\, das die Stile von Roots Blues\, Rock\, Soul und Funk vereint. \n\nGitarre: Piotr Augustynowicz\nBass: Michał Górecki\nSchlagzeug: Adam Zagrodzki\nKeyboards: Michał Mantaj\n\n  \n \n 
URL:https://www.reigen.at/event/amiya/
ATTACH;FMTTYPE=image/jpeg:https://www.reigen.at/wp-content/uploads/2024/12/Amiya-scaled.jpeg
END:VEVENT
END:VCALENDAR