BEGIN:VCALENDAR
VERSION:2.0
PRODID:-//reigen.at - ECPv6.0.12//NONSGML v1.0//EN
CALSCALE:GREGORIAN
METHOD:PUBLISH
X-WR-CALNAME:reigen.at
X-ORIGINAL-URL:https://www.reigen.at
X-WR-CALDESC:Veranstaltungen für reigen.at
REFRESH-INTERVAL;VALUE=DURATION:PT1H
X-Robots-Tag:noindex
X-PUBLISHED-TTL:PT1H
BEGIN:VTIMEZONE
TZID:Europe/Berlin
BEGIN:DAYLIGHT
TZOFFSETFROM:+0100
TZOFFSETTO:+0200
TZNAME:CEST
DTSTART:20250330T010000
END:DAYLIGHT
BEGIN:STANDARD
TZOFFSETFROM:+0200
TZOFFSETTO:+0100
TZNAME:CET
DTSTART:20251026T010000
END:STANDARD
END:VTIMEZONE
BEGIN:VEVENT
DTSTART;TZID=Europe/Berlin:20250402T203000
DTEND;TZID=Europe/Berlin:20250402T233000
DTSTAMP:20260420T111322
CREATED:20241002T135401Z
LAST-MODIFIED:20250223T142346Z
UID:4272-1743625800-1743636600@www.reigen.at
SUMMARY:Manlio Milazzi & JJ Appleton
DESCRIPTION:„Es war eine dunkle und stürmische Nacht – ein Late-Night-Jam in Denver bei einer internationalen Musikkonferenz. Gitarrist/Sänger JJ APPLETON und Mundharmonikaspieler MANLIO MILAZZI wurden von einem gemeinsamen Freund und Mitarbeiter zusammengebracht: Mundharmonika-Legende Jason Ricci. „Ihr solltet euch treffen“\, sagte er… der Rest ist Geschichte!“ \nAPPLETONs musikalische Geschichte umfasst zwei von der Kritik gelobte Akustik-Blues/Roots-Alben mit Jason Ricci\, drei unabhängige Solo-Alben\, und er war früher bei AATW/Universal UK unter Vertrag. Er hatte Fernsehauftritte bei Late Night with Stephen Colbert\, Good Morning America und Carson Daly. \nAPPLETON wurde von David Bowie als Original-Gitarrist für Bowies preisgekröntes Musical „Lazarus“ ausgesucht. Als Produzent hat JJ Aufnahmen für Kesha\, Grace Gaustad\, Erin Bowman und Darius Rucker produziert. \nMILAZZI ist einer der besten Mundharmonikaspieler seiner Generation und wurde beim World Harmonica Festival in Trossingen (2013) und bei der International Blues Challenge (2006) ausgezeichnet. Als Schüler des Mundharmonika-Genies Carlos Del Junco hat Manlio mit einigen der Größten der zeitgenössischen Bluesszene wie Bob Margolin\, Chris Jagger\, Tonky De La Pena\, Enrico Crivellaro gespielt. \n  \n 
URL:https://www.reigen.at/event/manlio-milazzi-jj-appleton-2/
LOCATION:REIGEN LIVE\, Hadikgasse 62\, Wien\, 1140\, Österreich
ATTACH;FMTTYPE=image/png:https://www.reigen.at/wp-content/uploads/2024/01/Screenshot-2024-06-01-at-12-19-26-Milazzi-Appleton-EPK-Milazzi-Appleton-EPK.pdf.png
END:VEVENT
END:VCALENDAR