BEGIN:VCALENDAR
VERSION:2.0
PRODID:-//reigen.at - ECPv6.0.12//NONSGML v1.0//EN
CALSCALE:GREGORIAN
METHOD:PUBLISH
X-ORIGINAL-URL:https://www.reigen.at
X-WR-CALDESC:Veranstaltungen für reigen.at
REFRESH-INTERVAL;VALUE=DURATION:PT1H
X-Robots-Tag:noindex
X-PUBLISHED-TTL:PT1H
BEGIN:VTIMEZONE
TZID:Europe/Berlin
BEGIN:DAYLIGHT
TZOFFSETFROM:+0100
TZOFFSETTO:+0200
TZNAME:CEST
DTSTART:20250330T010000
END:DAYLIGHT
BEGIN:STANDARD
TZOFFSETFROM:+0200
TZOFFSETTO:+0100
TZNAME:CET
DTSTART:20251026T010000
END:STANDARD
END:VTIMEZONE
BEGIN:VEVENT
DTSTART;TZID=Europe/Berlin:20250425T203000
DTEND;TZID=Europe/Berlin:20250425T233000
DTSTAMP:20260420T101953
CREATED:20240813T210442Z
LAST-MODIFIED:20250224T124415Z
UID:4104-1745613000-1745623800@www.reigen.at
SUMMARY:Boogie &Blues Spectacular
DESCRIPTION:Ein Pflichttermin für alle Boogie & Blues Liebhaber\, freut euch auf außergewöhnliche Künstler und spektakulären Darbietungen! Das Motto lautet: „Young Stars meet Legends“. \nSoll heißen: Katharina Alber trifft Martin Pyrker\, Sabine Pyrker sorgt für den Rhythmus\, Bernhard Fauster (Vocals/Clarinet) und die unglaublichen Denise Gordon (Vocals) aus den USA bringen zusätzlich Schwung auf die Bühne. Also: packender Boogie Woogie\, swingender Blues und eine explosive Bühnenpräsenz sind garantiert! \nSchließlich zählt die Innsbruckerin Katharina Alber zu den Großen der Szene. Schon mit 5 Jahren begann sie mit klassischem Klavierunterricht\, und nach ein paar Jahren fand sie über ihren Großvater\, der Innsbrucker Jazzlegende Artur Rogger\, Zugang zur Jazzszene. Dann lernte sie auch noch Klarinette und Saxophon\, um mir ihrem Opa auftreten zu können. Aber dann wurde sie dank des Tiroler Pianisten Robert Roth zur „Boogie Kathi“. Der Beginn einer internationalen Karriere\, mit mehr als 300 Live-Auftritten\, 8 CDs und 21 Festivals als Organisatorin. \nAxel Zwingenberger hat als einer der ersten ihr Talent entdeckt\, seinerzeit. Logisch\, dass man da auch bald mit Martin Pyrker in Kontakt kommt – schließlich sind die beiden Boogie-Legenden miteinander groß geworden\, damals\, in den 70iger-Jahren des vorigen Jahrhunderts. Und der Martin gehört ja schließlich auch zu den fixen Größen des ViennaBluesSprings … passt also ideal für 2025. \nDass Tochter Sabine fix dazu gehört\, auch klar. Bernhard Fauster wiederum hat seine musikalischen Wurzeln in der Dixieland- und Swingmusik aus New Orleans. Denise Gordon bringt dank ihrer karibischen Wurzeln das ganze Spektrum von Jazz\, Gospel und Blues auf die Bühne. \nDas wird ein genialer Abend\, garantiert!
URL:https://www.reigen.at/event/boogie-night/
LOCATION:REIGEN LIVE\, Hadikgasse 62\, Wien\, 1140\, Österreich
ATTACH;FMTTYPE=image/jpeg:https://www.reigen.at/wp-content/uploads/2024/08/martin_pyrker_sabine_pyrker_001_copyright_manuel_tabacchi-scaled.jpg
END:VEVENT
END:VCALENDAR