BEGIN:VCALENDAR
VERSION:2.0
PRODID:-//reigen.at - ECPv6.0.12//NONSGML v1.0//EN
CALSCALE:GREGORIAN
METHOD:PUBLISH
X-WR-CALNAME:reigen.at
X-ORIGINAL-URL:https://www.reigen.at
X-WR-CALDESC:Veranstaltungen für reigen.at
REFRESH-INTERVAL;VALUE=DURATION:PT1H
X-Robots-Tag:noindex
X-PUBLISHED-TTL:PT1H
BEGIN:VTIMEZONE
TZID:Europe/Berlin
BEGIN:DAYLIGHT
TZOFFSETFROM:+0100
TZOFFSETTO:+0200
TZNAME:CEST
DTSTART:20250330T010000
END:DAYLIGHT
BEGIN:STANDARD
TZOFFSETFROM:+0200
TZOFFSETTO:+0100
TZNAME:CET
DTSTART:20251026T010000
END:STANDARD
END:VTIMEZONE
BEGIN:VEVENT
DTSTART;TZID=Europe/Berlin:20250517T193000
DTEND;TZID=Europe/Berlin:20250517T233000
DTSTAMP:20260421T121950
CREATED:20240710T153746Z
LAST-MODIFIED:20250511T160529Z
UID:3834-1747510200-1747524600@www.reigen.at
SUMMARY:Karen Lee Andrews (AUS) blues & soul
DESCRIPTION:Surrounded by music her entire life\, Karen’s career to date has largely revolved around classic soul and rhythm and blues sounds. But in recent years\, as her musicality has evolved\, she’s been leaning more towards blues. The influence of soul\, gospel and Karen’s Polynesian background continues to inform what she does\, but the blues has come to feel more like home.\nKaren’s new EP ‘Edin’ takes a more comprehensive journey through soul and blues music\, while providing a candid expression of her personal identity. Karen’s songcraft is built on a thorough knowledge of blues\, gospel and soul music and motored by an undeniable hunger to connect. Yet the defining ingredient is Karen’s unshakeable artistic passion.\nAndrews mostly tours as a formidable trio\, teaming up with Yanya Boston on drums and Adam Ventoura on bass – two exceptional musicians. This dynamic band is exhilarating to witness!\n“Soulful and bluesy\, with so much heart and pain\, delivered with so much class.”\n\n\nDas Konzert wird vom Kulturradio Ö aufgezeichnet! \n  \n\n 
URL:https://www.reigen.at/event/karen-lee-andrews-aus-blues-soul/
LOCATION:REIGEN LIVE\, Hadikgasse 62\, Wien\, 1140\, Österreich
ATTACH;FMTTYPE=image/jpeg:https://www.reigen.at/wp-content/uploads/2024/07/karen-lee-andrews-6-1-scaled.jpg
END:VEVENT
END:VCALENDAR