BEGIN:VCALENDAR
VERSION:2.0
PRODID:-//reigen.at - ECPv6.0.12//NONSGML v1.0//EN
CALSCALE:GREGORIAN
METHOD:PUBLISH
X-ORIGINAL-URL:https://www.reigen.at
X-WR-CALDESC:Veranstaltungen für reigen.at
REFRESH-INTERVAL;VALUE=DURATION:PT1H
X-Robots-Tag:noindex
X-PUBLISHED-TTL:PT1H
BEGIN:VTIMEZONE
TZID:Europe/Berlin
BEGIN:DAYLIGHT
TZOFFSETFROM:+0100
TZOFFSETTO:+0200
TZNAME:CEST
DTSTART:20250330T010000
END:DAYLIGHT
BEGIN:STANDARD
TZOFFSETFROM:+0200
TZOFFSETTO:+0100
TZNAME:CET
DTSTART:20251026T010000
END:STANDARD
END:VTIMEZONE
BEGIN:VEVENT
DTSTART;TZID=Europe/Berlin:20250523T203000
DTEND;TZID=Europe/Berlin:20250523T233000
DTSTAMP:20260420T114756
CREATED:20241010T064700Z
LAST-MODIFIED:20250503T224919Z
UID:4292-1748032200-1748043000@www.reigen.at
SUMMARY:Hotel Kummer verschoben auf 9.10.2025
DESCRIPTION:Hotel Kummer muss das Konzert leider verschieben\, da 2 Bandmitglieder den Termin am 23.5.2025 nicht wahrnehmen können.  Weil es sich um E-Gitarre und Keyboard handelt\, die für die Band elementar sind – auch nicht substituiert werden können. Daher wird das Konzert auf 9.10. 2025 verschoben \n  \n„Das HOTEL KUMMER spielt Wienerisches und Internationales in einer Mischung aus Blues\, Singer/Songwriter und manchmal auch ein wenig rockig. Vorgetragen wird Eigenes und ins Wienerisch übersetztes Gecovertes\, etwa John Prine\, Bob Dylan\, Neil Young\, Ryan Adams und dem ganzen\, weiten amerikanischen Rest. Die Hotel-Kummer-Belegschaft besteht aus Mischa Krausz am Bass\, Lois Obereder und dessen Stimme sowie der akustischen Gitarre\, Christian Sitzwohl am Schlagzeug\, David Strohmeier an diversen Gitarren und Christina Zauner am Klavier und allem\, was sonst Tasten hat. Aktuelles Album: „Wäus is wias is“ als Vinyl oder auf Spotify und Apple Music.“
URL:https://www.reigen.at/event/hotel-kummer-2/
ATTACH;FMTTYPE=image/jpeg:https://www.reigen.at/wp-content/uploads/2024/01/Hotel-Kummer_copyright-Hotel-Kummer.jpg
END:VEVENT
END:VCALENDAR