BEGIN:VCALENDAR
VERSION:2.0
PRODID:-//reigen.at - ECPv6.0.12//NONSGML v1.0//EN
CALSCALE:GREGORIAN
METHOD:PUBLISH
X-WR-CALNAME:reigen.at
X-ORIGINAL-URL:https://www.reigen.at
X-WR-CALDESC:Veranstaltungen für reigen.at
REFRESH-INTERVAL;VALUE=DURATION:PT1H
X-Robots-Tag:noindex
X-PUBLISHED-TTL:PT1H
BEGIN:VTIMEZONE
TZID:Europe/Berlin
BEGIN:DAYLIGHT
TZOFFSETFROM:+0100
TZOFFSETTO:+0200
TZNAME:CEST
DTSTART:20250330T010000
END:DAYLIGHT
BEGIN:STANDARD
TZOFFSETFROM:+0200
TZOFFSETTO:+0100
TZNAME:CET
DTSTART:20251026T010000
END:STANDARD
END:VTIMEZONE
BEGIN:VEVENT
DTSTART;TZID=Europe/Berlin:20251007T203000
DTEND;TZID=Europe/Berlin:20251007T233000
DTSTAMP:20260419T184439
CREATED:20241201T125209Z
LAST-MODIFIED:20251001T223535Z
UID:4443-1759869000-1759879800@www.reigen.at
SUMMARY:Krissy Mathews Band feat. Hans Theessink
DESCRIPTION:Überall\, wo Krissy auftritt\, versetzt er die Menge in Erstaunen. Seine ehrliche\, dynamische und explosive Bühnenshow mit seiner extrem tighten Band hinterlässt Wellen in jedem Veranstaltungsort. Niemand klingt wie Krissy\, und in der heutigen Welt wird es immer schwieriger\, sich mit seinem eigenen Sound zu identifizieren. Er teilte die Bühne mit dem Godfather of British Blues John Mayall\, als er 12 Jahre alt war\, erhielt im Alter von 15 Jahren Karriereratschläge vom King of the Blues BB King und stand mit 16 Jahren als letzter Musiker in Großbritannien mit dem verstorbenen Jeff Healey auf der Bühne. Seitdem hat seine Band tausende von Shows auf der ganzen Welt gespielt und die Bühne mit Künstlern wie Toto\, Graveyard\, Joe Bonamassa\, Gregg Allmann\, Tedeschi Trucks Band\, Beth Hart und Joe Satriani geteilt. Im Jahr 2021 unterschrieb Krissy bei Ruf Records und veröffentlichte sein letztes\, von der Kritik hochgelobtes Album Pizza Man Blues. Außerdem ist er seit 7 Jahren festes Mitglied der Hamburg Blues Band\, wo er jeden Abend mit großen Sängern wie Maggie Bell\, Chris Farlowe und Arthur Brown auftritt.
URL:https://www.reigen.at/event/krissy-mathews-band/
LOCATION:REIGEN LIVE\, Hadikgasse 62\, Wien\, 1140\, Österreich
ATTACH;FMTTYPE=image/jpeg:https://www.reigen.at/wp-content/uploads/2024/12/krissy-matthews-feat-hans-theessink-7.10.-25.jpg
END:VEVENT
END:VCALENDAR