BEGIN:VCALENDAR
VERSION:2.0
PRODID:-//reigen.at - ECPv6.0.12//NONSGML v1.0//EN
CALSCALE:GREGORIAN
METHOD:PUBLISH
X-ORIGINAL-URL:https://www.reigen.at
X-WR-CALDESC:Veranstaltungen für reigen.at
REFRESH-INTERVAL;VALUE=DURATION:PT1H
X-Robots-Tag:noindex
X-PUBLISHED-TTL:PT1H
BEGIN:VTIMEZONE
TZID:Europe/Berlin
BEGIN:DAYLIGHT
TZOFFSETFROM:+0100
TZOFFSETTO:+0200
TZNAME:CEST
DTSTART:20250330T010000
END:DAYLIGHT
BEGIN:STANDARD
TZOFFSETFROM:+0200
TZOFFSETTO:+0100
TZNAME:CET
DTSTART:20251026T010000
END:STANDARD
END:VTIMEZONE
BEGIN:VEVENT
DTSTART;TZID=Europe/Berlin:20251011T190000
DTEND;TZID=Europe/Berlin:20251012T020000
DTSTAMP:20260419T184822
CREATED:20250703T094725Z
LAST-MODIFIED:20250728T084634Z
UID:5494-1760209200-1760234400@www.reigen.at
SUMMARY:Jump to the 90s Party
DESCRIPTION:Jump to the 90s Party - Samstag 19h Kennedybrücke\n\nDoors 19:00\n\nLIVE: The Band formerly known as GYPSY ROAD ab 20:00\n\nDJ ab 22:00
URL:https://www.reigen.at/event/jump-to-the-90s-party/
LOCATION:REIGEN LIVE\, Hadikgasse 62\, Wien\, 1140\, Österreich
ATTACH;FMTTYPE=image/jpeg:https://www.reigen.at/wp-content/uploads/2025/07/Plakat-hoch.jpeg
END:VEVENT
END:VCALENDAR