BEGIN:VCALENDAR
VERSION:2.0
PRODID:-//reigen.at - ECPv6.0.12//NONSGML v1.0//EN
CALSCALE:GREGORIAN
METHOD:PUBLISH
X-ORIGINAL-URL:https://www.reigen.at
X-WR-CALDESC:Veranstaltungen für reigen.at
REFRESH-INTERVAL;VALUE=DURATION:PT1H
X-Robots-Tag:noindex
X-PUBLISHED-TTL:PT1H
BEGIN:VTIMEZONE
TZID:Europe/Berlin
BEGIN:DAYLIGHT
TZOFFSETFROM:+0100
TZOFFSETTO:+0200
TZNAME:CEST
DTSTART:20250330T010000
END:DAYLIGHT
BEGIN:STANDARD
TZOFFSETFROM:+0200
TZOFFSETTO:+0100
TZNAME:CET
DTSTART:20251026T010000
END:STANDARD
END:VTIMEZONE
BEGIN:VEVENT
DTSTART;TZID=Europe/Berlin:20251022T203000
DTEND;TZID=Europe/Berlin:20251022T233000
DTSTAMP:20260419T184936
CREATED:20241017T090629Z
LAST-MODIFIED:20250905T073429Z
UID:4300-1761165000-1761175800@www.reigen.at
SUMMARY:Sari Schorr - The Unbreakable Tour 2025
DESCRIPTION:Was die US-Sängerin Sari Schorr … im Rahmen des WDR Rockpalasts abgeliefert haben\, lässt sich nur als Genuss bezeichnen. Kraftvoll\, vielseitig und alles andere als gewöhnlich ließen keine Wünsche offen…\nDen härteren Klang hatte dabei Sari Schorr vorzuweisen. Dank einer unglaublich präzisen und zugleich überaus virtuosen Band\, in der vor allem Gitarrist Ash Wilson immer wieder mit kurzen\, aber brillanten Soli herausstach\, konnte die Powerfrau mit der Fünf-Oktav-Stimme alle Register ziehen. Und von denen hat sie viele. Während ihrer Schul- und Studienzeit hatte man ihr geraten\, Opernsängerin zu werden\, und die klassische Ausbildung hörte man Schorr trotz ihrer rauen\, wuchtigen Altstimme durchaus an – doch ihre Liebe zum Blues der härteren Gangart war offenbar stärker. Ihr Volumen\, ihr Stimmumfang und ihre Energie machen sie zu einer Naturgewalt\, zu einem Rock-Orkan\, der durch die Harmonie fegte. — THOMAS KÖLSCH\, BONN/GENERAL-ANZEIGER \nSaris Erfolg kam „über Nacht“\, nachdem sie jahrelang den rauen Weg des Lebens einer hart arbeitenden Blues-Frau beschritten hatte. Von ihren bescheidenen Anfängen in der Musikszene der legendären South Bronx in New York und der Lower East Side in Manhattan bis hin zu Live-Auftritten an so renommierten Orten wie der Carnegie Hall und in Fernsehshows wie Conan O’Brian. Die in New York lebende Sari Schorr wurde zunächst in der Blueswelt bekannt\, nachdem sie mehrere Jahre mit der Blueslegende Joe Louis Walker und dem berühmten Gitarristen Popa Chubby durch die USA und Europa getourt war.
URL:https://www.reigen.at/event/sari-schorr/
LOCATION:REIGEN LIVE\, Hadikgasse 62\, Wien\, 1140\, Österreich
ATTACH;FMTTYPE=image/jpeg:https://www.reigen.at/wp-content/uploads/2023/10/SariSchorr-by-Jean-PhilippeHugeuet-hi-res.jpg
END:VEVENT
END:VCALENDAR