BEGIN:VCALENDAR
VERSION:2.0
PRODID:-//reigen.at - ECPv6.0.12//NONSGML v1.0//EN
CALSCALE:GREGORIAN
METHOD:PUBLISH
X-WR-CALNAME:reigen.at
X-ORIGINAL-URL:https://www.reigen.at
X-WR-CALDESC:Veranstaltungen für reigen.at
REFRESH-INTERVAL;VALUE=DURATION:PT1H
X-Robots-Tag:noindex
X-PUBLISHED-TTL:PT1H
BEGIN:VTIMEZONE
TZID:Europe/Berlin
BEGIN:DAYLIGHT
TZOFFSETFROM:+0100
TZOFFSETTO:+0200
TZNAME:CEST
DTSTART:20250330T010000
END:DAYLIGHT
BEGIN:STANDARD
TZOFFSETFROM:+0200
TZOFFSETTO:+0100
TZNAME:CET
DTSTART:20251026T010000
END:STANDARD
END:VTIMEZONE
BEGIN:VEVENT
DTSTART;TZID=Europe/Berlin:20251024T220000
DTEND;TZID=Europe/Berlin:20251025T040000
DTSTAMP:20260419T183656
CREATED:20250604T105116Z
LAST-MODIFIED:20250727T134050Z
UID:5335-1761343200-1761364800@www.reigen.at
SUMMARY:Vienna Reggae Night Special
DESCRIPTION:The Mighty Powpop Movement \nsupportet by \nBaba Sound \nBad Fish Sound \nSimplicity Sound \nYagana World Sound
URL:https://www.reigen.at/event/reggae/
LOCATION:REIGEN LIVE\, Hadikgasse 62\, Wien\, 1140\, Österreich
ATTACH;FMTTYPE=image/jpeg:https://www.reigen.at/wp-content/uploads/2025/06/Reggae-24.10.jpg
END:VEVENT
BEGIN:VEVENT
DTSTART;TZID=Europe/Berlin:20251025T203000
DTEND;TZID=Europe/Berlin:20251025T233000
DTSTAMP:20260419T183656
CREATED:20250208T203451Z
LAST-MODIFIED:20250609T191021Z
UID:4822-1761424200-1761435000@www.reigen.at
SUMMARY:Kispal es a Borz
DESCRIPTION:Veranstaltung von Kispál és a Borz und Death Star Productions\nTickets: https://eventfrog.de/en/p/concert/indie-alternative/kispal-es-a-borz-becs-7302310399457646394.html \nIm Reigen keine Tickets erhältlich! \nhttps://youtube.com/shorts/f7YEe6cjKrE?si=khV1G9zMy5q_bmFE
URL:https://www.reigen.at/event/kispal-es-a-borz/
END:VEVENT
END:VCALENDAR