BEGIN:VCALENDAR
VERSION:2.0
PRODID:-//reigen.at - ECPv6.0.12//NONSGML v1.0//EN
CALSCALE:GREGORIAN
METHOD:PUBLISH
X-WR-CALNAME:reigen.at
X-ORIGINAL-URL:https://www.reigen.at
X-WR-CALDESC:Veranstaltungen für reigen.at
REFRESH-INTERVAL;VALUE=DURATION:PT1H
X-Robots-Tag:noindex
X-PUBLISHED-TTL:PT1H
BEGIN:VTIMEZONE
TZID:Europe/Berlin
BEGIN:DAYLIGHT
TZOFFSETFROM:+0100
TZOFFSETTO:+0200
TZNAME:CEST
DTSTART:20260329T010000
END:DAYLIGHT
BEGIN:STANDARD
TZOFFSETFROM:+0200
TZOFFSETTO:+0100
TZNAME:CET
DTSTART:20261025T010000
END:STANDARD
BEGIN:DAYLIGHT
TZOFFSETFROM:+0100
TZOFFSETTO:+0200
TZNAME:CEST
DTSTART:20270328T010000
END:DAYLIGHT
BEGIN:STANDARD
TZOFFSETFROM:+0200
TZOFFSETTO:+0100
TZNAME:CET
DTSTART:20271031T010000
END:STANDARD
END:VTIMEZONE
BEGIN:VEVENT
DTSTART;TZID=Europe/Berlin:20261204T180000
DTEND;TZID=Europe/Berlin:20261204T233000
DTSTAMP:20260420T164652
CREATED:20260317T214737Z
LAST-MODIFIED:20260317T214737Z
UID:6491-1796407200-1796427000@www.reigen.at
SUMMARY:res PFK
DESCRIPTION:
URL:https://www.reigen.at/event/res-pfk/
LOCATION:REIGEN LIVE\, Hadikgasse 62\, Wien\, 1140\, Österreich
END:VEVENT
BEGIN:VEVENT
DTSTART;TZID=Europe/Berlin:20261205T203000
DTEND;TZID=Europe/Berlin:20261205T233000
DTSTAMP:20260420T164652
CREATED:20251213T003733Z
LAST-MODIFIED:20251213T003733Z
UID:6067-1796502600-1796513400@www.reigen.at
SUMMARY:Peter Kern Band
DESCRIPTION:
URL:https://www.reigen.at/event/peter-kern-band-2/
END:VEVENT
BEGIN:VEVENT
DTSTART;TZID=Europe/Berlin:20270128T180000
DTEND;TZID=Europe/Berlin:20270128T233000
DTSTAMP:20260420T164652
CREATED:20260311T150852Z
LAST-MODIFIED:20260311T150852Z
UID:6463-1801159200-1801179000@www.reigen.at
SUMMARY:Privatveranstaltung Direct Mind
DESCRIPTION:
URL:https://www.reigen.at/event/privatveranstaltung-direct-mind/
LOCATION:REIGEN LIVE\, Hadikgasse 62\, Wien\, 1140\, Österreich
END:VEVENT
BEGIN:VEVENT
DTSTART;TZID=Europe/Berlin:20270305T203000
DTEND;TZID=Europe/Berlin:20270305T233000
DTSTAMP:20260420T164652
CREATED:20260206T182647Z
LAST-MODIFIED:20260206T182647Z
UID:6389-1804278600-1804289400@www.reigen.at
SUMMARY:Parno Graszt Konzert
DESCRIPTION:
URL:https://www.reigen.at/event/parno-graszt-konzert/
LOCATION:REIGEN LIVE\, Hadikgasse 62\, Wien\, 1140\, Österreich
END:VEVENT
BEGIN:VEVENT
DTSTART;TZID=Europe/Berlin:20270306T190000
DTEND;TZID=Europe/Berlin:20270306T233000
DTSTAMP:20260420T164652
CREATED:20260213T125117Z
LAST-MODIFIED:20260213T125117Z
UID:6413-1804359600-1804375800@www.reigen.at
SUMMARY:Privatveranstaltung
DESCRIPTION:
URL:https://www.reigen.at/event/privatveranstaltung-13/
END:VEVENT
BEGIN:VEVENT
DTSTART;TZID=Europe/Berlin:20270320T203000
DTEND;TZID=Europe/Berlin:20270320T233000
DTSTAMP:20260420T164652
CREATED:20260419T130812Z
LAST-MODIFIED:20260419T130812Z
UID:6609-1805574600-1805585400@www.reigen.at
SUMMARY:HBB
DESCRIPTION:
URL:https://www.reigen.at/event/hbb-2/
LOCATION:REIGEN LIVE\, Hadikgasse 62\, Wien\, 1140\, Österreich
END:VEVENT
BEGIN:VEVENT
DTSTART;TZID=Europe/Berlin:20270417T203000
DTEND;TZID=Europe/Berlin:20270417T233000
DTSTAMP:20260420T164652
CREATED:20260206T182856Z
LAST-MODIFIED:20260206T182856Z
UID:6391-1807993800-1808004600@www.reigen.at
SUMMARY:Mejaši Konzert
DESCRIPTION:
URL:https://www.reigen.at/event/mejasi-konzert/
LOCATION:REIGEN LIVE\, Hadikgasse 62\, Wien\, 1140\, Österreich
END:VEVENT
BEGIN:VEVENT
DTSTART;TZID=Europe/Berlin:20271119T203000
DTEND;TZID=Europe/Berlin:20271119T233000
DTSTAMP:20260420T164652
CREATED:20260206T183108Z
LAST-MODIFIED:20260206T183122Z
UID:6395-1826656200-1826667000@www.reigen.at
SUMMARY:Delta Konzert
DESCRIPTION:
URL:https://www.reigen.at/event/delta-konzert/
LOCATION:REIGEN LIVE\, Hadikgasse 62\, Wien\, 1140\, Österreich
END:VEVENT
END:VCALENDAR