BEGIN:VCALENDAR
VERSION:2.0
PRODID:-//reigen.at - ECPv6.0.12//NONSGML v1.0//EN
CALSCALE:GREGORIAN
METHOD:PUBLISH
X-ORIGINAL-URL:https://www.reigen.at
X-WR-CALDESC:Veranstaltungen für reigen.at
REFRESH-INTERVAL;VALUE=DURATION:PT1H
X-Robots-Tag:noindex
X-PUBLISHED-TTL:PT1H
BEGIN:VTIMEZONE
TZID:Europe/Berlin
BEGIN:DAYLIGHT
TZOFFSETFROM:+0100
TZOFFSETTO:+0200
TZNAME:CEST
DTSTART:20230326T010000
END:DAYLIGHT
BEGIN:STANDARD
TZOFFSETFROM:+0200
TZOFFSETTO:+0100
TZNAME:CET
DTSTART:20231029T010000
END:STANDARD
END:VTIMEZONE
BEGIN:VEVENT
DTSTART;TZID=Europe/Berlin:20230502T203000
DTEND;TZID=Europe/Berlin:20230502T234500
DTSTAMP:20260420T153133
CREATED:20230316T190353Z
LAST-MODIFIED:20230430T172534Z
UID:889-1683059400-1683071100@www.reigen.at
SUMMARY:Electric Guitarlands European Tour 4 of the greatest guitarist in rock music VBS 2023
DESCRIPTION:ELECTRIC GUITARLANDS EUROPEAN TOUR\nFor the first time together on tour 4 of the greatest guitarist in rock music for a 2hours killer show with full band feat. GUS G\, Michael Angelo Batio\, Rowan Robertson\, Andrea Martongelli\, Francesco Caporaletti on bass and Roberto Pirami on drums.\nThe 4 guitar heroes will perform a 30 minutes set each and the great final jam. \n 
URL:https://www.reigen.at/event/electric-guitarlands-european-tour-4-of-the-greatest-guitarist-in-rock-music-vbs-2023/
LOCATION:REIGEN LIVE\, Hadikgasse 62\, Wien\, 1140\, Österreich
END:VEVENT
BEGIN:VEVENT
DTSTART;TZID=Europe/Berlin:20230503T203000
DTEND;TZID=Europe/Berlin:20230503T234500
DTSTAMP:20260420T153133
CREATED:20230316T190527Z
LAST-MODIFIED:20230316T190527Z
UID:891-1683145800-1683157500@www.reigen.at
SUMMARY:WILLE & THE BANDITS-CRIME AGAINST THE BLUES TOUR 2023- VBS 2023
DESCRIPTION:Wille and the Bandits werden im neuen Jahr mit ihrem neuen Live-Album „The Kernow Sessions“ quer durch Europa touren. Auf dem Album sind einige der besten Musiker Großbritanniens zu Gast. Das Ergebnis ist ein Strudel bluesiger Wälzer oder Töne\, untermauert von psychedelischen Tendenzen\, die den Hörer auf eine musikalische Reise mitnehmen\, für die nur WATB die richtige Karte haben. Mit noch mehr Tiefe und Textur\, die dem expansiven Sound von WATB hinzugefügt wurde\, sind die Ergebnisse Weltklasse!\nWille & The Bandits haben bisher fünf Studioalben aufgenommen\, die von der Kritik hoch gelobt wurden\, und werden dafür gelobt\, die Grenzen des Roots-Rock in eine neue Ära der Musikliebhaber zu verschieben. Sie wurden von BBC Radio One in die Liste der zehn Bands aufgenommen\, die man beim Glastonbury Festival gesehen haben muss\, und wurden persönlich eingeladen\, in der deutschen Fernsehsendung Rockpalast aufzutreten – eine musikalische Institution von globaler Bedeutung. \nWille and the Bandits are set to tour their new live album “The Kernow Sessions“ right across Europe in the new year. The album features some of the UK’s finest musicians guesting with the band; the result – a whirlpool of Bluesy tones under-pinned by psychedelic tendencies that carry the listener on a musical journey that only WATB have the map for. With even more depth and texture being added to WATB’s expansive sound the results are world class!\n“Wille is a superb slide player” JOE BONAMASSA\nThe band will be touring with a core group of musicians\, but special guests will feature at various shows along the tour to conjure up a live sound that has hints of Allman Brothers and Tescheski Trucks\, while remaining at its heart\, true to the classic WATB sound.
URL:https://www.reigen.at/event/wille-the-bandits-crime-against-the-blues-tour-2023-vbs-2023/
LOCATION:REIGEN LIVE\, Hadikgasse 62\, Wien\, 1140\, Österreich
ATTACH;FMTTYPE=image/jpeg:https://www.reigen.at/wp-content/uploads/2023/03/20230503_01.jpg
END:VEVENT
BEGIN:VEVENT
DTSTART;TZID=Europe/Berlin:20230505T203000
DTEND;TZID=Europe/Berlin:20230505T234500
DTSTAMP:20260420T153133
CREATED:20230316T190703Z
LAST-MODIFIED:20230316T190703Z
UID:894-1683318600-1683330300@www.reigen.at
SUMMARY:Mariana Mazú VBS 2023
DESCRIPTION:Argentine singer Mariana Mazú\, winner of the Argentine Grammy Awards for Best Tango Album 2021. Produced by the renowned musician Acho Estol (La Chicana)\, the album has resulted in over one million plays on Spotify. She is accompanied by one of the country’s leading guitarists\, Leonardo Andersen\, and the acclaimed Norwegian violinist Karl Espegard. Karl Espegard is a violinist and a founding member of the critically acclaimed tango ensemble El Muro Tango. He has performed in prestigious concert halls like Amsterdam’s Royal Concertgebouw\, Moscow International House of Music\, and Munich Philharmonic Hall. \nDas wird ein Abend für Musik-Feinschmecker: eine der renommiertesten Tango-Sängerinnen – Mariana Mazú – begleitet von einem der besten argentinischen Gitarristen\, nämlich Leonardo Andersen\, und dem gefeierten norwegischen Geiger Karl Espegard!\nMazús vor zwei Jahren veröffentlichtes und mit einem Grammy ausgezeichnetes Album wurde bis jetzt mal eine Million mal angeklickt. Die Argentinierin live zu hören (und zu sehen) ist doch viel besser. Oder? \n\n\nBesetzung: \nMariana Mazú\, voice \nLeonardo Andersen\, guitar \nKarl Espegard\, violin
URL:https://www.reigen.at/event/mariana-mazu-vbs-2023/
LOCATION:REIGEN LIVE\, Hadikgasse 62\, Wien\, 1140\, Österreich
ATTACH;FMTTYPE=image/jpeg:https://www.reigen.at/wp-content/uploads/2023/03/20230505_01.jpg
END:VEVENT
BEGIN:VEVENT
DTSTART;TZID=Europe/Berlin:20230509T203000
DTEND;TZID=Europe/Berlin:20230509T234500
DTSTAMP:20260420T153133
CREATED:20230316T190835Z
LAST-MODIFIED:20230316T190835Z
UID:898-1683664200-1683675900@www.reigen.at
SUMMARY:RUF Blues Caravan VBS 2023
DESCRIPTION:Drei Gitarren\, drei Stimmen\, so gestaltet sich die 18. Ausgabe von Rufs Blues Caravan\, die Mitte Februar 2023 an den Start gehen wird. Damit setzt die international agierende deutsche Plattenfirma eine Tradition fort\, die 2005 begründet wurde\, als Labelgründer Thomas Ruf die Idee für diese Art von Package-Tour entwickelte und mit Sue Foley\, Candye Kane und Ana Popovic erstmals drei seiner Künstlerinnen gemeinsam auf Tour schickte. Dabei sind diesmal die texanische Bluesrockerin Ally Venable\, der aus Chicago stammende Wahlberliner Will Jacobs sowie der Brite Ashley Sherlock\, die bei den Shows von der bewährten Rhythmusgruppe aus Bassmann Roger Inniss und Drummer Denis Palatin unterstützt werden.\n\n\nBesetzung: \nAlly Venable (Texas) \nWill Jacobs (Chicago) \nAshley Sherlock (UK)
URL:https://www.reigen.at/event/ruf-blues-caravan-vbs-2023/
LOCATION:REIGEN LIVE\, Hadikgasse 62\, Wien\, 1140\, Österreich
ATTACH;FMTTYPE=image/jpeg:https://www.reigen.at/wp-content/uploads/2023/03/20230509_01.jpg
END:VEVENT
BEGIN:VEVENT
DTSTART;TZID=Europe/Berlin:20230512T203000
DTEND;TZID=Europe/Berlin:20230512T234500
DTSTAMP:20260420T153133
CREATED:20230316T191229Z
LAST-MODIFIED:20230316T191229Z
UID:906-1683923400-1683935100@www.reigen.at
SUMMARY:Doppelkonzert: Blau AG und Bayou Side VBS 2023
DESCRIPTION:Wiener Blues trifft Blues aus Südtirol\nBlau AG\nMit dem Blues als Motor und dem Wiener Schmäh als Sprit ist die Blau AG unterwegs\, um der Welt die frohe Botschaft ihres ‚Wiener\nBlues vom Feinsten‘ zu bringen. Dabei erzählen sie Geschichten\, die das Leben schreibt. Mit viel Humor\, schöpfen sie aus der Fülle\nverschiedener Einflüsse und verbinden Blues mit Rock\, Reggae\, Jazz und dem Wienerlied. Die Blau AG zeigt\, dass es viele Parallelen\nzwischen dem Leben an der Donau und dem Leben am Mississippi gibt. Auf ihren fünf Alben spielen sie viel Eigenes\, aber auch große\nenglischsprachige Hits und weniger bekannte Songperlen von Howlin Wolf bis ZZ Top in der typischen Blau AG Tradition im Wiener Dialekt und auch Bluesiges von Ambros\, Danzer und Co. \nBayou Side\nKopf der Band ist der aus Bruneck stammende Sänger\, Gitarrist und italienischer Preisträger des internationalen Blueswettbewerbs „International Blues Challenge (IBC)“ in Memphis\, Hubert Dorigatti. Der Großteil der Kompositionen stammen aus seiner Feder.\n„Bayou Side“ gelang mit ihrem Album ein großer Wurf\, da die Band mit ihrem variationsreichen Mix aus Blues\, Jazz\, Shuffle\, New Orleans Groove und Swing viel Gefühl in der Wiedergabe archaischer Musikstile hören lässt….“ (Txt. aus Rez. von „Concerto“ Austria). \n  \n \n 
URL:https://www.reigen.at/event/doppelkonzert-blau-ag-und-bayou-side-vbs-2023/
LOCATION:REIGEN LIVE\, Hadikgasse 62\, Wien\, 1140\, Österreich
ATTACH;FMTTYPE=image/jpeg:https://www.reigen.at/wp-content/uploads/2023/03/20230512_01-f6a71d86.jpg
END:VEVENT
BEGIN:VEVENT
DTSTART;TZID=Europe/Berlin:20230513T203000
DTEND;TZID=Europe/Berlin:20230513T234500
DTSTAMP:20260420T153133
CREATED:20230316T191431Z
LAST-MODIFIED:20230316T191431Z
UID:910-1684009800-1684021500@www.reigen.at
SUMMARY:"Lea's Shuffle Gangsters" und "Juke Joint Royals" VBS 2023
DESCRIPTION:Lea’s Shuffle Gangsters\nR&B vom Feinsten – Tanzmusik aus den 40er und 50ern Louis Prima\, Jimmy Mc Cracklin\, Roy Brown\, Bill Dogett\, Louis Jordan\, Little Esther\, … usw… Wer damit etwas anfangen kann wird schwer begeistert sein und hat viel mit uns gemeinsam …\nIn klassischer Besetzung -3 Saxophone\, Kontrabass\, Schlagzeug\, Gesang von Mann und Frau und immer wieder einmal ein Klavier\, eine Posaune\, ein anderer Bläser oder eine Gitarre – zaubern wir die 40er/50er wieder her – mit viel Liebe zum Detail und zur Authentizität. Wer wissen will wie heisse Tanzmusik\, groovige Riffs und unbändige Energie klingen\, ist mit uns bestens beraten. \nJuke Joint Royals\nAus Österreich kommt die siebenköpfige Rhythm and Blues Band die sich der Musik der 40er und 50er verschrieben hat und den Sound mit einer Prise purem Rock and Roll verfeinert. Kontrabass\, Schlagzeug und Piano bilden den stampfenden Untergrund auf dem sich der dreistimmige Bläsersatz ein Duell mit der Gitarre liefert. Vorneweg bringt der pianospielende Frontmann “The Emperor” Erich Herbst in kürzester Zeit den Dancefloor zum Kochen und das Publikum will nur noch eins: Tanzen\, Tanzen\, Tanzen! Die Band liebt die\n\nBesetzung:\nErich Herbst – Vocals & Piano | Mathias Schwarz – Guitar & Backing Vocals | Vanja Hajdukovic – C-Bass & Backing Vocals | Reinhard Dlapa – Drums | Nina Dvorak – Tenor Sax | Peter Hübl – Alt Sax | Peter Blemenschütz – Bariton Sax
URL:https://www.reigen.at/event/leas-shuffle-gangsters-und-juke-joint-royals-vbs-2023/
LOCATION:REIGEN LIVE\, Hadikgasse 62\, Wien\, 1140\, Österreich
ATTACH;FMTTYPE=image/jpeg:https://www.reigen.at/wp-content/uploads/2023/03/20230513_02.jpg
END:VEVENT
BEGIN:VEVENT
DTSTART;TZID=Europe/Berlin:20230519T203000
DTEND;TZID=Europe/Berlin:20230519T234500
DTSTAMP:20260420T153133
CREATED:20230316T191649Z
LAST-MODIFIED:20230419T011921Z
UID:914-1684528200-1684539900@www.reigen.at
SUMMARY:HANS THEESSINK & HIS BLUES BUDDIES VBS 2023
DESCRIPTION:Für den Gig am Fr.19.05. beim Vienna Blues Spring im Reigen hat Hans eine einmalige Band von hochkarätigen Musos zusammengestellt. Blues pur und spontanes Musizieren ist angesagt! \nNach mehr als 8000 Konzerte und 50 Jahren „on the road“ ist Hans Theessink eine Institution in Sachen Blues und Rootsmusik. Mit seiner sonoren Stimme und unverkennbaren Gitarrenstil ist Theessink weltweit gefragt und immer ein Garant für niveauvolle Blues- und Rootsmusik. \nA killer picker with a magical voice (Midwest Record\, USA)\nA storyteller of the highest order (Billtown Blues Association\, USA)\nTheessink ist ein Meister des Understatements und der Wahlwiener brilliert zudem als Gitarrist; sein Spiel schafft Räume\, er spielt nur wenige Töne. Aber die sitzen! (Akustik Gitarre\, D)\nHans Theessink is an international blues treasure. He is one of the world’s pre-eminent pickers and his warm baritone expresses blues. (Blues Revue\, USA)\nONE HELLUVA GUITARPLAYER (Bo Diddley)\nA masterclass in how to play the blues with soul and authenticity. (R2\, UK) \n\n\nBesetzung:\n\nHans Theessink – Gesang\, Gitarren \nRoland Guggenbichler – Piano\, Orgel\, Accordeon \nAngus Bangus b \nChris Fillmore git
URL:https://www.reigen.at/event/hans-theessink-his-blues-buddies-vbs-2023/
LOCATION:REIGEN LIVE\, Hadikgasse 62\, Wien\, 1140\, Österreich
ATTACH;FMTTYPE=image/jpeg:https://www.reigen.at/wp-content/uploads/2023/03/Hans_Theessink_and_his_Blues_Buddies_001_copyright_Dietmar_Lipkovich-a26e786b.jpg
END:VEVENT
BEGIN:VEVENT
DTSTART;TZID=Europe/Berlin:20230520T203000
DTEND;TZID=Europe/Berlin:20230520T234500
DTSTAMP:20260420T153133
CREATED:20230316T192006Z
LAST-MODIFIED:20230316T192006Z
UID:917-1684614600-1684626300@www.reigen.at
SUMMARY:Allen-Forrester Band (USA) CD Release Tour VBS 2023
DESCRIPTION:Die Allen-Forrester Band ist ein gemeinsames Projekt der beiden New Yorker Gitarristen Ben Forrester und Josh Allen. Geprägt von den Pionieren des Southern Rock wie der Allman Brothers Band\, Lynyrd Skynyrd und Marshall Tucker\, verpassen die beiden dem klassischen Twin-Guitar-Sound einen neuen Anstrich und verbinden ihre Einflüsse zu einem mitreißenden Mix aus knackigem Bluesrock und melodischem Southern Rock.\nDie Live-Shows der Allen-Forrester Band leben nicht nur vom klassischen amerikanischen Sound der Band und Josh Allens rauer Blues-Stimme\, sondern auch von der Spielfreude und Improvisationskunst der Band\, zu der neben den beiden amerikanischen Gitarristen auch die deutsche Rhythm Section (Hendrik Herder am Bass und Matze Böhm an den Drums) ihren Beitrag leistet.\nMit ihrem brandneuen Studioalbum im Gepäck kommt die Band im Mai 2023 zum vierten Mal auf Europa-Tournee – ein Muss für alle Fans von amerikanischen Blues und Rock! \nBesetzung: \nJosh Allen – vocals & guitar \nBen Forrester – guitar \nHendrik Herder – bass \nMatze Böhm – drums
URL:https://www.reigen.at/event/allen-forrester-band-usa-cd-release-tour-vbs-2023/
LOCATION:REIGEN LIVE\, Hadikgasse 62\, Wien\, 1140\, Österreich
ATTACH;FMTTYPE=image/jpeg:https://www.reigen.at/wp-content/uploads/2023/03/20230520_01.jpg
END:VEVENT
BEGIN:VEVENT
DTSTART;TZID=Europe/Berlin:20230524T203000
DTEND;TZID=Europe/Berlin:20230524T234500
DTSTAMP:20260420T153133
CREATED:20230316T192157Z
LAST-MODIFIED:20230316T192157Z
UID:920-1684960200-1684971900@www.reigen.at
SUMMARY:Leroy Emmanuel Trio VBS 2023
DESCRIPTION:Der US-Amerikaner Leroy Emmanuel ist einer der letzten international noch tätigen Musiker\, welcher die Entstehung und den Erfolg des Labels „Motown“ erlebt und mitgestaltet hat.\nDas energetische Trio spielt mit Freude\, Intensität und unwiderstehlichem Groove\, jede Darbietung wird zu einem mitreissenden und einprägsamen Erlebnis.\nDer Jugendfreund von Marvin Gaye und Mitgestalter des legendären Motown Labels stand schon in den 60ern mit Musikern wie Stevie Wonder\, Diana Ross\, Tina Turner\, Hot Chocolate\, Temptations\, Natalie Cole\, John Lee Hooker oder z.B. Kool and the Gang\, um nur einige wenige zu nennen\, auf der Bühne. Er spielte nahezu alle Alben von Bohannan ein und war Gründer sowie Bandleader der Fabolous Counts. Leroy Emmanuel\, dessen „Daumenstil“ á la Wes Montgomery – ohne Plektrum – auf vielen Motown Aufnahmen zu hören ist\, spielt sich bis heute souverän durch die Geschichte von Soul\, Funk\, R&B und Jazz. Wenn es seine Engagements und Tätigkeiten als Produzent zulassen\, tourt er unermüdlich und wird für die bevorstehende Winter-Tour das brandneue Album des Trios im Gepäck mitbringen.\nLeroy Emmanuel besticht nicht nur als Gitarrist und Sänger. Der 68-jährige Entertainer alter Schule strahlt ausserdem eine berührend natürliche Authentizität aus und schafft es mühelos das Publikum in seinen Bann zu ziehen. Neben Emmanuels Eigenkompositionen wie etwa The CNN Blues oder Your body is hot\, bringt er jedes Publikum mit Hits wie My Girl\, Brick House oder On the Broadway zum Shaken. Als einer der letzten Zeitzeugen der Motown-Ära unterhält er das Publikum mit Stories über Freunde und Musikerkollegen wie Marvin Gaye oder George Benson\, auch die „Funky Spoons“ des professionellen Löffelspielers gehören zum Programm.\n\nBesetzung:\n\nLeroy Emmanuel (USA) – voc\, git \nChristian Wegscheider (AUT) – hammond \nCsaba Schmitz (HU) – drums
URL:https://www.reigen.at/event/leroy-emmanuel-trio-vbs-2023/
LOCATION:REIGEN LIVE\, Hadikgasse 62\, Wien\, 1140\, Österreich
ATTACH;FMTTYPE=image/jpeg:https://www.reigen.at/wp-content/uploads/2023/03/20230524_01-scaled.jpg
END:VEVENT
BEGIN:VEVENT
DTSTART;TZID=Europe/Berlin:20230525T203000
DTEND;TZID=Europe/Berlin:20230525T234500
DTSTAMP:20260420T153133
CREATED:20230316T192401Z
LAST-MODIFIED:20230316T192401Z
UID:923-1685046600-1685058300@www.reigen.at
SUMMARY:Tom Mueller Band featuring Lilli Kern VBS 2023
DESCRIPTION:Wailing Rhythm & Jumping Blues Mit Ihrer soulig-bluesigen Stimme hat sich Lilli Kern schon seit vielen Jahren einen festen Platz in der österreichischen Jazz- und Blues Szene ersungen.Mit Ihrem intensiven und authentischen Auftreten schafft sie es immer wieder das Publikum in ihren Bann zu ziehen.Tom Mueller ist seit vielen Jahren als Saxophonist\, Vocalist und Bandleader mit seinen eigenen Formationen und auch mit herausragenden Vertretern der europäischen Bluesszene auf österreichischen und internationalen Konzert- und Festivalbühnen präsent.„Sein ausdruckstarker Stil – von honkendem R&B Sax bis zu gefühlvoll gehauchten Balladen – macht ihn zu einem herausragenden Instrumentalisten.“ Mit Ihrem Program „Wailing Rhythm & Jumping Blues“ verschreiben sich die beiden dem Rhythm and Blues der 50s und 60s im Stile von Etta James\, Ruth Brown\, Louis Jordan oder King Curtis. Das Lineup dieser hochkarätig besetzten und groove erprobten Band garantierteinen kurzweiligen Konzertgenuss.Ladies and Gentlemen: let the good times roll! \nBesetzung: \nLlilli Kern voc \nTom Müller sax\,voc \nValentin Oman Piano \nKarol Hodas Double Bass \nPeter Müller dr
URL:https://www.reigen.at/event/tom-mueller-band-featuring-lilli-kern-vbs-2023/
LOCATION:REIGEN LIVE\, Hadikgasse 62\, Wien\, 1140\, Österreich
ATTACH;FMTTYPE=image/jpeg:https://www.reigen.at/wp-content/uploads/2023/03/20230525_01-scaled.jpg
END:VEVENT
BEGIN:VEVENT
DTSTART;TZID=Europe/Berlin:20230526T203000
DTEND;TZID=Europe/Berlin:20230526T203000
DTSTAMP:20260420T153133
CREATED:20230317T201236Z
LAST-MODIFIED:20230524T222641Z
UID:1652-1685133000-1685133000@www.reigen.at
SUMMARY:MEENA CRYLE & The Chris Fillmore Band
DESCRIPTION:EINZIGES WIEN-KONZERT IN 2023 IN DIESER FORMATION!\nZurück von ihrer Deutschland-Tournee\, wo sie in ausverkauften Sälen das Publikum begeisterten\, machen Meena Cryle & Chris Fillmore mit ihrer Band nun auch noch im Rahmen des Vienna Blues Spring im Reigen halt. Es ist bis dato das einzige geplante Wien-Konzert in dieser Formation in diesem Jahr!\nMeena Cryle & Chris Fillmore zählen seit vielen Jahren zu den erfolgreichsten österreichischen Musikexporten in der internationalen Blues 'n' Roots Szene. Sie  waren von Beginn an eine musikalische Einheit und dass das nach mehr als fünfzehn Jahren immer noch so ist\, macht sie aussergewöhnlich.\nIhre Affinität zur Blues and Roots Musik ist deutlich hörbar. Für das Genre aber eher untypisch\, greifen sie auch gerne in unterschiedliche musikalische und stilistische Schubladen. Ihr Song "It Makes Me Scream" wurde während der Corona Pandemie zu einem weltweiten Internet-Hit und steht aktuell bei knapp 30 Millionen zugriffen!\nMEENA CRYLE - vocals\, acoustic guitar\nCHRIS FILLMORE - guitar\nSÖA FITZPATRICK - piano\, organ\, wurlitzer\nANGUS „BANGUS“ THOMAS - bass\nRAINER BAUMGARTNER - drums
URL:https://www.reigen.at/event/meena-cryle-the-chris-fillmore-band/
LOCATION:REIGEN LIVE\, Hadikgasse 62\, Wien\, 1140\, Österreich
ATTACH;FMTTYPE=image/jpeg:https://www.reigen.at/wp-content/uploads/2023/05/mc_cf_2023_bymc-scaled.jpg
END:VEVENT
BEGIN:VEVENT
DTSTART;TZID=Europe/Berlin:20230530T203000
DTEND;TZID=Europe/Berlin:20230530T233000
DTSTAMP:20260420T153133
CREATED:20230318T212458Z
LAST-MODIFIED:20230524T222648Z
UID:1407-1685478600-1685489400@www.reigen.at
SUMMARY:Kevin Gullage & The Blues Groovers
DESCRIPTION:Aus New Orleans kommt der phantastische Keyboarder und Sänger KEVIN GULLAGE mit seiner Band KEVIN & THE BLUES GROOVERS\, mit 23 Jahren ein kommender Star der Blues Szene. \nHe’s the best young singer you’ll hear this year\, hands down. Listen to him once and you’ll be plugged into the future of the blues.\n– Mike O’Cull\, Rock and Blues Muse\nAt 23-years old\, fast-rising star Kevin Gullage leads his band of veteran players\, The Blues Groovers\, with the poise of a seasoned performer. His impressive blend of soulful singing and dazzling blues piano infused with the experience of his bandmates is leaving audiences in awe. \n\nThe Blues Groovers consist of bassist Tony Gullage (Henry Butler\, Dr. John)\, Hammond B3 Player Brandon Adams (Kenny Neal)\, Guitarist Carlton Ross (Glenn David Andrews)\, Saxophonist Roderick Jackson (Kenny Neal)\, and and Drummer Mac Carter (Jon Cleary).
URL:https://www.reigen.at/event/kevin-gullage-the-blues-groovers/
LOCATION:REIGEN LIVE\, Hadikgasse 62\, Wien\, 1140\, Österreich
ATTACH;FMTTYPE=image/jpeg:https://www.reigen.at/wp-content/uploads/2023/04/20230530_01.jpg
END:VEVENT
BEGIN:VEVENT
DTSTART;TZID=Europe/Berlin:20230531T203000
DTEND;TZID=Europe/Berlin:20230531T234500
DTSTAMP:20260420T153133
CREATED:20230319T222642Z
LAST-MODIFIED:20230524T222656Z
UID:928-1685565000-1685576700@www.reigen.at
SUMMARY:Walter Trout USA - RIDE European Tour 2023 – Part II VBS 2023
DESCRIPTION:Walter Trout ist wohl das\, was man sich unter einem harten Hund vorstellen darf: Der US-Gitarrist mischt seit mehr als einem halben Jahrhundert an vorderster Stelle im Rockzirkus mit\, und längst schon gilt er als einer der wichtigsten Blues- und insbesondere Bluesrock-Protagonisten aller Zeiten.\nSeit 1968 spielte er mit den verschiedensten Musikern – von 1979 bis 1980 mit John Lee Hooker\, danach war er vier Jahre lang Mitglied von Canned Heat\, bevor er bis 1989 mit John Mayall tourte.\nDann war die Zeit reif für eigene Projekte\, höchst erfolgreiche … bis ihn eine lebensbedrohliche Lebererkrankung fast aus der Bahn warf. Eine neue Leber rettete am 26. Mai 2014 sein Leben. Finanziert werden musste/konnte diese OP dank einer großen Spendenaktion\, an der sich nicht zuletzt auch seine österreichischen Fans beteiligten.\nNun ist Walter Trout\, der unverwüstliche\, mit seinen bald 72 Jahren wieder auf Tour. Danke. \nAchtung: Stehkonzert! \nBesetzung: \nWalter Trout – Guitar\, Vocals \nJohnny Griparic – Bass \nBob Frizdema – Keyboards \nMichael Leasure – Drums
URL:https://www.reigen.at/event/walter-trout-usa-ride-european-tour-2023-part-ii-vbs-2023/
LOCATION:REIGEN LIVE\, Hadikgasse 62\, Wien\, 1140\, Österreich
ATTACH;FMTTYPE=image/jpeg:https://www.reigen.at/wp-content/uploads/2023/03/20230531_01.jpg
END:VEVENT
END:VCALENDAR