BEGIN:VCALENDAR
VERSION:2.0
PRODID:-//reigen.at - ECPv6.0.12//NONSGML v1.0//EN
CALSCALE:GREGORIAN
METHOD:PUBLISH
X-WR-CALNAME:reigen.at
X-ORIGINAL-URL:https://www.reigen.at
X-WR-CALDESC:Veranstaltungen für reigen.at
REFRESH-INTERVAL;VALUE=DURATION:PT1H
X-Robots-Tag:noindex
X-PUBLISHED-TTL:PT1H
BEGIN:VTIMEZONE
TZID:Europe/Berlin
BEGIN:DAYLIGHT
TZOFFSETFROM:+0100
TZOFFSETTO:+0200
TZNAME:CEST
DTSTART:20230326T010000
END:DAYLIGHT
BEGIN:STANDARD
TZOFFSETFROM:+0200
TZOFFSETTO:+0100
TZNAME:CET
DTSTART:20231029T010000
END:STANDARD
END:VTIMEZONE
BEGIN:VEVENT
DTSTART;TZID=Europe/Berlin:20230601T203000
DTEND;TZID=Europe/Berlin:20230601T234500
DTSTAMP:20260420T135906
CREATED:20230320T222838Z
LAST-MODIFIED:20230524T222706Z
UID:932-1685651400-1685663100@www.reigen.at
SUMMARY:John Rhino Edwards-Status Quo Bassist mit Band
DESCRIPTION:Nachdem sie zuletzt 2019 ihr Publikum in Europa gerockt haben\, wird Rhino’s Revenge einmal mehr 2023 auf Tour gehen und Konzerte in den Niederlanden\, Belgien\, Deutschland und Österreich spielen.\nAus zwei Alben unter eigenem Namen mit eigenem Material – und einem dritten aktuell in Entstehung – wird Rhino’s Revenge davon einiges live präsentieren\, gemeinsam mit beliebten Status Quo Songs\, die Rhino geschrieben oder mitgeschrieben hat\, sowie einigen zeitlosen Rock-Klassikern und eine Spur von spontanen Überraschungen. „Ich mag es\, mich und alle anderen zu überraschen\, und in der Hitze des Gefechts den einen oder anderen Song einzuwerfen den wir noch nicht mal notwendigerweise geprobt haben“\, meint er.\nRhino’s Revenge besteht aus einer wechselnden Besetzung von ausgezeichneten Musikern\, je nach Verfügbarkeit\, und kann aktuell zurückgreifen auf die Gitarristen Jim Kirkpatrick von FM und Craig Joiner von Romeo’s Daughter sowie Drummer Leon Cave (seinem Rhythmuspartner bei Status Quo) und Richard Newman\, der bei Paul Rodgers\, Rory Gallagher\, Jefferson Starship\, Steve Marriott\, Alvin Lee und Glen Hughes gespielt hat.\nNachdem er vormalig Mitglied bei Bands wie The Climax Blues Band\, Space und Dexy’s Midnight Runners war\, wurde Rhino 1986 eingeladen\, Status Quo beizutreten\, und ist seitdem fixes Mitglied in deren Line-up.
URL:https://www.reigen.at/event/john-rhino-edwards-status-quo-bassist-mit-band/
LOCATION:REIGEN LIVE\, Hadikgasse 62\, Wien\, 1140\, Österreich
ATTACH;FMTTYPE=image/jpeg:https://www.reigen.at/wp-content/uploads/2023/03/20230602_01.jpg
END:VEVENT
BEGIN:VEVENT
DTSTART;TZID=Europe/Berlin:20230602T193000
DTEND;TZID=Europe/Berlin:20230602T233000
DTSTAMP:20260420T135906
CREATED:20230321T153756Z
LAST-MODIFIED:20230524T222713Z
UID:1564-1685734200-1685748600@www.reigen.at
SUMMARY:Ein Abend für Richard Neges. Mezzanin & Freund*innen
DESCRIPTION:Richard Neges 11. September 1959 bis 22. März 2023 \nRichard hat viele Sprachen beherrscht. Am besten jedoch die des Herzens und jene der Musik. Aber die gehören ohnehin zur selben Sprachfamilie. Deshalb wollen wir ihm gemeinsam an einem musikalischen Abend gedenken. Hier\, im Reigen\, wo er so gerne aufgetreten ist. Seine Band Mezzanin organisiert den Abend\, an dem uns gewiss auch viele weitere Musiker*innen\, mit ihren Darbietungen erfreuen werden. \n(Das Bild zeigt Richard Neges\, bei einem seiner Auftritte mit Mezzanin\, hier im Reigen). \n  \n \n 
URL:https://www.reigen.at/event/ein-abend-fuer-richard-neges-mezzanin-freundinnen/
LOCATION:REIGEN LIVE\, Hadikgasse 62\, Wien\, 1140\, Österreich
ATTACH;FMTTYPE=image/jpeg:https://www.reigen.at/wp-content/uploads/2023/04/richard_reigen-Kopie-1024x833-1.jpg
END:VEVENT
BEGIN:VEVENT
DTSTART;TZID=Europe/Berlin:20230606T203000
DTEND;TZID=Europe/Berlin:20230606T234500
DTSTAMP:20260420T135906
CREATED:20230322T193011Z
LAST-MODIFIED:20230524T222719Z
UID:936-1686083400-1686095100@www.reigen.at
SUMMARY:Mojo Monkeys (USA)
DESCRIPTION:DIE DREI MITGLIEDER DER MOJO MONKEYS\, DAVID RAVEN (DRUMS\, LEAD VOCALS\, TARAS PRODANIUK (BASS\, VOCALS) UND BILLY WATTS (GUITAR\, VOCALS) VERBINDET NEBEN EINER LANGEN\, GEMEINSAMEN GESCHICHTE VOR ALLEM AUCH EINE BESONDERE CHEMIE. WÄHREND TARAS UND BILLY BEREITS ZU HIGHSCHOOL-ZEITEN IN VERSCHIEDENEN BANDPROJEKTEN ZUSAMMENARBEITETEN\, SPIELTEN SIE IHRE ERSTEN SHOWS MIT DAVID IN DEN FRÜHEN 1980 ER JAHREN. NUR KURZE ZEIT SPÄTER STANDEN SIE ALS BACKING-BAND FÜR DEN TOWER OF POWER – SÄNGER HUBERT TUBBS ERSTMALS SO RICHTIG IM RAMPENLICHT.\nDIE BAND ARBEITET AKTUELL GERADE AN IHREM VIERTEN ALBUM\, WELCHES SIE IM RAHMEN IHRER TOURNEE IM SOMMER 2023 AUCH LIVE PRÄSENTIEREN WIRD.\nIHRE MUSIK ZU BESCHREIBEN IST NICHT SCHWIERIG – BESTES MUSIKALISCHES HANDWERK\, ZUSAMMENGESETZT AUS TANZBARER\,\nHUMORVOLLER MUSIK AUS DEM SÜDEN DER USA. SOULIG\, ROCKIG\, BLUESIG – „SWAMP ROCK“. AUSGESUCHTE KLÄNGE UND RHYTHMEN\, DIE DER SEELE GUTTUN UND GLEICHZEITIG MÄCHTIG IN DIE BEINE GEHEN. IHRE AUFTRITTE SIND PURES DYNAMIT\, DIE ATMOSPHÄRE WIRD ENERGIEGELADEN SOBALD SIE DIE BÜHNE BETRETEN.
URL:https://www.reigen.at/event/mojo-monkeys-usa/
LOCATION:REIGEN LIVE\, Hadikgasse 62\, Wien\, 1140\, Österreich
ATTACH;FMTTYPE=image/jpeg:https://www.reigen.at/wp-content/uploads/2023/03/20230606_01.jpg
END:VEVENT
BEGIN:VEVENT
DTSTART;TZID=Europe/Berlin:20230607T203000
DTEND;TZID=Europe/Berlin:20230607T234500
DTSTAMP:20260420T135906
CREATED:20230323T193134Z
LAST-MODIFIED:20230524T222727Z
UID:939-1686169800-1686181500@www.reigen.at
SUMMARY:Max Forleo- Promotour new album Dreams & Decadence
DESCRIPTION:Massimiliano „Max“ Forleo is a very talented singer songwriter\, multi-instrumentalist and composer from Milan\, Italy.\nIn 2021 and 2022\, Max Forleo releases the singles (and the respective self-directed videos) Antarktica\, Promise and Sweet\, anticipating the long awaited new album Dreams & Decadence. At the same time\, Max is committed to an intense European Tour including two shows opening for The Animals\, in Wien and Loket.\nDream & Decadence is an intense and intimate album\, sealing Max Forleo’s artistic\, personal and ecological maturity. Recorded and mixed at M2F Studios\, the album is mastered by Max Belladonna and Giovanni Versari (Muse\, Vinicio Capossela). Release date: 9th of March 2023.\nMassimiliano „Max“ Forleo ist den Reigen Besuchern kein Unbekannter – er hat schließlich zuletzt bei den Animals mitgespielt\, er „kann“ also Musik …Jetzt kommt der Italiener aus Mailand mit seiner eigenen Formation. Der hochbegabte Singer-Song-Writer und Multi-Instrumentalist präsentiert – nach zwei Singles samt Videos – nun sein brandneues\, lang erwartetes neues Album „Dreams & Decadence“. Wird ein spannender Abend!
URL:https://www.reigen.at/event/max-forleo-promotour-new-album-dreams-decadence/
LOCATION:REIGEN LIVE\, Hadikgasse 62\, Wien\, 1140\, Österreich
ATTACH;FMTTYPE=image/jpeg:https://www.reigen.at/wp-content/uploads/2023/03/20230607_01.jpg
END:VEVENT
BEGIN:VEVENT
DTSTART;TZID=Europe/Berlin:20230616T220000
DTEND;TZID=Europe/Berlin:20230617T040000
DTSTAMP:20260420T135906
CREATED:20230527T101314Z
LAST-MODIFIED:20230603T135705Z
UID:1745-1686952800-1686974400@www.reigen.at
SUMMARY:Bring Back The Vibes
DESCRIPTION:Afrobeats – Reggae – Dancehall Festival \nVerein Nanang presents
URL:https://www.reigen.at/event/afrobeats-reggae-dancehall-festival/
LOCATION:REIGEN LIVE\, Hadikgasse 62\, Wien\, 1140\, Österreich
ATTACH;FMTTYPE=image/jpeg:https://www.reigen.at/wp-content/uploads/2023/05/16.6.jpeg
END:VEVENT
BEGIN:VEVENT
DTSTART;TZID=Europe/Berlin:20230617T203000
DTEND;TZID=Europe/Berlin:20230617T234500
DTSTAMP:20260420T135906
CREATED:20230316T193304Z
LAST-MODIFIED:20230517T123642Z
UID:942-1687033800-1687045500@www.reigen.at
SUMMARY:Tanzbogen
DESCRIPTION:Privatveranstaltung
URL:https://www.reigen.at/event/tanzbogen/
END:VEVENT
BEGIN:VEVENT
DTSTART;TZID=Europe/Berlin:20230623T203000
DTEND;TZID=Europe/Berlin:20230623T234500
DTSTAMP:20260420T135906
CREATED:20230316T193516Z
LAST-MODIFIED:20230316T193516Z
UID:944-1687552200-1687563900@www.reigen.at
SUMMARY:Arrhythmics
DESCRIPTION:30 YEARS ON STAGE!!! Let`s celebrate\, sing & dance! Wer hätte sich das beim ersten Auftritt am 09.06.1993 im Speisesaal des Alten AKH´s gedacht? Seit mehr als 30 Jahren treten die – ARRHYTHMICS-\, eine Ärzte-Band aus Wien\, in Österreich und der Welt auf. Sie covern Lieder aus dem Rock\, Pop und R&B Bereich \, die scheinbar gar nicht ge-covered werden könnenDoch das ist ein Irrtum!\nWer sie noch nicht gesehen hat\, hat etwas versäumt! ARRHYTHMICS\, der Bandname ist Programm! \n\n\n\n\n\n\n\n\n\n\n\n\n\n\n\n\n\nBesetzung:  \nHarald Gabriel\, guitar & vocals \nKurt Huber\, vocals \nKarin Janata\, vocals \nEva Canfora\, vocals \nElena Velásquez\, vocals \nOtmar Mayr\, guitar \nFranz Pfeffel\, bass & vocals \nChristian Sitzwohl\, drums \nReinhard Walter\, organ \nSpecial Guest: \nThomas Potschka\, bass & vocals
URL:https://www.reigen.at/event/arrhythmics/
LOCATION:REIGEN LIVE\, Hadikgasse 62\, Wien\, 1140\, Österreich
ATTACH;FMTTYPE=image/jpeg:https://www.reigen.at/wp-content/uploads/2023/03/20230623_01.jpg
END:VEVENT
BEGIN:VEVENT
DTSTART;TZID=Europe/Berlin:20230630T203000
DTEND;TZID=Europe/Berlin:20230630T233000
DTSTAMP:20260420T135906
CREATED:20230517T131651Z
LAST-MODIFIED:20230629T093023Z
UID:1712-1688157000-1688167800@www.reigen.at
SUMMARY:Debutalbum "EDGAR - Different"
DESCRIPTION:IG-Jazz – Vienna Jazzfloor – Summer Special \n„Stephan Kutscher hat sich in der heimischen Musikszene längst zur fixen Größe etabliert. Dabei war ihm der Blues stets eine willkommene Heimstätte\, unter anderem vertrat seine Kutscher’s Blues Band Österreich erfolgreich bei der European Blues Challenge. Und dann\, Anfang 2022\, der große\, gewagte Sprung ins kalte Wasser. EDGAR\, Stephan Kutschers Alternative-Pop-Rock-Alter-Ego\, war geboren. Melodiöse Songstrukturen zwischen Pop und Rock\, verbunden mit der Kombination von deutscher und englischer Sprache. Ob der vorherrschenden Dialektwelle vollkommen ungewohnt und gerade deshalb so frisch. Auch aus diesem Grund konnte EDGAR etwa den legendären Intendanten des Rabenhof Theaters\, Prof. Thomas Gratzer\, als Mentor gewinnen. EDGAR ist jung\, ambitioniert\, spielfreudig und -witzig. Er ist absolut radiotauglich und fällt dennoch aus jeder Schublade. Nicht umsonst betitelt sich sein Debütalbum „Different“ (Blind Rope Records/monkey). „Who the hell is EDGAR?“ bedarf damit schon lange keiner Antwort mehr! \n  \n \n 
URL:https://www.reigen.at/event/debutalbum-edgar-different/
LOCATION:REIGEN LIVE\, Hadikgasse 62\, Wien\, 1140\, Österreich
ATTACH;FMTTYPE=image/jpeg:https://www.reigen.at/wp-content/uploads/2023/05/EDGAR-Foto-scaled.jpeg
END:VEVENT
END:VCALENDAR