BEGIN:VCALENDAR
VERSION:2.0
PRODID:-//reigen.at - ECPv6.0.12//NONSGML v1.0//EN
CALSCALE:GREGORIAN
METHOD:PUBLISH
X-ORIGINAL-URL:https://www.reigen.at
X-WR-CALDESC:Veranstaltungen für reigen.at
REFRESH-INTERVAL;VALUE=DURATION:PT1H
X-Robots-Tag:noindex
X-PUBLISHED-TTL:PT1H
BEGIN:VTIMEZONE
TZID:Europe/Berlin
BEGIN:DAYLIGHT
TZOFFSETFROM:+0100
TZOFFSETTO:+0200
TZNAME:CEST
DTSTART:20230326T010000
END:DAYLIGHT
BEGIN:STANDARD
TZOFFSETFROM:+0200
TZOFFSETTO:+0100
TZNAME:CET
DTSTART:20231029T010000
END:STANDARD
END:VTIMEZONE
BEGIN:VEVENT
DTSTART;TZID=Europe/Berlin:20230701T203000
DTEND;TZID=Europe/Berlin:20230701T203000
DTSTAMP:20260420T124047
CREATED:20230609T122906Z
LAST-MODIFIED:20230629T093826Z
UID:1797-1688243400-1688243400@www.reigen.at
SUMMARY:Rudi Biber`s Fellowship of Blues
DESCRIPTION:IG-Jazz – Vienna Jazzfloor – Summer Special \nRudi Biber – Blues Urgestein aus Wien und Drummer Fritz Rainer präsentieren eine neue Band die den Electric Blues mit enormer Spielfreude hoher Virtuosität von der Bühne bringt ! \nMit von der Partie sind Paul Hondl am Bass\, Paul Reschenhofer Gitarre und Peter Thanel an den Keys \nEin Abend der jeden Blues Liebhaber begeistern wird
URL:https://www.reigen.at/event/rudi-bibers-fellowship-of-blues/
LOCATION:REIGEN LIVE\, Hadikgasse 62\, Wien\, 1140\, Österreich
ATTACH;FMTTYPE=image/jpeg:https://www.reigen.at/wp-content/uploads/2023/06/1.7.23.jpg
END:VEVENT
BEGIN:VEVENT
DTSTART;TZID=Europe/Berlin:20230708T200000
DTEND;TZID=Europe/Berlin:20230708T233000
DTSTAMP:20260420T124047
CREATED:20230608T092216Z
LAST-MODIFIED:20230627T090522Z
UID:1781-1688846400-1688859000@www.reigen.at
SUMMARY:"Herby Dunkel's Songwriter Session"
DESCRIPTION:Herby Dunkel’s Songwriter Session \nWir alle kennen unsere Musiker und deren Musik. Aber woher kommt diese eigentlich? Woher kommen ständig neue Ideen und wer sind die Menschen dahinter? \nAn diesem Abend wollen wir all denjenigen eine Bühne bieten\, die uns mit ihren Gedanken und ihrer Kreativität ständig mit neuen Songs versorgen\, die uns ihr innerstes offenbaren und Gefühle in Musik verwandeln. Wir wollen zeigen\, wie vielfältig unsere heimische Songwriter Szene ist und Musikern die Gelegenheit geben\, an diesem Abend ausschließlich selbst verfasstes Material zu präsentieren. \nEs wirken mit: \nHerby Dunkel\n.	Edgar\n.	Franco Toro\n.	Scheinbar\n.	Der Barde Scheissmanix\n.	Danial Tortoledo\n.	Karin Daym\n.	Wia d' Hind' im Reg'n\n.	Mezzanin
URL:https://www.reigen.at/event/herby-dunkels-songwriter-session/
LOCATION:REIGEN LIVE\, Hadikgasse 62\, Wien\, 1140\, Österreich
ATTACH;FMTTYPE=image/jpeg:https://www.reigen.at/wp-content/uploads/2023/06/PenAnd-Paper.jpg
END:VEVENT
END:VCALENDAR