BEGIN:VCALENDAR
VERSION:2.0
PRODID:-//reigen.at - ECPv6.0.12//NONSGML v1.0//EN
CALSCALE:GREGORIAN
METHOD:PUBLISH
X-ORIGINAL-URL:https://www.reigen.at
X-WR-CALDESC:Veranstaltungen für reigen.at
REFRESH-INTERVAL;VALUE=DURATION:PT1H
X-Robots-Tag:noindex
X-PUBLISHED-TTL:PT1H
BEGIN:VTIMEZONE
TZID:Europe/Berlin
BEGIN:DAYLIGHT
TZOFFSETFROM:+0100
TZOFFSETTO:+0200
TZNAME:CEST
DTSTART:20230326T010000
END:DAYLIGHT
BEGIN:STANDARD
TZOFFSETFROM:+0200
TZOFFSETTO:+0100
TZNAME:CET
DTSTART:20231029T010000
END:STANDARD
END:VTIMEZONE
BEGIN:VEVENT
DTSTART;TZID=Europe/Berlin:20230907T183000
DTEND;TZID=Europe/Berlin:20230907T233000
DTSTAMP:20260420T093712
CREATED:20230818T075422Z
LAST-MODIFIED:20230818T075422Z
UID:2165-1694111400-1694129400@www.reigen.at
SUMMARY:Privatveranstaltung
DESCRIPTION:
URL:https://www.reigen.at/event/privatveranstaltung-2/
LOCATION:REIGEN LIVE\, Hadikgasse 62\, Wien\, 1140\, Österreich
END:VEVENT
BEGIN:VEVENT
DTSTART;TZID=Europe/Berlin:20230908T200000
DTEND;TZID=Europe/Berlin:20230908T233000
DTSTAMP:20260420T093712
CREATED:20230614T152633Z
LAST-MODIFIED:20230627T091047Z
UID:1860-1694203200-1694215800@www.reigen.at
SUMMARY:Herby Dunkel’s Songwriter Session
DESCRIPTION:Herby Dunkel’s Songwriter Session \nWir alle kennen unsere Musiker und deren Musik. Aber woher kommt diese eigentlich? Woher kommen ständig neue Ideen und wer sind die Menschen dahinter? \nAn diesem Abend wollen wir all denjenigen eine Bühne bieten\, die uns mit ihren Gedanken und ihrer Kreativität ständig mit neuen Songs versorgen\, die uns ihr innerstes offenbaren und Gefühle in Musik verwandeln. Wir wollen zeigen\, wie vielfältig unsere heimische Songwriter Szene ist und Musikern die Gelegenheit geben\, an diesem Abend ausschließlich selbst verfasstes Material zu präsentieren. \n.	Herby Dunkel\n.	Ariana McManus\n.	Kaiman\n.	Danny Chicago\n.	Mark Skillard\n.	Crossing Strings\n.	Lilli Kern & Andreas Resch\n.	Jo Leopold\n.	Copyright Shakalaka
URL:https://www.reigen.at/event/session/
LOCATION:REIGEN LIVE\, Hadikgasse 62\, Wien\, 1140\, Österreich
ATTACH;FMTTYPE=image/jpeg:https://www.reigen.at/wp-content/uploads/2023/06/PenAnd-Paper.jpg
END:VEVENT
BEGIN:VEVENT
DTSTART;TZID=Europe/Berlin:20230909T203000
DTEND;TZID=Europe/Berlin:20230909T203000
DTSTAMP:20260420T093712
CREATED:20230605T221314Z
LAST-MODIFIED:20230822T155540Z
UID:1779-1694291400-1694291400@www.reigen.at
SUMMARY:„Café del Mundo - guitarize the world"
DESCRIPTION:Zehntausend Konzertbesucher jährlich\, Standing Ovations\, Millionen Aufrufe auf Youtube\, ein Fankult wie bei Rockstars – Willkommen bei Café del Mundo\, Deutschlands erfolgreichstem Gitarren-Export.\nJa\, Sie haben richtig gelesen\, Deutschlands angesagtesten Flamenco-Gitarristen. Das ist außergewöhnlich\, das ist einzigartig\, das ist die Essenz von Gitarre und die konsequente Erweiterung eines Instruments\, das wir bisher aus der Folklore kennen.\nDie Protagonisten Jan Pascal und Alexander Kilian stammen aus dem fränkisch-badisch-hessischen Dreiländereck\, das sie liebevoll Alemándalucía nennen. Sie sind grundsätzlich gegensätzlich wie Feuer und Wasser – und ergänzen sich gerade dadurch zu einem Music Act auf Weltniveau. Ihr gemeinsamer Live-Auftritt ist der mitreißende Dialog zweier begnadeter Virtuosen\, die sich bald umschmeicheln\, bald herausfordern und einander ihr Bestes entlocken – intensiv und explosiv entsteht eine magische Aura\, der sich niemand entziehen kann. Doch die beiden Instrumental-Künstler sind weit mehr als bloße Unterhalter: In ihrer Kunst beziehen sie Haltung\, bekennen sich zur puren\, originären Musik\, setzen ein Statement in einer fluide fluktuierenden Welt. Lassen Sie sich überraschen von der unglaublichen musikalischen Vielfalt zweier Flamenco-Gitarren mit einem Repertoire\, das ein feines Band zwischen Klassik und Jazz\, Techno und World Music bindet. \nDas aktuelle\, zehnte Album „Symphonic“\, wird zusammen mit dem Royal Philharmonic Orchestra in den Abbey Road Studios in London aufgenommen und erscheint im Mai 2023 und als Vinyl am 15. Oktober 2023 exklusiv auf dem bandeigenen Label „vision-in-music“ Café del Mundo bezieht Haltung. Die Band verabschiedet sich von Spotify und programmiert sich eine eigene Streaming-App\, die „mundo-App“ und betritt damit innovativ Neuland. Mittlerweile gibt es von der App eine zweite Version. Die „mundo-App Vol.2“\, die sich auch bei Live-Konzerten integrieren lässt. Ein weiteres Statement. „Eine andere Welt ist möglich. Wir müssen es einfach machen wollen.“ \nCafe del Mundo sind am 18.8. im ORF Studio 2 zu sehen! \n 
URL:https://www.reigen.at/event/cafe-del-mundo-guitarize-the-world/
LOCATION:REIGEN LIVE\, Hadikgasse 62\, Wien\, 1140\, Österreich
ATTACH;FMTTYPE=image/jpeg:https://www.reigen.at/wp-content/uploads/2023/06/cafe-del-mundo-live-300dpi.jpg
END:VEVENT
BEGIN:VEVENT
DTSTART;TZID=Europe/Berlin:20230914T203000
DTEND;TZID=Europe/Berlin:20230914T203000
DTSTAMP:20260420T093712
CREATED:20230617T095111Z
LAST-MODIFIED:20230712T232858Z
UID:1873-1694723400-1694723400@www.reigen.at
SUMMARY:VINNIE MOORE Band - Double Exposure tour 2023
DESCRIPTION:VINNIE MOORE Band – Double Exposure tour 2023 \nGitarrenlegende Vinnie Moore gilt als einer der Erfinder der Shred-Gitarre und hat zehn einflussreiche Soloalben\, als Mitglied der Rocklegende UFO sechs Studioalben und eine LIVE-DVD veröffentlicht. Er hatte unzählige Gastauftritte auf dem Album und nahm sogar den Soundtrack für einen PEPSI-TV-Werbespot auf. Er war Mitglied der Band von Alice Cooper. Seine Solo- und UFO-Aufnahmen sowie LIVE-Auftritte haben weltweit begeisterte Kritiken sowohl von Fans als auch der Musikpresse erhalten und ihn in den Ruf einer Gitarrenikone katapultiert! Er ist eine Inspiration für Fans und Gitarristen auf der ganzen Welt. Vinnie hat Hunderte von Shows auf der ganzen Welt gegeben\, darunter in Europa\, Großbritannien\, Skandinavien\, Brasilien\, den USA sowie Indien\, SüdkoreaLibanon\, Mexiko\, Russland und Kanada. Vinnie präsentiert eine Show mit seinen Hits und Songs aus seinem neuen Album „Double Exposure“. Zum ersten Mal wird an der Show eine Sängerin teilnehmen: Titta Tani (Goblin).VINNIE MOORE – lead guitar\nTITTA TANI – vocals EMILIANO TESSITORE – rythm guitar FRANCESCO CAPORALETTI – bass ROBERTO PIRAMI – drums\noffical website: www.vinniemoore.com
URL:https://www.reigen.at/event/vinnie-moore-band/
LOCATION:REIGEN LIVE\, Hadikgasse 62\, Wien\, 1140\, Österreich
ATTACH;FMTTYPE=image/jpeg:https://www.reigen.at/wp-content/uploads/2023/06/20220511_01.jpg
END:VEVENT
BEGIN:VEVENT
DTSTART;TZID=Europe/Berlin:20230915T203000
DTEND;TZID=Europe/Berlin:20230915T233000
DTSTAMP:20260420T093712
CREATED:20230810T100526Z
LAST-MODIFIED:20230810T101131Z
UID:2124-1694809800-1694820600@www.reigen.at
SUMMARY:Steve Guyger & Herby Dunkel Band
DESCRIPTION:Steve Guyger zählt zu den lebenden Legenden in der US-amerikanischen Blues Szene. Längst gilt er als einer der führenden Blues Harp Spieler. Seine lange Karriere gipfelte in der 14-jährigen Zusammenarbeit mit Jimmy Rogers\, einem der Begründer des Chicago Blues Sounds. Seitdem ist er auf allen Bühnen dieser Welt zuhause und tourt unter anderem regelmäßig mit Top Bands durch Europa.\n\nAn diesem Abend kehrt Steve Guyger zurück in den Reigen und wird von einer fantastischen heimischen Band begleitet: Herby Dunkel an der Gitarre\, mit dem ihn eine 15 jährige Zusammenarbeit verbindet\, Marc Swoboda\, die vielversprechendste Neuentdeckung an der Gitarre\, Werner Dorfmeister\, der erfahrene Blues-Allrounder am Konteabass und zu guter Letzt das swingende Schlagzeug-Ass Michel Strasser.\n\nEs verspricht ein Blues Abend der internationalen Sonderklasse zu werden!
URL:https://www.reigen.at/event/steve-guyger-herby-dunkel-band/
LOCATION:REIGEN LIVE\, Hadikgasse 62\, Wien\, 1140\, Österreich
ATTACH;FMTTYPE=image/jpeg:https://www.reigen.at/wp-content/uploads/2023/08/Steve-Guyger-2.jpg
END:VEVENT
BEGIN:VEVENT
DTSTART;TZID=Europe/Berlin:20230916T203000
DTEND;TZID=Europe/Berlin:20230916T234500
DTSTAMP:20260420T093712
CREATED:20230316T193729Z
LAST-MODIFIED:20230825T144938Z
UID:949-1694896200-1694907900@www.reigen.at
SUMMARY:The RayVille Big Band Reunion - Joey Green
DESCRIPTION:The RayVille Big Band Reunion\nBetween 2015 and 2018 The RayVille Big Band wooed Vienna audiences at ORF Radio Kulturhaus\, Reigen\, Porgy & Bess\, Casanova\, Die Buehne\, Metropol and Kulisse with authentic musical tributes to iconic artists such as Ray Charles\, Nat King Cole\, Frank Sinatra and Billy Joel.\nNow\, after a six year hiatus\, the RayVille Big Band once again takes the stage with Joey Green and some of Vienna’s most sought after big band musicians to revisit classic musical arrangements from the above mentioned artists.\nDon’t miss this once-in-a-lifetime chance to hear these timeless renditions of some of the most popular classic big band titles ever composed–performed with authenticity\, passion and verve! \nJoey Green-Vocals \nTommy Boeroecz-Drums \nYnnon Rother-Bass Guitar \nGabriel Moraes-Guitar \nJan Kolaja-Trumpet \nGerhard Cernek-Trumpet \nBernd Kreuzberger-Trumpet \nStefan Fellner-Trumpet \nhttps://youtu.be/NEvrukP8tBQ?si=uOzHPcR1Mvg1y99J
URL:https://www.reigen.at/event/joey-green-band/
LOCATION:REIGEN LIVE\, Hadikgasse 62\, Wien\, 1140\, Österreich
ATTACH;FMTTYPE=image/jpeg:https://www.reigen.at/wp-content/uploads/2023/03/Rayville.jpg
END:VEVENT
BEGIN:VEVENT
DTSTART;TZID=Europe/Berlin:20230919T203000
DTEND;TZID=Europe/Berlin:20230919T234500
DTSTAMP:20260420T093712
CREATED:20230316T193847Z
LAST-MODIFIED:20230316T193847Z
UID:951-1695155400-1695167100@www.reigen.at
SUMMARY:Xime Monzon Band (Arg.)
DESCRIPTION:Eine der wichtigsten Harp Spielerinnen der Welt!\nXime Monzón is an Argentinian harp player and singer with a stunning career and a ringing Blues show that has led to her\nparticipation in countless festivals in Brazil\, Mexico\, Chile\, Uruguay and Argentina.\nHer last recording\, My Harp My Soul\, has been edited by the distinguished Brazilian label ‘Chico Blues Records’.\nEver since then\, she emerged as an undisputed benchmark of the genre and the harmonica\, becoming an official endorser of the latter with one of the most important manufacturer’s in the word\, Seydel Harmonicas Germany. The band is composed by Mauro Bonamico on the bass\, Germán Pedraza on drums\, Federico Verteramo on guitar and Anahí Fabiani on piano. Ximena began her studies somewhere in the mid 2006s and years later she was already participating and evolving with different bands in Buenos Aires’s musical venues.
URL:https://www.reigen.at/event/xime-monzon-band-arg/
LOCATION:REIGEN LIVE\, Hadikgasse 62\, Wien\, 1140\, Österreich
ATTACH;FMTTYPE=image/jpeg:https://www.reigen.at/wp-content/uploads/2023/03/20230920_01.jpg
END:VEVENT
BEGIN:VEVENT
DTSTART;TZID=Europe/Berlin:20230921T203000
DTEND;TZID=Europe/Berlin:20230921T233000
DTSTAMP:20260420T093712
CREATED:20230516T003017Z
LAST-MODIFIED:20230516T003804Z
UID:1700-1695328200-1695339000@www.reigen.at
SUMMARY:Sarah Smith Band
DESCRIPTION:Sarah Smith ist eine leidenschaftliche\, talentierte Sängerin /Songwriterin aus Kanada\, bekannt für ihre ausdrucksstarken und fesselnden Auftritte sowie für die unverfälschte Menschlichkeit in ihrem Songwriting.\nNachdem sie ihr Talent als Mitglied der Indie Punk Band „The Joys“ geschliffen hat\, verbrachte Sarah die letzten 15 Jahre als Solo Künstlerin. Unermüdlich tourte sie quer durch Kanada\, während sie nebenbei eine loyale Fan Gemeinschaft in wichtigen Teilen der USA und Europa aufbaute. Sie wurde mit mehr als 25 Auszeichnungen der Canadian Independent Industrie für ihre Arbeit geehrt und teilte die Bühne bereits mit namhaften\, angesehenen kanadischen Künstlern wie Carole Pope\, Sass Jordan\, Joel Plaskett und Bif Naked. Unter den Internationalen Acts finden sich unter anderem Namen wie Melissa Etheridge\, Nancy Wilson und KT Tunstall.\nSeit über zehn Jahren veröffentlicht sie selbstgeschriebene Lieder\, einschließlich der 2021 erschienenen CD „Songs from when the World went still“ und „Sarah Smith & The Lovers of London“.\nUrsprünglich aus London\, Ontario\, zog Sarah kürzlich nach Pender Island\, vor der Küste von Britisch Columbia\, wo sie ihre persönliche Wiedergeburt und die Neuentdeckung ihrer kreativen Kunst erlebte. Das Gleichgewicht\, das sie im Leben gefunden hat spiegelt sich in neuen und aufregenden kreativen Entdeckungen wieder und erneuerte den Wunsch in ihr\, eine international tourende Künstlerin zu werden.\nSarah Smith ist eine Künstlerin mit ungewöhnlichen Fähigkeitenund einzigartiger Authentizität\,\ndie sich mit allen verbindet\, die ihren bemerkenswerte Liedern und Live-Auftritte begegnen.
URL:https://www.reigen.at/event/sarah-smth-band/
ATTACH;FMTTYPE=image/jpeg:https://www.reigen.at/wp-content/uploads/2023/05/2022-10-14-Barmstedt_Humburg-Haus_22-10-15_08-55-28-473-scaled.jpg
END:VEVENT
BEGIN:VEVENT
DTSTART;TZID=Europe/Berlin:20230922T203000
DTEND;TZID=Europe/Berlin:20230922T233000
DTSTAMP:20260420T093712
CREATED:20230517T122526Z
LAST-MODIFIED:20230601T200636Z
UID:1707-1695414600-1695425400@www.reigen.at
SUMMARY:Cultus
DESCRIPTION:CULTUS – ein Musiker*innen-Trio mit dem unbedingten Anspruch\, in seinen Liedern und Texten Geschichten erzählen zu wollen und im Geiste mit denen unter uns verbunden zu sein\, die immer wieder neu denken\, hinterfragen\, anzweifeln. Für die Angepassten möchte CULTUS ein Spiegel sein\, in dem diese Menschen vielleicht gerade im musikalischen und lyrischen Vortrag erkennen\, dass ziviler Ungehorsam wahrscheinlich ein letzter Weg ist\, unseren blauen Planeten zu retten. Darüber muss gesprochen werden. Die Kunst muss das dürfen können. Nennen wir den musikalischen Stil mit einer Geige\, zwei Gitarren\, Drumcomputer und Gesang einfach Dark Punk Folk. Die Gegenwart hat CULTUS gesucht. Wir sind mitten im Zeitgewitter. \n 
URL:https://www.reigen.at/event/cultus/
LOCATION:REIGEN LIVE\, Hadikgasse 62\, Wien\, 1140\, Österreich
ATTACH;FMTTYPE=image/jpeg:https://www.reigen.at/wp-content/uploads/2023/05/CULTUS-scaled.jpg
END:VEVENT
BEGIN:VEVENT
DTSTART;TZID=Europe/Berlin:20230923T220000
DTEND;TZID=Europe/Berlin:20230924T040000
DTSTAMP:20260420T093712
CREATED:20230421T135624Z
LAST-MODIFIED:20230828T091246Z
UID:1642-1695506400-1695528000@www.reigen.at
SUMMARY:Baba Sound - 20 Anniversary
DESCRIPTION:Das Reggae Dancehall Soundsystem Baba Sound wurde 2003 in Wien gegründet. Seit damals organisiert Father Kutta Partys\, Soundsystem Shows\, live Konzerte\, kleine Tourneen\, und hosted am One Love Festival. Dazu spielt er Gigs in Jamaika queer durch Europa und allen teilen Österreichs. Eine möglichst authentische und breit gefächerte Präsentation von allen Sparten und Epochen jamaikanischer Popkultur und die Zusammenarbeit mit internationalen Reggae Künstlern liegt Baba dabei besonders am Herzen. Aktuell ist Baba Sound als Teil von Bunfiresquad – Österreichs #1 Reggae Promoter- aktiv und feiert am 23.September im Reigen in Wien 20 Jahre Baba. \nDJ Vadim \, der als Produzent bereits 1994 sein eigenes Independent Record Label gegründet hat und über 22 Alben und zahlreiche mix CD’s und Remixe veröffentlichte wurde bereits mehrfach ausgezeichnet. Von Int. Dj of the Year\, 2 x Mixcloud Mix of the Year\, über BBC Channel 4 new music winner\, Sony Awards\, bis zur Latin Grammy Nominierung. Er produzierte unter anderen für Al Green\, Stevie Wonder\, Prince\, the Cure\,Foreign Beggers und Fat Freddy’s Drop. Am Samstag dem 23.September veröffentlicht er sein neues Album „Feel Up Vol.2“ und wird das bei Baba Sound 20th Anniversary in Wien im Reigen feiern. \n  \n 
URL:https://www.reigen.at/event/baba-sound/
LOCATION:REIGEN LIVE\, Hadikgasse 62\, Wien\, 1140\, Österreich
ATTACH;FMTTYPE=image/jpeg:https://www.reigen.at/wp-content/uploads/2023/04/Baba-20th-Anniversary-Facebook-Event-Titelbild.jpg
END:VEVENT
BEGIN:VEVENT
DTSTART;TZID=Europe/Berlin:20230926T203000
DTEND;TZID=Europe/Berlin:20230926T233000
DTSTAMP:20260420T093712
CREATED:20230504T123820Z
LAST-MODIFIED:20230729T100217Z
UID:1659-1695760200-1695771000@www.reigen.at
SUMMARY:Djabe - jazz/world fusion/prog band
DESCRIPTION:“Djabe is one of the best working fusion bands in the world today.” Kent Sangster\, Edmonton International Jazz Festival\, Canada \n“One of the best fusion bands all over the world.” John Nugent\, Rochester\, NY\, International Jazz Festival producer\, US \n“The best band I’ve ever played with.” Steve Hackett\, Genesis guitarist\, UK \n“Fantastic show\, thank you for being with us.” Ruud Wijkniet\, Director of The Hague Jazz Festival\, NL \nDjabe is the number 1 jazz/world fusion/prog band in Hungary. It was established 27 years ago and since then Djabe won numerous domestic and international awards and recognitions. From 2002\, the band gave concerts in 43 countries throughout Europe\, Asia and North-America. Djabe is one of the most invited Hungarian bands by international festivals. \nDjabe plays unique music in which the elements of jazz are mixed with various parts of Hungarian and world music. The main composer and arranger of the band is Tamás Barabás\, who is the most virtuoso Hungarian bass guitarist.\nDjabe means freedom in the African Ashanti language. The founder and other composer of the band is Attila Égerházi – playing guitar and being the leader of the band\, too –\, who interprets this freedom primarily by freely mixing the styles and instruments.\nAt the drums sits the internationally acclaimed Péter Kaszás\, who was drummer for Al Di Meola’s band\, World Sinfonia\, for 10 years.\nÁron Koós-Hutás multiple award-winning trumpet player’s characteristic sound is a key element of the Djabe sound. \nThe keyboard player Zoltán Bubenyák joined recently to the band. We can hear his play on the last studio album\, Before released 9th December 2022. \nDjabe has approx. 100 physical releases. 18 studio albums and 25 live recordings in many formats: LP\, CD\, DVD\, DVD-Audio\, Blu-ray\, 2 track master tape\, 4 track reel-to-reel\, MC\, download and streaming.\nIn 2017 Djabe and London based Cherry Red Records started cooperation. In the last six years Cherry Red released 7 albums under their Esoteric Antenna label. \n  \n \n  \n 
URL:https://www.reigen.at/event/djabe-2/
LOCATION:REIGEN LIVE\, Hadikgasse 62\, Wien\, 1140\, Österreich
ATTACH;FMTTYPE=image/jpeg:https://www.reigen.at/wp-content/uploads/2023/05/Djabe_A_Post_NKA.jpg
END:VEVENT
BEGIN:VEVENT
DTSTART;TZID=Europe/Berlin:20230929T203000
DTEND;TZID=Europe/Berlin:20230929T233000
DTSTAMP:20260420T093712
CREATED:20230802T211112Z
LAST-MODIFIED:20230823T212654Z
UID:2051-1696019400-1696030200@www.reigen.at
SUMMARY:Sivan Arbel
DESCRIPTION:Critically acclaimed Sivan Arbel is an Israeli Vocalist\, Composer\, and Arranger\, a worldwide performer and an effervescent talent on the international jazz scene. Her original music\, arrangements and lyrics open a window into her inner world. She playfully layers her diverse artistic expressions with\nher love for jazz and musical influences grounded in her Israeli roots and global travels.\nSivan recently performed at the Minsk Jazz Festival\, Bratislava Jazz Days\, Boston Jazz Festival\, 4020 Festival in Austria and more…\nSince moving to NYC in 2014\, Sivan has put out two albums: “Broken Lines” (2016) and “Change of Light” (2019)\, which was selected\nby Jazz2K as Best Vocal Disc of 2019.Standing firmly at the crossroads of Moroccan\, Brazilian\, Indian and Israeli influences\, Arbel refines a genrebending array of emotional ore in her image“ ~ Downbeat Magazine \nSivan Arbel – voice\nGino Giovannelli – piano\nDario Giacovelli – bass\nValerio Vantaggio – drums \n 
URL:https://www.reigen.at/event/sivan-arbel/
LOCATION:REIGEN LIVE\, Hadikgasse 62\, Wien\, 1140\, Österreich
ATTACH;FMTTYPE=image/jpeg:https://www.reigen.at/wp-content/uploads/2023/08/Photo-by-Raanan-Gabay.jpg
END:VEVENT
BEGIN:VEVENT
DTSTART;TZID=Europe/Berlin:20230930T200000
DTEND;TZID=Europe/Berlin:20230930T220000
DTSTAMP:20260420T093712
CREATED:20230705T112607Z
LAST-MODIFIED:20230907T091224Z
UID:1943-1696104000-1696111200@www.reigen.at
SUMMARY:Nagyferó és a Beatrice "45 years anniversary Europe tour"
DESCRIPTION:Veranstaltung von Death Star Productions \nAchtung: Bitte nur online bei dem angegebenen Link Karten bestellen! Der Reigen hat leider keine karten. \ntickets: https://www.ticketino.com/de/Event/Nagy-Fero-es-a-Beatrice-B-CS/180340
URL:https://www.reigen.at/event/nagyfero-es-a-beatrice-45-years-anniversary-europe-tour/
LOCATION:REIGEN LIVE\, Hadikgasse 62\, Wien\, 1140\, Österreich
ATTACH;FMTTYPE=image/jpeg:https://www.reigen.at/wp-content/uploads/2023/07/becs-poszt-2.jpg
END:VEVENT
END:VCALENDAR