BEGIN:VCALENDAR
VERSION:2.0
PRODID:-//reigen.at - ECPv6.0.12//NONSGML v1.0//EN
CALSCALE:GREGORIAN
METHOD:PUBLISH
X-WR-CALNAME:reigen.at
X-ORIGINAL-URL:https://www.reigen.at
X-WR-CALDESC:Veranstaltungen für reigen.at
REFRESH-INTERVAL;VALUE=DURATION:PT1H
X-Robots-Tag:noindex
X-PUBLISHED-TTL:PT1H
BEGIN:VTIMEZONE
TZID:Europe/Berlin
BEGIN:DAYLIGHT
TZOFFSETFROM:+0100
TZOFFSETTO:+0200
TZNAME:CEST
DTSTART:20230326T010000
END:DAYLIGHT
BEGIN:STANDARD
TZOFFSETFROM:+0200
TZOFFSETTO:+0100
TZNAME:CET
DTSTART:20231029T010000
END:STANDARD
END:VTIMEZONE
BEGIN:VEVENT
DTSTART;TZID=Europe/Berlin:20231003T203000
DTEND;TZID=Europe/Berlin:20231003T233000
DTSTAMP:20260420T075550
CREATED:20230805T085524Z
LAST-MODIFIED:20231001T201332Z
UID:2073-1696365000-1696375800@www.reigen.at
SUMMARY:Reggie King Sears Band
DESCRIPTION:Former child prodigy Soul-Blues guitarist\, singer-songwriter\, producer\, and multi-instrumentalist REGGIE KING SEARS is back in 2023 with a new album aptly titled “Back In The Game” that expands on his signature down-home Blues\, Rhythm & Blues and Southern Soul sound with deeper Funk and Neo-Soul grooves that will satisfy his fan-base while reaching a larger and younger crowd. Sears\, now 31\, has spent most of his life as a professional musician\, became a mainstay on the Blues festival circuit and has received praise and earned respect from legends and contemporaries alike. \n\n\n„This young man is a bad motherf*cker” Buddy Guy  „One of the top guitarists in the world.“ G. Love\, G. Love and Special Sauce  „Reggie is the future. If my prayers are answered\, I will see him be a big star.“ Solomon Burke  „Reggie Sears in the real deal. He has been around long before me and is truly the real deal. Check him out he is amazing.“ Christone „Kingfish“ Ingram  „A great talent.“ Roland Orzabal\, Tears For Fears\n\n\nDer Keyborder der Band ist leider ausgefallen aber wir haben großartigen Ersatz gefunden: MaximilianTschidda wurde 1989 in Wien\, Österreich\, geboren. Er studierte Jazzklavier am Konservatorium der Stadt Wien (MUK). Dieses Studium schloss er 2014 mit der Auszeichnung Master of Arts ab.\nIm selben Jahr veröffentlichte er sein Debütalbum „zwischen Blättern“ mit seinem Trio „TREEOO“ (ATS Records).\nSeit 2017 ist er mit einem Musical über den österreichischen Popstar Falco mit über 250 Terminen in Österreich\, Deutschland und der Schweiz auf Tournee und seit 2018 als Bandleader tätig. Neben dem Klavier ist Maximilian auch ein leidenschaftlicher Hammondorgel- und Synthesizer-Spieler. Seine musikalische Zusammenarbeit reicht vom österreichischen Bluesmusiker NorbertSchneider über Harri Stojka\, Tini Kainrath\, Martin Fuss\, Andy Baum\, Reinhold Bilgeri bis hin zur Bluessängerin Angela Brown aus Chicago.
URL:https://www.reigen.at/event/reggie-king-sears-band/
LOCATION:REIGEN LIVE\, Hadikgasse 62\, Wien\, 1140\, Österreich
ATTACH;FMTTYPE=image/jpeg:https://www.reigen.at/wp-content/uploads/2023/08/reggie-king-sears.jpg
END:VEVENT
BEGIN:VEVENT
DTSTART;TZID=Europe/Berlin:20231006T203000
DTEND;TZID=Europe/Berlin:20231006T203000
DTSTAMP:20260420T075550
CREATED:20230416T155646Z
LAST-MODIFIED:20230416T155741Z
UID:1573-1696624200-1696624200@www.reigen.at
SUMMARY:JULIAN SAS -  neues Album: Electracoustic
DESCRIPTION:Mit Rhythm- & Blues ist es ein bisschen wie mit gutem Whisky oder Wein – je länger gereift\, desto delikater. Kein Wunder also\, dass altgediente Acts wie Status Quo oder Joe Bonamassa mehr denn je die Hallen füllen\, wenn sie auf Live-Tour sind. \nEiner\, der im selben Atemzug dazu genannt werden muss\, ist der niederländische Progressive Blues Rock-Gitarrist Julian Sas. Sein unverkennbarer Sound – gezimmert aus Eigenkompositionen und Covers legendärer R&B-Größen – tönt ebenfalls bereits seit Jahrzehnten im Reigen der ganz Großen und ist dennoch aktueller denn je. Rasend schnelle Gitarrenriffs wechseln sich gekonnt ab mit ergreifenden Blues-Soli – und das alles in klassischer „BDG“-Besetzung: Bass\, Drums\, Gitarre. Absolut Oldschool und doch auf dem Gipfel modernster Audiotechnik – gleichermaßen kraftvoll im Sound wie differenziert im Klang. \nDie Julian Sas-Band\, über die das Online-Magazin laut.de schreibt: \n„Besonders für ihre unbändige Spielfreude bei Live-Konzerten wird die Julian Sas Band von ihrem Publikum geliebt.“ ist derzeit auf Tournee durch Deutschland. \nMit im Gepäck haben sie ihr aktuelles Album „Electracoustic“ – ein opulentes Werk mit „Zwölf mal Zwei“-Konzept. 12 Songs jeweils einmal mit und einmal ohne Strom eingespielt. Das Album zeigt einmal mehr die musikalische Bandbreite des holländischen Ausnahmegitarristen\, die nicht nur eingefleischte Progressive Blues Rock-Fans immer wieder in Ekstase versetzt. \n\n\n\nJulian Sas: Gitarre\, Gesang \nEdwin van Huik: Bass \nLars-Erik van Elzakker: Schlagzeug \n \n \n  \n  \n  \n\n\n\n\n 
URL:https://www.reigen.at/event/julian-sas-neues-album-electracoustic-2/
LOCATION:REIGEN LIVE\, Hadikgasse 62\, Wien\, 1140\, Österreich
ATTACH;FMTTYPE=image/jpeg:https://www.reigen.at/wp-content/uploads/2023/04/Julian-Sass.jpg
END:VEVENT
BEGIN:VEVENT
DTSTART;TZID=Europe/Berlin:20231007T203000
DTEND;TZID=Europe/Berlin:20231007T233000
DTSTAMP:20260420T075550
CREATED:20230809T122102Z
LAST-MODIFIED:20230809T122459Z
UID:2120-1696710600-1696721400@www.reigen.at
SUMMARY:Kopfkino
DESCRIPTION:Die fünf jungen Wiener Musiker von Kopfkino beschreiben ihre Musik als „Pop mit Kunstanspruch“\, ohne sich dabei auf ein einzelnes Genre zu reduzieren. Tanzbare Grooves wechseln sich ab mit atmosphärischen Stimmungen\, teils sind auch zarte Anklänge aus dem Jazz zu vernehmen. Keyboard und Synthesizer prägen den Sound\, auch mehrstimmiger Gesang und Vocal Loops gestalten das\nStimmungsbild mit. Inhaltlich beschäftigen sie sich mit gesellschaftskritischen und tagesaktuellen Themen. „Wir haben was zu sagen und bei unseren Texten genauer hin zu hören zahlt sich aus!“ erzählt der Bassist der Band Nikolaus Mandlburger: „Was nicht heißen soll\, dass es verboten ist auch mal ohne schwere Hintergedanken zu raven\, oder im Regen zu tanzen!“.\nDie Band besteht aus Sebastian Länger (Vocals\, Synth)\, Phillipp Wiederkehr (Drums)\, Nikolaus Mandlburger (Bass\, Vocals)\, Niko Katzlberger (Gitarre) und Raphael Dombrowski (Keyboard\, Synth).
URL:https://www.reigen.at/event/kopfkino/
LOCATION:REIGEN LIVE\, Hadikgasse 62\, Wien\, 1140\, Österreich
ATTACH;FMTTYPE=image/jpeg:https://www.reigen.at/wp-content/uploads/2023/08/Kopfkino-1--scaled.jpg
END:VEVENT
BEGIN:VEVENT
DTSTART;TZID=Europe/Berlin:20231010T203000
DTEND;TZID=Europe/Berlin:20231010T233000
DTSTAMP:20260420T075550
CREATED:20230804T004729Z
LAST-MODIFIED:20230804T112712Z
UID:2059-1696969800-1696980600@www.reigen.at
SUMMARY:Deb Ryder (USA)
DESCRIPTION:Auch im sonnigen Kalifornien gedeiht der Blues prächtig. Die stimmgewaltige Deb Ryder ist ein überzeugender Beweis für diese These. Seit Jahren begeistert Deb Ryder mit ihrer souligen Interpretation des Blues nicht nur die amerikanische Westküste\, 2022 wurde sie bei den Independent Blues Awards gleich dreimal Siegerin der Kategorien Best Blues/Soul Artist\, Best R&/Soul Song und Best R&B Soul Cd für ihr Album “ Memphis Moonlight“\, das seit Erscheinen 2021 immer wieder in den oberen Rängen der Bluescharts auftaucht. Auch die vorherigen Alben wurden für u.a. für Grammys als beste Bluesalben nominiert\, nicht zuletzt durch die Zusammenarbeit mit dem mehrfachen Grammygewinner Tony Braunagel als Produzent und Schlagzeuger. 2019 wurde Deb in Los Angeles mit dem  State of California Blues Living Legend Award ausgezeichnet.\nNach sporadischen Auftritten auf europäischen Festivals in den letzten Jahren tritt nun die Lady of the Soulblues ihre erste Europatournee an\, dafür hat sich Deb Ryder eine exquisite Band aus kontinentalen Spitzenmusikern zusammengestellt. So finden sich der bekannte holländische Harmonikaspieler Big Pete und der deutsch-amerikanische Gitarrist Alex Schultz in der Besetzungsliste.\nDeb Ryder – Gesang\nRoelof Klijn – Bass\nPeter van der Pluijm (Big Pete) – Harmonika\nJody van Ooijen- Schlagzeug\nAlex Schultz – Gitarre\nBas Jansen – Tasteninstrumente
URL:https://www.reigen.at/event/deb-ryder-usa/
LOCATION:REIGEN LIVE\, Hadikgasse 62\, Wien\, 1140\, Österreich
ATTACH;FMTTYPE=image/jpeg:https://www.reigen.at/wp-content/uploads/2023/08/Deb-Ryder-1.jpg
END:VEVENT
BEGIN:VEVENT
DTSTART;TZID=Europe/Berlin:20231012T203000
DTEND;TZID=Europe/Berlin:20231012T203000
DTSTAMP:20260420T075550
CREATED:20230611T074735Z
LAST-MODIFIED:20230805T092824Z
UID:1837-1697142600-1697142600@www.reigen.at
SUMMARY:Kitole Kenda
DESCRIPTION:Österreichischer Reggae-Sänger Kitole Kenda begeistert Musikszene mit einzigartigem Sound Wien\, Österreich – 1. August 2023 – Kitole Kenda\, der talentierte Reggae-Sänger mit Wurzeln in Kenya\, setzt mit seiner außergewöhnlichen Musik die heimische Musikszene in Begeisterung. Mit zahlreichen erfolgreichen Auftritten und Veröffentlichungen hat sich der Künstler einen festen Platz in der Afro-Reggae-Welt erobert. Kitole Kenda ist bekannt für seine einzigartige Stimme\, die mit einer mitreißenden Bühnenpräsenz verschmilzt und das Publikum in seinen Bann zieht. Seine Songs spiegeln seine persönlichen Erfahrungen und Emotionen wider\, während er gleichzeitig Themen anspricht\, die universell sind und eine breite Zuhörerschaft ansprechen. Die Kombination aus eingängigen Melodien\, tiefgründigen Texten und dem unverkennbaren Reggae-Groove macht Kitole Kenda zu einem herausragenden Künstler. Der in Österreich lebende Sänger hat bereits zahlreiche bemerkenswerte Auftritte hinter sich\, darunter Konzerte in renommierten Musikclubs\, Festivals und Events in ganz Österreich. Seine mitreißenden Live-Auftritte schaffen eine energiegeladene Atmosphäre und hinterlassen bei den Zuschauern bleibende Erinnerungen.
URL:https://www.reigen.at/event/kitole-kenda/
LOCATION:REIGEN LIVE\, Hadikgasse 62\, Wien\, 1140\, Österreich
ATTACH;FMTTYPE=image/jpeg:https://www.reigen.at/wp-content/uploads/2023/06/Kitole_Kenda_Pressefoto.jpeg
END:VEVENT
BEGIN:VEVENT
DTSTART;TZID=Europe/Berlin:20231013T203000
DTEND;TZID=Europe/Berlin:20231013T233000
DTSTAMP:20260420T075550
CREATED:20230816T183613Z
LAST-MODIFIED:20231009T220757Z
UID:2140-1697229000-1697239800@www.reigen.at
SUMMARY:Rudi Biber’s Electric Blues Band - Special Guest Sigi Finkel\, Larissa Lucia voc
DESCRIPTION:Rudi Biber`s Electric Blues Band steht für feinsten Blues Rock. Musik wie sie sein soll. Live\, ehrlich\, erdig und vom Herzen kommend.\n\nEin Pflichttermin für jeden Blues Liebhaber\n\nRudi Biber Vocals & Guitar \nSigi Finkel Saxophon \nLarissa Lucia Vocals \nTom Mueller Keyboards \nWolfgang Glück Bass \nMike Amon Drums \nWolfgang Medlitsch Saxophon \nRudi Dasek Trumpet
URL:https://www.reigen.at/event/rudi-bibers-electric-blues-band/
ATTACH;FMTTYPE=image/jpeg:https://www.reigen.at/wp-content/uploads/2023/08/rudi-biber.jpg
END:VEVENT
BEGIN:VEVENT
DTSTART;TZID=Europe/Berlin:20231014T203000
DTEND;TZID=Europe/Berlin:20231014T233000
DTSTAMP:20260420T075550
CREATED:20230517T142919Z
LAST-MODIFIED:20230814T093143Z
UID:1714-1697315400-1697326200@www.reigen.at
SUMMARY:Gimp Fist / Soifass / The Happy Terrorists
DESCRIPTION:tickets: https://www.eventim-light.com/at/a/63bd7b150d173d63ab0cb9fb/e/645e19869d1cc53c68b2c91c?fbclid=IwAR0ZwlAlNhWcCrtONJ7c_WaI_34UpUrMRivxn0Y5-nXFfgGyvwbPUQpLBFc \n  \nGimp Fist: \nThe Bishop Auckland trio is one of the leading lights of the English street punk scene and have been making wonderful Oi! noise since 2005. They‘ve been putting out a consistently high quality series of ten albums since 2010’s seminal „Your Time Has Come“. Last year’s duo of Isolation and Unification showed the three-piece of brothers Jonny and Mike Robson – vocals/ guitar and drums respectively – and bassist Chris Wright are as potent in the studio as they are on a stage. They have been influenced by a range of mainly punk and ska bands such as Cock Sparrer\, the Clash\, Rancid\, Cockney Rejects and The Business but also artists such as Jimmy Cliff\, and even Buddy Holly. Their lyrics mostly deal with topics related to the daily lives of working class people in Britain.  While primarily their songs‘ tunes and format are typically punk they sometimes explore other styles of music including ska and occasionally reggae. \nLead guitarist and chief songwriter\, Jonny Robson\, who is a prolific writer of new material\, drives Gimp Fist’s sound. As a consequence the band have released material at a steady rate over the last 15 years. Their named derives from a card found in a telephone box advertising „services“. \nSoifass \nDie Soifass wurden im Oktober 1999 in Berlin\, als reine Spass-Oi!-Punkband gegründet. Schnell stellte sich aber heraus\, dass sie keinen schnöden Oi!-Punk mit stumpfen Texten machen wollten. Und so ergab es sich\, dass zu den ernsthaften Texten von Viktor\, auch anspruchsvollere Musik\, die vom üblichen Stumpf-Oi!-Brei abweicht\, geschrieben wurde. Textlich dreht sich vieles\, um das was das normale Leben angeht\, aber auch um Probleme\, die in unserer Subkultur existieren. Musiktechnisch versuchen sie Oi! mit leichten Metall und Rockeinflüssen zu mischen\, aber auch der melodiöse Punk kommt bei ihnen nicht zu kurz. \nThe Happy Terrorists: \nPunkrock-Ska-Reggea á la Rancid aus dem Salzkammergut
URL:https://www.reigen.at/event/reserviert-2/
LOCATION:REIGEN LIVE\, Hadikgasse 62\, Wien\, 1140\, Österreich
ATTACH;FMTTYPE=image/jpeg:https://www.reigen.at/wp-content/uploads/2023/05/Gimp-Fist-770x433-co-Gimp-Fist.jpg
END:VEVENT
BEGIN:VEVENT
DTSTART;TZID=Europe/Berlin:20231017T203000
DTEND;TZID=Europe/Berlin:20231017T234500
DTSTAMP:20260420T075550
CREATED:20230316T194009Z
LAST-MODIFIED:20231015T164922Z
UID:957-1697574600-1697586300@www.reigen.at
SUMMARY:POPA CHUBBY & THE BEAST BAND (NYC\, USA)
DESCRIPTION:`Live Beasting` European – Tour 2023\nPopa Chubby\, mit bürgerlichem Namen Ted Horowitz\, ist ein waschechter Sohn des Big Apple. Er wurde 1960 in der Bronx geboren und wuchs in einer Gegend auf\, die durch Robert De Niro’s berühmten Film `A Bronx Tale` bekannt wurde. In seiner Kindheit hörte er die frühen Sechziger Soul- und R&B-Hits auf der Juke Box\, welche einen tiefen Eindruck bei ihm hinterließen. Bis zum heutigen Tag spiegeln sich die musikalischen Einflüsse von Otis Redding\, Wilson Pickett\, Aretha Franklin und Marvin Gaye in Popa’s Musik wider.\nIm Alter von 16 Jahren nahm er seine erste Gitarre in die Hand und legte sie nicht wieder ab. Er spielte sich die Finger blutig beim Versuch die Blues-Licks nachzuahmen\, die er aus zweiter Hand von den Rockern kannte\, die sie zum Besten gaben. In den späten Siebzigern wurde Popa von der Punk-Rock-Legende Richard Hell für eine Welttournee engagiert. Während der Achtziger Jahre befasste sich Popa mit verschiedenen Musikstilen\, was ihm die Grundlage bot als Berufsmusiker zu überleben. Chubby wurde für eine weitere Welttournee engagiert und gebeten seinen blueslastigen Gitarrensound für Pierce Turner’s Album The Sky and The Ground einfließen zu lassen. Popa arbeitete mit Pierce Ende der 80er Jahre zusammen.\n1990 wurde dann die Popa Chubby Band gegründet. Der Name ergab sich bei einer improvisierten Jam-Session mit Bernie Worell\, einem der Gründungsmitglieder der Psychedelic-Rock- und R&B-Gruppe Parliament-Funkadelic.\nPopa Chubby’s Musik wurde durch die Einflüsse von New York City geformt. Sein innovativer Stil verbindet den Blues mit Rock\, Rap und Soul. Mit seiner rasiermesserscharfen\, beißenden Gitarre und seiner phänomenalen Fähigkeiten als Songwriter verbindet Popa Chubby künstlerisch die Wurzeln des Blues mit den modernen urbanen Elementen der heute angesagten Musik.\nAuf der Europa Tournee im Herbst 2023 präsentiert Chubby sein neues Album\, welches\nim September veröffentlicht wird. Zusammen mit seiner `Beast Band` wird er Klassiker & neue Songs auf europäischen Bühnen zelebrieren. \nPopa Chubby – Guitar\, Vocals \nKris Jefferson – Bass \nStefano Giudici – Drums \nDave Keyes- Keyboards \nRobert Fröwein von der Kronen-Zeitung hatte schon die Gelegenheit\, das Raubein Popa hier im Reigen zu interviewen:                                      https://www.krone.at/3134772
URL:https://www.reigen.at/event/popa-chubby/
LOCATION:REIGEN LIVE\, Hadikgasse 62\, Wien\, 1140\, Österreich
ATTACH;FMTTYPE=image/jpeg:https://www.reigen.at/wp-content/uploads/2023/03/Popa-Chubby-2023.jpg
END:VEVENT
BEGIN:VEVENT
DTSTART;TZID=Europe/Berlin:20231018T193000
DTEND;TZID=Europe/Berlin:20231018T233000
DTSTAMP:20260420T075550
CREATED:20230706T124626Z
LAST-MODIFIED:20230708T121252Z
UID:1947-1697657400-1697671800@www.reigen.at
SUMMARY:Gus G. QUANTUM LEAP TOUR 2023
DESCRIPTION:Gus G\, bekannt für seine Arbeit mit der Power-Metal-Band Firewind und seine Zusammenarbeit mit Ozzy Osbourne als Leadgitarrist von 2009 bis 2017\, hat für seine Gitarrenfähigkeiten und musikalischen Kompositionen\, seinen Shredder-Stil und seinen virtuosen Einsatz von Elektronik viel Lob erhalten und  Anerkennung für seinen kraftvollen Sound und seine Fähigkeit Elemente des klassischen Metals mit modernen Einflüssen zu verbinden gewonnen. \nFrancesco Caporaletti am Bass und Roberto Pirami am Schlagzeug sind die Musiker\, die dieses Erlebnis vervollständigen\, wahre Säulen des Rhythmus und Grooves. Lassen Sie sich in eine Welt besonderen Klangs entführen\, in der die außergewöhnlichen Fähigkeiten der Spieler zu einer Harmonie verschmelzen. Die Weltklasse-Show wird ein Fest der Musik\, eine Hommage an die Kunst und ein Erlebnis\, das Ihnen für immer in Erinnerung bleiben wird. \n  \n 
URL:https://www.reigen.at/event/gus-g/
ATTACH;FMTTYPE=image/jpeg:https://www.reigen.at/wp-content/uploads/2023/07/Gus-G.jpg
END:VEVENT
BEGIN:VEVENT
DTSTART;TZID=Europe/Berlin:20231020T203000
DTEND;TZID=Europe/Berlin:20231020T234500
DTSTAMP:20260420T075550
CREATED:20230316T194111Z
LAST-MODIFIED:20231012T090711Z
UID:960-1697833800-1697845500@www.reigen.at
SUMMARY:HENRIK FREISCHLADER support: Markuz Walach - One Man Band
DESCRIPTION:Mit neuer Band und einem neuen Studio Album möchte Henrik Freischlader auf die Bühnen der Clubs und Festivals zurückkehren. Die Fans können sich auf intensive Konzerte freuen\, bei denen musikalisch aufgeholt wird\, was in den letzten Jahren vermisst wurde. Es wird wieder rockiger und natürlich auch etwas lauter als im Internet. Das klassische Bluesrock-Quartett bilden Schlagzeug\, Bass\, Hammond Orgel\, Gitarre & Gesang und es darf sich auf alte Bekannte gefreut werden.\nNeben den neuen Songs\, dürfen sich nach einer so langen Pause außerdem Lieblingsstücke gewünscht werden. Wir freuen uns auf Euch alle!\nFoto©Timo Wilke \nHenrik Freischlader – Gesang & Gitarre \nHardy Fischötter – Schlagzeug \nArmin Alic – Bass \nMoritz Fuhrhop – Hammond Orgel \nSupport: \nMarkuz Walach rollt seit elf Jahren unermüdlich von und nach überall! Seitdem erspielt sich diese eigenwillige One Man Band jenseits von Mainstream-PR europaweit ein staunendes und stetig wachsendes Publikum. Für Schlagzeug und Bass werden Alltagsgegenstände und Akustikgitarre hemmungslos zweckentfremdet\, und mit Blues Harp\, soulig-klarer Stimme und irren Spieltechniken performt der Mann mit Melone raffiniert arrangierte Songs übers Leben\, die ins Ohr und ins Bein gehen. \n  \n 
URL:https://www.reigen.at/event/henrik-freischlader/
LOCATION:REIGEN LIVE\, Hadikgasse 62\, Wien\, 1140\, Österreich
ATTACH;FMTTYPE=image/jpeg:https://www.reigen.at/wp-content/uploads/2023/03/Freischlader.jpg
END:VEVENT
BEGIN:VEVENT
DTSTART;TZID=Europe/Berlin:20231021T220000
DTEND;TZID=Europe/Berlin:20231022T040000
DTSTAMP:20260420T075550
CREATED:20230619T200750Z
LAST-MODIFIED:20230911T200125Z
UID:1884-1697925600-1697947200@www.reigen.at
SUMMARY:Vienna Reggae Night Special
DESCRIPTION:After 20 Years Rooticalstyle we´re invitting all Reggae Lovers to a new „ VIENNA REGGAE NIGHT “ SPEZIAL ! Whith special Guest „ Badfischsound Mighty Just „ \nLet´s dance to the riddim together !\nPEACE AND LOVE
URL:https://www.reigen.at/event/vienna-reggae-night-special/
LOCATION:REIGEN LIVE\, Hadikgasse 62\, Wien\, 1140\, Österreich
ATTACH;FMTTYPE=image/jpeg:https://www.reigen.at/wp-content/uploads/2023/06/Flyer-21.9.jpg
END:VEVENT
BEGIN:VEVENT
DTSTART;TZID=Europe/Berlin:20231024T203000
DTEND;TZID=Europe/Berlin:20231024T234500
DTSTAMP:20260420T075550
CREATED:20230316T194158Z
LAST-MODIFIED:20230608T130723Z
UID:962-1698179400-1698191100@www.reigen.at
SUMMARY:VÉRONIQUE GAYOT & BAND
DESCRIPTION:VÉRONIQUE GAYOT & BAND\nBlues dargeboten von einer Sängerin\, die aus dem Lande des Chansons stammt? Bei Véronique Gayot funktioniert das wunderbar. Ihre einzigartige Stimme verbreitet dermaßen viel Leidenschaft und rohe Energie\, dass sie nicht nur in Frankreich\, sondern inzwischen überall in Europa eine treue Fangemeinde hat. 2020 war sie auch schon live im legendären WDR-Rockpalast zu Gast. Im Herbst sind Véronique Gayot und ihre Band wieder unterwegs auf Tournee und präsentieren ihr brandneuesAlbum „Be A Man“.\nGeschmeidig bis kratzbürstig und irgendwie kaum zu bändigen – so klingt es\, wenn Véronique Gayot den Blues singt. Neben den obligatorischen Vergleichen mit Janis Joplin\, fällt zudem des Öfteren der Name Robert Plant von „Led Zeppelin“ als Referenz. Das mag zutreffen. Tatsächlich hat Véronique Gayot aber noch wesentlich mehr drauf. Da „treffen Seele\, Können und Leidenschaft aufeinander und zelebrieren den Blues\, der durchaus auch einmal ein wenig soulig daherkommen darf“\, schrieb ein Rezensent über das 2018 erschienene Debüt-Album „Wild Cat“. Das 2021\nveröffentlichte Nachfolge-Werk „Animal“ knüpfte hier nahtlos an und erweiterte das Spektrum von Véronique Gayot in Richtung Classic Rock und Gospel. \nWährend auf den Alben Eigenkompositionen den Ton angeben\, mischen sich ins Live-Programm auch immer mal wieder Cover-Versionen wie z.B. „Gimme Shelter“\, „Sixteen Tons“ oder „Personal Jesus“\, denen die Französin und ihre Band allesamt stets eine ordentlich rockige Frischzellenkur verpassen. Véronique Gayot hat mittlerweile nicht nur die Macher des WDR-Rockpalast und dessen Publikum überzeugt und begeistert. „Ich erlebte eine kleine zierliche Person die alles gegeben hat\, sei es vokal oder an Performance“\, steht in einen Konzertbericht vom Herbst\n2021 nachzulesen. „Aber die beste Sängerin\, die auch noch vorzüglich die Harp beherrscht\, taugt nichts\, wenn die Mannen im Hintergrund nicht Ihr Bestes geben. Dem war aber so. Auch die Jungs gaben alles\, ob es ein Slow Blues oder ein deftiger Boogie war. Der benötigte Druck war da\, ob gefühlvoll oder mit der nötigen Power.\nEs passte einfach alles zusammen.“\nBei den musikalischen Mitstreitern handelt es sich um Yannick Eichert an der Gitarre\, Jérome Wolf am Bass und Jérome Spieldenner am Schlagzeug.
URL:https://www.reigen.at/event/veronique-gayot-band/
LOCATION:REIGEN LIVE\, Hadikgasse 62\, Wien\, 1140\, Österreich
ATTACH;FMTTYPE=image/jpeg:https://www.reigen.at/wp-content/uploads/2023/03/ZAZ_1768-Modifier-2.jpg
END:VEVENT
BEGIN:VEVENT
DTSTART;TZID=Europe/Berlin:20231028T203000
DTEND;TZID=Europe/Berlin:20231028T233000
DTSTAMP:20260420T075550
CREATED:20230517T143135Z
LAST-MODIFIED:20230814T093451Z
UID:1716-1698525000-1698535800@www.reigen.at
SUMMARY:Gewohnheitstrinker/ Soko Durst / Dajneseri
DESCRIPTION:https://www.eventim-light.com/at/a/63bd7b150d173d63ab0cb9fb/e/645e25a89356d60c70784284?fbclid=IwAR2hj5Je93rNnNoPGVxeR1Rc8B2EiN-RkRASPE67OMrxjyRExxx5smTydso \n  \nGewohnheitstrinker \nDie Gewohnheitstrinker aus dem schönen Freiburg sind eine der wohl besten deutschsprachigen Oi Bands der heutigen Zeit. Simpel\, schnell und schnörkellos\, aber dafür mit durchaus cleveren und oft auch kritischen Texten. Aber natürlich genauso oft mit zum Namen passenden Lieder über einen sorgenfreien Alkoholkonsum\, die Szene oder auch über die Qualitäten der eigenen Band! Der Sound der Jungs aus dem Südwesten Deutschlands könnte eigentlich auch direkt aus den 90ern entsprungen sein – und gerade die teilweise ungewöhnliche Stimme bzw. Gesangsart des Sängers sorgt für einen guten Wiedererkennungswert! \nSoko Durst \nSoko Durst ist eine Punkband aus Chemnitz in Sachsen. Die Band wurde 1994 von Sänger Dirk und Gitarrist Karsten gegründet. Soko Durst nennen ihre Musik selbst Drunkrock\, da es sehr oft um Themen wie Party\, Suff und damit verbundene Geschichten und Probleme geht. \nDajneseri \nWien… da wo der Balkan beginnt… in der Punk-/ Skinhead- „Szene“ begegnen sich die Protagonisten und Anfang 2022 wird die Band aus der Taufe gehoben und nach ein wenig Hin-und-her und Wechsel der Instrumente ist das Balkanfolklore – Ensemble aufgestellt. Lauter Balkanci\, vom Burgenland über Serbien / Bosnien in die Türkei. \n„Dajneseri“ bedeutet auf serbo-kroatisch so viel wie „Gib her. Tua weida! Scheiß Da nix.“
URL:https://www.reigen.at/event/reserviert-3/
LOCATION:REIGEN LIVE\, Hadikgasse 62\, Wien\, 1140\, Österreich
ATTACH;FMTTYPE=image/jpeg:https://www.reigen.at/wp-content/uploads/2023/05/Gewohnheitstrinker.jpg
END:VEVENT
END:VCALENDAR