BEGIN:VCALENDAR
VERSION:2.0
PRODID:-//reigen.at - ECPv6.0.12//NONSGML v1.0//EN
CALSCALE:GREGORIAN
METHOD:PUBLISH
X-ORIGINAL-URL:https://www.reigen.at
X-WR-CALDESC:Veranstaltungen für reigen.at
REFRESH-INTERVAL;VALUE=DURATION:PT1H
X-Robots-Tag:noindex
X-PUBLISHED-TTL:PT1H
BEGIN:VTIMEZONE
TZID:Europe/Berlin
BEGIN:DAYLIGHT
TZOFFSETFROM:+0100
TZOFFSETTO:+0200
TZNAME:CEST
DTSTART:20240331T010000
END:DAYLIGHT
BEGIN:STANDARD
TZOFFSETFROM:+0200
TZOFFSETTO:+0100
TZNAME:CET
DTSTART:20241027T010000
END:STANDARD
END:VTIMEZONE
BEGIN:VEVENT
DTSTART;TZID=Europe/Berlin:20240307T203000
DTEND;TZID=Europe/Berlin:20240307T223000
DTSTAMP:20260420T000745
CREATED:20231024T114105Z
LAST-MODIFIED:20240224T011558Z
UID:2425-1709843400-1709850600@www.reigen.at
SUMMARY:David Ellefson Band (Megadeth) - BASS WARRIOR TOUR
DESCRIPTION:Der Grammy®-prämierte Bassist David Ellefson präsentiert seine erste BASS WARRIOR TOUR. In ausgewählten europäischen Städten wird er einen fesselnden Abend mit beliebten Klassikern\, tiefgründigen Stücken und aufschlussreichen Geschichten aus seiner illustren Karriere präsentieren. Die Tour wird seine Rolle als Mitbegründer von MEGADETH\, sein ELLEFSON Solomaterial und vieles mehr beinhalten.\nEllefson zeigt sich begeistert: „Ich habe meine Karriere als musikalischen Krieger gesehen\, der immer von seinem Bass begleitet wird. Ich freue mich sehr darauf\, diese Songs wieder auf die Bühne zu bringen und dabei nachdenkliche und unterhaltsame Anekdoten über ihre Entstehung zu erzählen. Es ist ein wilder Ritt mit tiefen Tönen und hohen Einsätzen!“\nBegleitet wird er auf dieser Tournee von dem italienischen Gitarristen und musikalischen Leiter Andy Martongelli\, einem langjährigen Freund und Weggefährten\, der Ellefson auf seinen Soloabenteuern\, BASSTORY®\, ELLEFSON-SOTO und ALTITUDES & ATTITUDE-Tourneen durch Europa begleitet hat. Am Schlagzeug Roberto Pirami (Michael Angelo Batio\, Rowan Robertson\, Gus G)\, am Gesang Titta Tani (Ehfar\, Ex-Drummer von Claudio Simonetti\’s Goblin)\, an der Rhythmusgitarre Walter Cianciusi (Geoff Tate Band). David Ellefson – BASS WARRIOR TOUR – mit Andy Martongelli.
URL:https://www.reigen.at/event/david-ellefson-band-megadeth/
LOCATION:REIGEN LIVE\, Hadikgasse 62\, Wien\, 1140\, Österreich
ATTACH;FMTTYPE=image/jpeg:https://www.reigen.at/wp-content/uploads/2023/10/david-ellefson.jpg
END:VEVENT
BEGIN:VEVENT
DTSTART;TZID=Europe/Berlin:20240308T203000
DTEND;TZID=Europe/Berlin:20240308T233000
DTSTAMP:20260420T000745
CREATED:20231207T124640Z
LAST-MODIFIED:20240225T131150Z
UID:2610-1709929800-1709940600@www.reigen.at
SUMMARY:Wanja Rosenthal Quartet
DESCRIPTION:Wanja Rosenthal Quartet\nAdrian Gallet – Tenorsaxophon\nWanja Rosenthal – Gitarre\nDaniel Oetz Salcines – Kontrabass\nMathieu Clement – Schlagzeug\nDer Wiener Gitarrist Wanja Rosenthal zählt zu einer neuen Generation von aufstrebenden Jazzmusiker*innen\, die mit Erfindergeist überraschen. Im Jahr 2022 verbrachte Rosenthal ein Studienjahr in Köln\, wo ein Großteil der Kompositionen zum Debüt-Release „LÜFPYRÜN” entstanden sind. Das im Januar 2024 veröffentlichte Album bringt im Zeitgeist von Modern Creative Jazz einen neugierigen Quartett-Sound\nmit\, der innovative und traditionelle Perspektiven vereint. Von kletternden Eichhörnchen im Innenhof\, über die Teuerung von Pesto im Supermarkt\, bis hin zu nostalgischen Stimmungen im Park schöpfen Rosenthals Kompositionen ihre Inspiration aus den unterschiedlichsten Eindrücken. So hat beispielsweise der Titel des Albums seinen Ursprung in einer Wortkreation aus Rosenthals Kindheit.\nZusammen mit den drei in Köln lebenden Musikern Adrian Gallet\, Daniel Oetz Salcines und Mathieu Clement entwickelte Wanja Rosenthal einen akustisch orientierten Bandsound mit eigenständigem Charakter. Gespielt werden Kompositionen\, die im Einklang mit der klein gehaltenen Besetzung des Ensembles stehen. So glänzt das Ensemble in Momenten von atmosphärischer Gestalt\, wo jedem Klang der notwendige\nRaum gegeben wird. Wiederum auch bei Stücken von bewegterem Temperament\, zeugt die Band durch gefinkeltes Zusammenspiel stets für die richtige Ladung Energie.\nwww.wanjarosenthal.com \nFür Studenten\, Schüler und Lehrlinge sind Karten um 15.-€ an der Abenkassa erhältlich
URL:https://www.reigen.at/event/wanja-rosenthal-trio/
LOCATION:REIGEN LIVE\, Hadikgasse 62\, Wien\, 1140\, Österreich
ATTACH;FMTTYPE=image/jpeg:https://www.reigen.at/wp-content/uploads/2023/12/wanja-scaled.jpg
END:VEVENT
BEGIN:VEVENT
DTSTART;TZID=Europe/Berlin:20240312T203000
DTEND;TZID=Europe/Berlin:20240312T203000
DTSTAMP:20260420T000745
CREATED:20230615T101311Z
LAST-MODIFIED:20240304T012555Z
UID:1869-1710275400-1710275400@www.reigen.at
SUMMARY:Dudley Taft - “Nothing ventured\,  nothing gained!“
DESCRIPTION:In Dudley Taft Familienstammbaum findet man die Namen von US_Senatoren\, Gouverneuren\, ja sogar von einem US-Präsidenten. Dass sich Taft Jr. beruflich ganz anders orientierte\, gereicht ihm zu Ehre. Statt in Familientradition eine politische Karriere einzuschlagen\, gründete Dudley in der Highschool gemeinsam mit Gitarrenwizard Trey Anastasio (Phish\, Grateful Dead) seine seine erste Band. Später\, in Seattle lebend\, und vom Grunge inspiriert\, schaffte Taft mit Bands wie Sweetwater und Second Coming sogar den Sprung in die US-Charts und tourte mit Alice in Chains\, Monster Magnet\, Lenny Kravitz und anderen Größen. Seit einigen Jahren hat sich Taft jedoch dem Blues verschrieben\, die Inspiration durch T- Bone Walker\, Albert und Freddie King\,\nBuddy Guy\, Stevie Ray Vaughan\, aber auch der Einfluss von Link Wray und Surf-König Dick Dale haben Spuren hinterlassen. Und danist natürlich Seattles Gitarrengott Jimi Hendrix\, auch an ihm kamTaft nicht vorbei. Aus der Melange unterschiedlichster Einflüsse entwickelte der inzwischen 51-jährige Gitarrist und Sänger seinen eigenen Stil.\nWenn man den bärtigen Taft sieht\, der eher wie ein Outlaw aussieht\, wenn man die ersten Riffs hört\, dann erwartet man eigentlich einen Typen mit rauer\, whiskeygeschwängerter Reibeisenstimme. Doch der optische Eindruck leitet in die Irre\, denn als Sänger klingt der Amerikaner eher feinfühlig\, gefühlvoll. 2017 wurde Taft von der European Blues Society als bester Gitarrist nominiert.\nMit seinem neuen Studio-Album\, „Guitar Kingdom“\, ist jetzt das achte unter eigenem Namen erschienen. Dieses Album ist sein bisher autobiografischstes Werk. ‘Taft widmet sich nicht dem urbanen Blues\, sondern einer energiegeladenen Variante\, diehäufig als Seattle-Blues bezeichnet wird\, eine Mischung aus Blues-Rock und Grunge. … Dampfender\nTexas Blues\, groovende Shuffles\, balladeske Momente\, knackige Riffs undprägnante Solos – eine grundsolide\, abwechslungsreiche CD.\n– Good Times\, February/March 201
URL:https://www.reigen.at/event/dudley-taft-nothing-ventured-nothing-gained/
LOCATION:REIGEN LIVE\, Hadikgasse 62\, Wien\, 1140\, Österreich
ATTACH;FMTTYPE=image/jpeg:https://www.reigen.at/wp-content/uploads/2023/06/dudley.jpg
END:VEVENT
BEGIN:VEVENT
DTSTART;TZID=Europe/Berlin:20240315T203000
DTEND;TZID=Europe/Berlin:20240315T233000
DTSTAMP:20260420T000745
CREATED:20240114T175753Z
LAST-MODIFIED:20240115T230208Z
UID:2859-1710534600-1710545400@www.reigen.at
SUMMARY:St.Patrick`s Day - Doppelkonzert
DESCRIPTION:Für den irischen Feiertag St. Patrick’s Day kombinieren zwei der heimischen Irish Folk- Bands ihre musikalische Energie und bieten im Rahmen dieses Ausnahmekonzerts einen Abend voller kontrastreicher und atemberaubender Arrangements wie auch Eigenkompositionen. \n„Rau wie Küstenwind\, kalt wie Morgennebel\, mystische Klänge und wilde Rhythmen.“ Green Summer ist eine fünfköpfige Irish Folk-/Rock-Band aus Niederösterreich und Wien\, die sich durch zahlreiche Konzerte im In- und Ausland sowie mehrfacher Albumaufnahmen bereits einen festen Platz in der heimischen Musikszene sichern konnte. Das im Februar diesen Jahres erscheinende Werk „A Pint of Tunes Vol.1“ stellt die Vielseitigkeit der fünfMusiker erneut unter Beweis und ist gleichzeitig die erste Hälfte einer liebevollen Hommage an die grüne Insel. \n \nDie Limanis sind eine Wiener Geschwisterband\, die Folkmelodien aus verschiedenen Ländern verarbeitet und zu ihrem Eigenen macht. Irish Folk nimmt einen besonderen Stellenwert in ihrem Repertoire ein. Die jungen Musikerinnen und Musiker sind vielseitig begabt und bedienen eine breite Palette an Instrumenten\, darunter Whistle\, Geige\, Dudelsack\, Irish Bouzouki\, Melodion\, Saxophon\, E-Bass\, Harmonium\, Cajon\, Gesang\, Steirische Harmonika und mehr.     \n   \n                                                                                                                                                                                                                                                                                               \n \nInstagram:Green Summer > https://www.instagram.com/green.summer.musicDie Limanis > https://www.instagram.com/die.limanisFacebook:Green Summer > http://facebook.com/greensummerbandDie Limanis > https://www.facebook.com/profile.php?id=100091894134027 \n  \nStudententickets um 15.-€ an der AK mit Ausweis erhältlich
URL:https://www.reigen.at/event/st-patricks-day-doppelkonzert/
LOCATION:REIGEN LIVE\, Hadikgasse 62\, Wien\, 1140\, Österreich
ATTACH;FMTTYPE=image/jpeg:https://www.reigen.at/wp-content/uploads/2024/01/green-summer-02-scaled.jpg
END:VEVENT
BEGIN:VEVENT
DTSTART;TZID=Europe/Berlin:20240319T200000
DTEND;TZID=Europe/Berlin:20240319T233000
DTSTAMP:20260420T000745
CREATED:20230806T004520Z
LAST-MODIFIED:20240312T205321Z
UID:2086-1710878400-1710891000@www.reigen.at
SUMMARY:Open House Blues Session
DESCRIPTION:Wie jedes Jahr wird der ViennaBluesSpring mit der Open House Blues Session bei freiem Eintritteröffnet. Der traditionelle Treffpunkt der Wiener Blues Szene vor Beginn des Festivals. Die Sessionleitung übernimmt wieder Herby Dunkel. Eine Vielzahl an Bands und Musikern geben einen Ausblick auf die kommenden Wochen und präsentieren die Vielfalt der heimischen Szene. So manche altbekannte Größen wie auch neue Gesichter sorgen für einen aufregenden Abend. \n\nHerby & The Mudcats\nPeter Kern\nScheinbar\nDanny Chicago\nSebastian Schmidt Band\nRudi Biber & Band\nJoe Ditty & The Big Joke\nThe Soulmates\nHokum Pokum\nThe Goodhouse\nTin Rockets\nPosch & Dolezal & Haselsteiner\nStephan Kutscher\nPaul Chuey & Isaac Lopez\n\n 
URL:https://www.reigen.at/event/open-house-blues-session/
ATTACH;FMTTYPE=image/jpeg:https://www.reigen.at/wp-content/uploads/2023/08/herby-dunkel.jpg
END:VEVENT
BEGIN:VEVENT
DTSTART;TZID=Europe/Berlin:20240320T203000
DTEND;TZID=Europe/Berlin:20240320T233000
DTSTAMP:20260420T000745
CREATED:20230823T103218Z
LAST-MODIFIED:20240222T001833Z
UID:2179-1710966600-1710977400@www.reigen.at
SUMMARY:Kofi Baker´s CREAM FAITH
DESCRIPTION:Schlagzeuger KOFI BAKER kommt mit seinem neuen Programm CREAM FAITH nach Europe auf Tournee und zelebriert die Musik von Cream und Blind Faith! Der Sohn der berühmt-berüchtigten Schlagzeug-Legende Ginger Baker führt das Familienerbe nicht nur fort\, sondern erweitert es mit herausragenden Fähigkeiten\, Tatkraft und Hingabe an sein Handwerk. Kofis erster Live-Auftritt war zusammen mit seinem Vater in der britischen Kult-Fernsehsendung „The Old Grey Whistle Test“ – im Alter von nur sechs Jahren bewies er\, dass er mehr als nur den Namen seines Vaters geerbt hatte. Später tourte Kofi mit John Ethridge (Soft Machine) und trat in London mit Steve Waller (Manfred Mann) und Randy California (Spirit) auf. Außerdem tourte er mit Steve Marriot’s Humble Pie durch Europa.2017 wurde er eingeladen\, ein integraler Bestandteil der Music Of Cream 50th Anniversary Tour zu werden\, die in Australien und Neuseeland begann und anschließend Hunderte von Shows in ganz Australien\, den USA und Großbritannien gespielt hat. Am 17. Februar 2020 lud Eric Clapton Kofi ein\, mit ihm\, seiner Band und ganz besonderen Gästen bei einem Tribute-Konzert aufzutreten\, um das Leben\, die Zeit und die Musik von Ginger Baker zu feiern. Nun kommt er endlich wieder zurück nach Europa – macht euch bereit für KOFI BAKER´S CREAM FAITH! \nGINGER BAKER; JONAS HELLBORG & JENS JOHANSSON „Casper Fish“ live in VIENNA \, „Reigen“ \, 29th January 1992 davo existiert ein tolles Video\, das wir verlinkt haben.
URL:https://www.reigen.at/event/kofi-bakers-cream-faith/
LOCATION:REIGEN LIVE\, Hadikgasse 62\, Wien\, 1140\, Österreich
ATTACH;FMTTYPE=image/jpeg:https://www.reigen.at/wp-content/uploads/2023/08/cofi-baker.jpg
END:VEVENT
BEGIN:VEVENT
DTSTART;TZID=Europe/Berlin:20240321T203000
DTEND;TZID=Europe/Berlin:20240321T233000
DTSTAMP:20260420T000745
CREATED:20231026T120536Z
LAST-MODIFIED:20240123T191031Z
UID:2442-1711053000-1711063800@www.reigen.at
SUMMARY:Sari Schorr Band
DESCRIPTION:Saris Erfolg kam „über Nacht“\, nachdem sie jahrelang den rauen Weg des Lebens einer hart arbeitenden Blues-Frau beschritten hatte. Von ihren bescheidenen Anfängen in der Musikszene der legendären South Bronx in New York und der Lower East Side in Manhattan bis hin zu Live-Auftritten an so renommierten Orten wie der Carnegie Hall und in Fernsehshows wie Conan O’Brian. Die in New York lebende Sari Schorr wurde zunächst in der Blueswelt bekannt\, nachdem sie mehrere Jahre mit der Blueslegende Joe Louis Walker und dem berühmten Gitarristen Popa Chubby durch die USA und Europa getourt war. Schorr wurde kürzlich in die New York Blues Hall of Fame aufgenommen. Ein zufälliges Treffen mit dem legendären Plattenproduzenten Mike Vernon (Fleetwood Mac\, John Mayall\, David Bowie\, Eric Clapton\, Peter Green) in Memphis im Januar 2015 brachte Saris Karriere in eine neue\, aufregende Richtung. Innerhalb von 5 Minuten\, nachdem er Sari singen gehört hatte\, bot er ihr an\, Saris Debütalbum zu produzieren. Durch Mikes Verbindung wurde Sari sofort bei Großbritanniens führendem Rock/Blues-Label – Manhaton Records – unter Vertrag genommen.  Sari hat 2 Alben produziert\, ihr Debütalbum „A Force Of Nature“ und nun „Never Say Never“. Never Say Never wurde in Atlanta\, Georgia\, von dem angesehenen Produzenten Tom Tapley (Elton John\, Blackberry Smoke\, Counting Crows) abgemischt. Beide Alben wurden von der Kritik für  ihren stürmischen Gesang und ihre emotionsgeladenen Auftritte gelobt. \nSari Schorr – Vocals \nAsh Wilson – Guitar \nLee Morris  – Drums \nChris Cliff  – Bass \n 
URL:https://www.reigen.at/event/sari-schorr-band/
ATTACH;FMTTYPE=image/jpeg:https://www.reigen.at/wp-content/uploads/2023/10/SariSchorr-by-Jean-PhilippeHugeuet-hi-res.jpg
END:VEVENT
BEGIN:VEVENT
DTSTART;TZID=Europe/Berlin:20240323T203000
DTEND;TZID=Europe/Berlin:20240323T233000
DTSTAMP:20260420T000745
CREATED:20231103T152330Z
LAST-MODIFIED:20240226T020413Z
UID:2484-1711225800-1711236600@www.reigen.at
SUMMARY:Rudi Biber`s Electric Blues Band
DESCRIPTION:Rudi Biber`s Electric Blues Band steht für feinsten Blues Rock. Musik wie sie sein soll. Live\, ehrlich\, erdig und vom Herzen kommend.  \nRUDI BIBER Guitar & Vocals\, Mike Amon Drums\, Wolfgang Glück Bass\, Franz Haselsteiner Keys\, Wolfgang Medlitsch Sax\, Jimi Ivan Trumpet.  \nEin Pflichttermin für jeden Blues Liebhaber \n 
URL:https://www.reigen.at/event/rudi-biber/
LOCATION:REIGEN LIVE\, Hadikgasse 62\, Wien\, 1140\, Österreich
ATTACH;FMTTYPE=image/jpeg:https://www.reigen.at/wp-content/uploads/2023/11/rudi-biber-23.3.24.jpg
END:VEVENT
BEGIN:VEVENT
DTSTART;TZID=Europe/Berlin:20240326T203000
DTEND;TZID=Europe/Berlin:20240326T233000
DTSTAMP:20260420T000745
CREATED:20231103T141206Z
LAST-MODIFIED:20240324T181925Z
UID:2481-1711485000-1711495800@www.reigen.at
SUMMARY:Norman Beaker Band
DESCRIPTION:Living legend of blues\, Norman Beaker\, is releasing his new studio record called Running Down the Clock which will be digitally released on May 8 through Wienerworld\, while CD and LP release will be available shortly after through Rock Svirke Records. The album which was recorded at Sound Station Studion in Zagreb between 12 – 19 January this year\, and has captured their famous live gigs perfectly\, power taste emotion and some humour as well as obviously classic musicianship. In January 2017\, Norman Beaker became one of only eight 21-st century British artists to be officially recognised and inducted as a Legend in the American Heritage Society’s Blues Hall of Fame alongside Jack Bruce\, Peter Green\, John Mayall\, Jeff Beck\, Keith Richards\, Mick Jagger and Eric Clapton. Norman is one of those very first artists who with such iconic colleagues as Alexis Korner\, Graham Bond helped to create the unique British Blues\, R&B and Rock sound that captivated the world. Norman kept its signature sound alive throughout his distinguished career\, whether playing solo or with a Who’s Who of blues\, soul and rock from both sides of the Atlantic\, including Chuck Berry\, Jack Bruce\, Van Morrison\, Peter Green\, Buddy Guy\, Ruby Turner and B.B. King.                                                                                                                                                         The album features on bass and vocals John Price\, Normans sidekick for over 30 years\, and the talented Croatian Leo Andjelkovic on drums\, bringing some new blood and expertise to the gig. \n  \n 
URL:https://www.reigen.at/event/norman-beaker-band/
LOCATION:REIGEN LIVE\, Hadikgasse 62\, Wien\, 1140\, Österreich
ATTACH;FMTTYPE=image/jpeg:https://www.reigen.at/wp-content/uploads/2023/11/Norman-Beaker-Trio-2022-foto-Nemanja-Djordjevic-02.jpg
END:VEVENT
BEGIN:VEVENT
DTSTART;TZID=Europe/Berlin:20240327T203000
DTEND;TZID=Europe/Berlin:20240327T233000
DTSTAMP:20260420T000745
CREATED:20240101T144653Z
LAST-MODIFIED:20240101T154710Z
UID:2749-1711571400-1711582200@www.reigen.at
SUMMARY:Leelah Sky - Schilling Doppelkonzert
DESCRIPTION:LEELAH SKY soulicious earfood\nLEELAH SKY schafft es\, Soul\, Pop\, Blues und Jazz so zu kombinieren\, dass die Frage nach dem Stil obsolet wird. Die Salzburger Sängerin und Pianistin setzt dabei auf powervoll-fragile Stimmakrobatik und dampfende Beats\, auf geschmackvoll arrangierte und eingängige Eigenkompositionen\, die die Zuhörer dort berühren\, wo Musik berühren soll – im Herzen. Als Solo-Act -Stimme und Klavier pur\, im Duo mit Beatbox\, im Trio als ‚pocketrockband‘ mit Gitarre oder in voller Bandbesetzung – gemeinsam mit ihren multiinstrumentalen Partnern zaubert die Künstlerin mit ukrainischen Wurzeln\, die u.a. schon mit Bobby McFerrin\, Christian Kolonovits\, Richard Österreicher und Alexander Goebel zusammenarbeitete\, ein faszinierendes musikalisches Akustik-Feuerwerk auf die Bühne\, das seinesgleichen sucht.\nIm Herbst 2016 erschien LEELAHs Debut-Album ‚second life’ bei homebase records. 2024 folgt das 2. Album. \n  \n\n \nSCHILLING \nEs gibt sie also doch\, diese Währung\, die nie inflationär wird\, also unverändert hart bleibt\, keinen Schwankungen ausgesetzt ist und Generationen überdauert – gute Musik!\nVoraussetzungen für ebendiese sind höchste musikalische Professionalität und eine unvergleichliche Stimme\, die aussagekräftige Texte mit viel Gefühl und authentisch\, dadurch also glaubwürdig interpretiert.\nManchmal dauert es allerdings einige Zeit\, bis etwas Gutes entsteht. Und nur\, wenn sich\, wie in diesem Fall\, fünf professionelle Musik-Desperados auf einer gemeinsamen Spielwiese finden\, nicht mit sich handeln lassen und nur spielen\, was sie wollen\, sind alle Voraussetzungen für eine Supergroup erfüllt – es entsteht etwas richtig Gutes: SCHILLING \nSTEPHAN GLEIXNER: STIMME\, CHOR\, SONGWRITING \nGORAN MIKULEC: GITARRE\, BANJO\, SONGWRITING \nWILLI LANGER: Bass \nCHRISTIAN WEGSCHEIDER: TASTEN \nCHRISTIAN ZIEGELWANGER: SCHLAGZEUG UND PERCUSSION \n  \n 
URL:https://www.reigen.at/event/leelah-sky-und-schilling/
LOCATION:REIGEN LIVE\, Hadikgasse 62\, Wien\, 1140\, Österreich
ATTACH;FMTTYPE=image/jpeg:https://www.reigen.at/wp-content/uploads/2024/01/leelah.jpg
END:VEVENT
BEGIN:VEVENT
DTSTART;TZID=Europe/Berlin:20240328T203000
DTEND;TZID=Europe/Berlin:20240328T233000
DTSTAMP:20260420T000745
CREATED:20240101T143802Z
LAST-MODIFIED:20240125T141036Z
UID:2745-1711657800-1711668600@www.reigen.at
SUMMARY:Herbys Hornets feat. Ariana McManus Lilli Kern
DESCRIPTION:Herby’s Hornets sind wieder zu Gast im Reigen und liefern wieder eine gewaltige Dosis Blues\, Soul; Swing und Rock ‚n‘ Roll ab. Dabei gibt es keine Berührungsängste mit anderen Genres\, wodurch ein abwechslungsreicher und wilder musikalischer Cocktail entsteht\, der kein Auge trocken lässt. \nVerstärkt werden die Hornets diesmal von keinen geringeren als Lilli Kern und Ariana McManus an den Harmony Vocals. Es wird ein buntes Fest – Check It Out! \nHerby Dunkel – voc\, git \nMarc Swoboda – git \nAlfred Kern – sax \nWerner Dorfmeister – bass \nPeter Müller – drums \nSpecial Guests: \nLilli Kern – voc \nAriana McManus – voc \n \n \n 
URL:https://www.reigen.at/event/herbys-hornets/
LOCATION:REIGEN LIVE\, Hadikgasse 62\, Wien\, 1140\, Österreich
ATTACH;FMTTYPE=image/jpeg:https://www.reigen.at/wp-content/uploads/2024/01/hornets.jpg
END:VEVENT
BEGIN:VEVENT
DTSTART;TZID=Europe/Berlin:20240329T203000
DTEND;TZID=Europe/Berlin:20240329T233000
DTSTAMP:20260420T000745
CREATED:20230806T004145Z
LAST-MODIFIED:20240124T015309Z
UID:2082-1711744200-1711755000@www.reigen.at
SUMMARY:Cody Jasper (USA)
DESCRIPTION:Possessing Texas roots and thick Rock ‘N Roll blood\, Cody Jasper is a musical artist and composer whose passions have been raising the music industry bar since 2014. Heavily influenced by music icons Jimi Hendrix\, Stevie Ray Vaughan\, Otis Redding\, Sly Stone\, and Waylon Jennings\, Cody has a powerhouse background in cultivating boundary-breaking music that goes beyond just the ears and delivering high energy performances that ultimately leave his audiences wanting more. Queen to Daft Punk\, Jimi Hendrix to John Mayer\, and splashes of Led Zeppelin. As an artist making fresh contributions to the Rock ‘N Roll scene\, Cody enjoys every moment of delivering statement-making music and performances. Cody signed with Evil Teen Records in late 2022 and released his 6 song label debut ‘Geronimo’ in March 2023\, with a forthcoming album slated for early 2024. He is represented worldwide by Hard Head Management (Warren Haynes\, Gov’t Mule)
URL:https://www.reigen.at/event/cody-jasper-usa/
LOCATION:REIGEN LIVE\, Hadikgasse 62\, Wien\, 1140\, Österreich
ATTACH;FMTTYPE=image/jpeg:https://www.reigen.at/wp-content/uploads/2023/08/CodyJasper.jpg
END:VEVENT
BEGIN:VEVENT
DTSTART;TZID=Europe/Berlin:20240330T203000
DTEND;TZID=Europe/Berlin:20240330T233000
DTSTAMP:20260420T000745
CREATED:20240101T144358Z
LAST-MODIFIED:20240109T105628Z
UID:2747-1711830600-1711841400@www.reigen.at
SUMMARY:Leas Shuffle Gangsters / Juke Joint Royals Doppelkonzert
DESCRIPTION:Leas Shuffle Gangster-Rhytm’nBlues vom Feinsten\,Tanzmusik der 40er und 50er. Jimmy McCracklin\,Roy Brown Wynnonie Harris und Solche. Wer damit was anfangen kann\, wird begeistert sein und hat viel mit uns gemeinsam.\nDie Besetzung klassisch:  zwei Saxofone\,Posaune\,Kontrabass\,Klavier und Schlagzeug. Wer wissen will\, wie heisse Tanzmusik\,groovige Riffs und jede Menge Energie klingen\, ist bei uns richtig..\nBesetzung:\nJoe Krulis-Baritonsax\,Git\,Gesang\nRobert Mais-Posaune\,Gesang\nRichard Meisel-Kontrabass\,Gesang\nMarkus Neubauer-Schlagzeug\nSilke Gert-Tenorsaofon                                                                                                                                                                                                   J\n\n\nJuke Joint Royals: Aus Österreich kommt die siebenköpfige Rhythm and Blues Band die sich der Musik der 40er und 50er verschrieben hat und den Sound mit einer Prise purem Rock and Roll verfeinert. Kontrabass\, Schlagzeug und Piano bilden den stampfenden Untergrund auf dem sich der dreistimmige Bläsersatz ein Duell mit der Gitarre liefert. Vorneweg bringt der pianospielende Frontmann “The Emperor” Erich Herbst in kürzester Zeit den Dancefloor zum Kochen und das Publikum will nur noch eins: Tanzen\, Tanzen\, Tanzen!Die Band liebt die Bühne\, das Publikum und die Emotionen. Auf unzähligen Club-Gigs und Festivals in Europa konnten „The Juke Joint Royals“ bereits musikalische Akzente setzen. Ob England\, Deutschland\, Italien\, Serbien\, Schweiz\, Kroatien\, Bulgarien oder Österreich\, die Bühnenshow dieser Band begeisterte sofort nach dem ersten Ton.Durch diese fulminanten Auftrittserfolge wurde das Hamburger Plattenlabel „Boom Chicka Boom Records“ aufmerksam. Als Resultat dieser Zusammenarbeit erschien im Juni 2017 das erste Album „Jumpin‘ and Bluesin‘ with The Juke Joint Royals“ welches exzellente Kritiken in international anerkannten Fachzeitschriften wie „Vintage Rock Magazine“ und „UK Rock & Roll Magazine“ bekam.
URL:https://www.reigen.at/event/leas-shuffle-gangsters-juke-joint-royals/
LOCATION:REIGEN LIVE\, Hadikgasse 62\, Wien\, 1140\, Österreich
ATTACH;FMTTYPE=image/jpeg:https://www.reigen.at/wp-content/uploads/2024/01/shuffle-G.jpg
END:VEVENT
END:VCALENDAR