BEGIN:VCALENDAR
VERSION:2.0
PRODID:-//reigen.at - ECPv6.0.12//NONSGML v1.0//EN
CALSCALE:GREGORIAN
METHOD:PUBLISH
X-ORIGINAL-URL:https://www.reigen.at
X-WR-CALDESC:Veranstaltungen für reigen.at
REFRESH-INTERVAL;VALUE=DURATION:PT1H
X-Robots-Tag:noindex
X-PUBLISHED-TTL:PT1H
BEGIN:VTIMEZONE
TZID:Europe/Berlin
BEGIN:DAYLIGHT
TZOFFSETFROM:+0100
TZOFFSETTO:+0200
TZNAME:CEST
DTSTART:20240331T010000
END:DAYLIGHT
BEGIN:STANDARD
TZOFFSETFROM:+0200
TZOFFSETTO:+0100
TZNAME:CET
DTSTART:20241027T010000
END:STANDARD
END:VTIMEZONE
BEGIN:VEVENT
DTSTART;TZID=Europe/Berlin:20240704T203000
DTEND;TZID=Europe/Berlin:20240704T233000
DTSTAMP:20260419T204837
CREATED:20240510T224941Z
LAST-MODIFIED:20240523T091952Z
UID:3537-1720125000-1720135800@www.reigen.at
SUMMARY:Khalif  Wailin Walter&€A$H COW
DESCRIPTION:€A$H COW is a modern rock blues funk band founded by the legendary Chicago guitarist/singer Khalif Wailin’ Walter and bassist Paolo Sturiale (Hiram Bullock\, Melvin Taylor\, Bruce Conte\, Dean Brown) with drummer David Morgan and pianist Erik Marenče.\nTheir music blends covers of classic blues melded with modern funk and rock as well as their own original tunes. Every live show from this dynamic band is a once in a lifetime experience.\nThe engaging and entertaining €A$H COW show relies heavily on improvised musicianship. You are invited to sit in on a private conversation between these musicians; clap your hands\, stomp your feet\, feel and enjoy being part of their groove.
URL:https://www.reigen.at/event/khalif-wailin-walter/
LOCATION:REIGEN LIVE\, Hadikgasse 62\, Wien\, 1140\, Österreich
ATTACH;FMTTYPE=image/png:https://www.reigen.at/wp-content/uploads/2024/05/khalif-wailing-walters.png
END:VEVENT
BEGIN:VEVENT
DTSTART;TZID=Europe/Berlin:20240705T203000
DTEND;TZID=Europe/Berlin:20240705T233000
DTSTAMP:20260419T204837
CREATED:20240414T021143Z
LAST-MODIFIED:20240414T023414Z
UID:3422-1720211400-1720222200@www.reigen.at
SUMMARY:Jason Ricci and The Bad Kind
DESCRIPTION:In 2010 Jason won The Blues Music Award for “Best Harmonica Player”.  Jason would also go on to record and tour Europe with Blues Rock legend Walter Trout. After ten years of musical success\, health and continuous sobriety in 2010 Ricci fell prey to addiction\, mental illness and a break up with his long term partner pianist and web designer Brady Mills. This was followed by another arrest in 2011 and another year-long period of incarceration\, this time in an Indiana jail. After his release in 2012 Ricci would cut two critically well received albums and tour with celebrated New York City singer songwriter JJ Appleton. In addition to recording and touring with Appleton by 2013 Ricci also formed a new band “Jason Ricci and The Bad Kind” with New Orleans guitarist John Lisi. Signing with The Eller Soul Label Jason Ricci and The Bad Kind would cut two records “Approved By Snakes” and “My Chops are Rolling“. Working with Appleton\, The Bad Kind and occasional tours with Alligator recording artist and Chicago Blues icon Nick Moss would mark the start of a successful return. By 2015 Ricci was nominated and won another Blues Music Award for Best Harmonica. \nToday Jason Ricci is living in his beloved city of New Orleans\, sober\, healthy and touring with his many projects\, recording and teaching music\, Jason is married to Boston singer\, guitarist\, songwriter Kaitlin Dibble who tours and records with Jason Ricci and The Bad Kind. \nRicci has appeared as a guest harmonica player on albums with Johnny Winter\, Ana Popovic\, Joe Louis Walker\, Cedric Burnside\, Walter Trout\, Mike Zito\, JP Soars\, Nick Moss\, Peter Karp\, Nick Curran\, The Mannish Boys\, Too Slim and The Tail Draggers\, Walter Trout and many many more. Ricci has toured or professionally played shows with John Fohl\, The Iguanas\, Damon Fowler\, Pappa Mali\, Walter Trout\, Nick Moss\, JP Soars\, Mike Zito\, Eric Johanson\, Big Chief Monk Boudreaux\, Anders Osborne\, Joe Krown and more…‍ \nJason Ricci is one of the most influential\, recorded\, celebrated\, interviewed and famous harmonica players working in the world today. \n  \n \n  \nhttps://youtu.be/lb4fgHVnOsk?si=kCiuB1yfWNFTV4hT
URL:https://www.reigen.at/event/jason-ricci-and-the-bad-kind/
LOCATION:REIGEN LIVE\, Hadikgasse 62\, Wien\, 1140\, Österreich
ATTACH;FMTTYPE=image/png:https://www.reigen.at/wp-content/uploads/2024/04/Jason-Ricci-the-Bad-Kind_Promo-Photo_3-copy.png
END:VEVENT
BEGIN:VEVENT
DTSTART;TZID=Europe/Berlin:20240706T203000
DTEND;TZID=Europe/Berlin:20240706T233000
DTSTAMP:20260419T204838
CREATED:20240217T144725Z
LAST-MODIFIED:20240523T093027Z
UID:3177-1720297800-1720308600@www.reigen.at
SUMMARY:Everise
DESCRIPTION:Their first album „Say goodbye to the old times“\, then still under the previous name „The GIFT“\, takes listeners on a journey full of the energy and emotions of the band that have accompanied them since childhood. EVERISE presents an impressive range of creative arrangements of powerful rock anthems to soulful ballads. EVERISE combines genres in an unforgettable way. The core band members Luca Fröch (guitar & vocals)\, Nico Huber (drums & vocals) and Luca Kleisz (piano & vocals) bring their individual musical backgrounds and influences to the band\, resulting in a creative explosion.\nEVERISE is always writing and recording new songs. Their single „Late Night Summervibe“ which they released with a music video not only reflects the musical competence of the band\, but also their ability to translate emotions into gripping lyrics.  \nhttps://youtu.be/XrayBp3VMpc?si=pARXEn_gG8TVDo3j \n 
URL:https://www.reigen.at/event/everise/
LOCATION:REIGEN LIVE\, Hadikgasse 62\, Wien\, 1140\, Österreich
ATTACH;FMTTYPE=image/jpeg:https://www.reigen.at/wp-content/uploads/2024/02/Everise.jpg
END:VEVENT
BEGIN:VEVENT
DTSTART;TZID=Europe/Berlin:20240709T080000
DTEND;TZID=Europe/Berlin:20240709T080000
DTSTAMP:20260419T204838
CREATED:20240427T105056Z
LAST-MODIFIED:20240707T011113Z
UID:3455-1720512000-1720512000@www.reigen.at
SUMMARY:Summerbreak till 26.8.2024
DESCRIPTION:Wir machen Sommerpause bis 26.8. und freuen uns ab 27.8. wieder auf Euren Besuch! \nSummerbreak till 26.8. please visit us again from 27.8.
URL:https://www.reigen.at/event/summerbreak-till-26-8-2024/
END:VEVENT
END:VCALENDAR