BEGIN:VCALENDAR
VERSION:2.0
PRODID:-//reigen.at - ECPv6.0.12//NONSGML v1.0//EN
CALSCALE:GREGORIAN
METHOD:PUBLISH
X-WR-CALNAME:reigen.at
X-ORIGINAL-URL:https://www.reigen.at
X-WR-CALDESC:Veranstaltungen für reigen.at
REFRESH-INTERVAL;VALUE=DURATION:PT1H
X-Robots-Tag:noindex
X-PUBLISHED-TTL:PT1H
BEGIN:VTIMEZONE
TZID:Europe/Berlin
BEGIN:DAYLIGHT
TZOFFSETFROM:+0100
TZOFFSETTO:+0200
TZNAME:CEST
DTSTART:20240331T010000
END:DAYLIGHT
BEGIN:STANDARD
TZOFFSETFROM:+0200
TZOFFSETTO:+0100
TZNAME:CET
DTSTART:20241027T010000
END:STANDARD
END:VTIMEZONE
BEGIN:VEVENT
DTSTART;TZID=Europe/Berlin:20240906T190000
DTEND;TZID=Europe/Berlin:20240906T230000
DTSTAMP:20260420T000618
CREATED:20240524T195233Z
LAST-MODIFIED:20240524T195935Z
UID:3575-1725649200-1725663600@www.reigen.at
SUMMARY:Hazai Standup
DESCRIPTION:Eine Veranstaltung von eventfrog.de \nKarten nur über den Link\, im Reigen keine Karten erhältlich! \nhttps://eventfrog.de/en/p/theatre-stage/comedy-cabaret/khalmi-zoltan-es-badar-sandor-becs-7196172087064524730.html
URL:https://www.reigen.at/event/hazai-standup/
LOCATION:REIGEN LIVE\, Hadikgasse 62\, Wien\, 1140\, Österreich
ATTACH;FMTTYPE=image/jpeg:https://www.reigen.at/wp-content/uploads/2024/05/becs-scaled.jpg
END:VEVENT
BEGIN:VEVENT
DTSTART;TZID=Europe/Berlin:20240907T203000
DTEND;TZID=Europe/Berlin:20240907T233000
DTSTAMP:20260420T000618
CREATED:20240217T145207Z
LAST-MODIFIED:20240707T010604Z
UID:3179-1725741000-1725751800@www.reigen.at
SUMMARY:35 Jahre Reigenlive Open House Session dir. by Herby Dunkel
DESCRIPTION:Als Auftakt unseres 35 Jahre Reigenlive Festivals – mit 35 exemplarischen Konzerten – gibt es eine große Session bei freiem Eintritt\, geleitet in bewährter Weise von Herby Dunkel.
URL:https://www.reigen.at/event/35-jahre-reigenlive-open-house-session/
LOCATION:REIGEN LIVE\, Hadikgasse 62\, Wien\, 1140\, Österreich
ATTACH;FMTTYPE=image/jpeg:https://www.reigen.at/wp-content/uploads/2023/08/herby-dunkel.jpg
END:VEVENT
BEGIN:VEVENT
DTSTART;TZID=Europe/Berlin:20240910T203000
DTEND;TZID=Europe/Berlin:20240910T233000
DTSTAMP:20260420T000618
CREATED:20240215T131250Z
LAST-MODIFIED:20240811T140529Z
UID:3141-1726000200-1726011000@www.reigen.at
SUMMARY:Scott Weis Trio
DESCRIPTION:35 Jahre Reigenlive Festival \nUSA Blues Rock power trio from Pennsylvania\, celebrating 19 years and 9 releases as of 2024\, charting as high as #4 on the blues rock charts.\nScott Weis Band has a long history together from celebrated tour support by such names as ZZ Top\, Blues Traveler\, Johnny Winter to name a few.\nSWB has had 2 tours of Europe in recent years unsupported. Given their unique versatility\, festivals and clubs unanimously welcome them back every year without hesitation. Listeners don’t know what’s coming next. They leave audiences clapping singing and dancing and not wanting the band to\nend. There is a reason Scott Weis Band was inducted to the Blues Hall of Fame in 2012. They take you on a journey from down home blues to soul and blues rock with a spice shaker of good ole gumbo. \nWith Roger Voss and Robert Kopec\, the Scott Weis Band has developed their signature style of Blues Rock.
URL:https://www.reigen.at/event/scott-weis-band/
LOCATION:REIGEN LIVE\, Hadikgasse 62\, Wien\, 1140\, Österreich
ATTACH;FMTTYPE=image/jpeg:https://www.reigen.at/wp-content/uploads/2024/02/scott_bw.jpeg
END:VEVENT
BEGIN:VEVENT
DTSTART;TZID=Europe/Berlin:20240911T203000
DTEND;TZID=Europe/Berlin:20240911T233000
DTSTAMP:20260420T000618
CREATED:20240105T111458Z
LAST-MODIFIED:20240730T085638Z
UID:2784-1726086600-1726097400@www.reigen.at
SUMMARY:Matti Klein Soul Trio
DESCRIPTION:35 Jahre Reigenlive Festival \nMatti Klein Soul Trio: Genre: Deep-Fried Contemporary Soul-Jazz Line-Up: \nMatti Klein – wurlitzer\, rhodes bass \nLars Zander – bass clarinet\, sax \nAndré Seidel – drums \nWas ist Soul? Ein mitreißender Musikstil\, sagen die einen. Ein überwältigendes Gefühl\, behaupten die anderen. Es ist das\, was uns unverwechselbar macht\, steht in den englischen Wörterbüchern. Jede dieser Definitionen trifft auf das Matti Klein Soul Trio zu\, aber letztere umschreibt das Wesen des im Jahr 2017 gegründeten Dreiergespanns besonders gut. Denn im Matti Klein Soul Trio haben sich drei Seelenverwandte im Namen des Grooves zusammengetan\, die einen eigenständigen Weg jenseits der viel betanzten Pfade der Hammond-Orgel-Trios beschreiten. Im Zentrum des Klanggeschehens stehen dabei die warmen Wurlitzer-Klänge des Bandleaders Matti Klein\, der mit der Funkjazz-Formation Mo‘ Blow und dem brasilianischen Yacht-Pop-Schwergewicht Ed Motta bereits die wichtigsten Jazzclubs in New York\, Tokyo\, London und Paris beehrte. \nDie wohligen tiefen Töne eines 1973er Fender Rhodes Piano-Bass sind ein ähnliches Alleinstellungsmerkmal der Gruppe wie der punktgenaue Einsatz von Sound-Effects des Tenorsaxofonisten und Bassklarinettisten Lars Zander. Das elastische Spiel von Drummer André Seidel sorgt dafür\, dass man dem Trio seine weitere Spezialität\, die unverkopfte Vorliebe für Odd Meters\, buchstäblich nicht krumm nimmt. Prominente Soul-Gourmets wie die BBC-Radiolegende Robert Elms oder Sänger Max Mutzke schwören auf die Songs des Trios\, in denen vibrierender Soul-Jazz und der Instrumental-Funk von The Meters oder The Crusaders organisch neben HipHop-Elementen oder spacigem Post-Rock stehen. Und auch die mediale Resonanz auf die bisherigen Alben und Live-Shows der Band (u.a. in Haiti\, Finnland oder bei einer UK-Tour) spricht eine klare Sprache. „Das groovt ungemein“\, urteilt der Deutschlandfunk\, während das britische Jazzwise-Magazin feststellt: „A new\, smoking‘ hot twist on the much-loved organ trio format. They deserve to be huge everywhere!“ \nPressezitate: \n“They deserve to be HUGE everywhere. (…) make sure you catch ‘em.“ JAZZWISE Live-Review \n„A really good album by keyboards player Matti Klein. I was really taken with this record and in fact I was gonna play it as my favourite track of the week.“ “Robert Elms – BBC London \n„Soul Trio is an authentic album drawing on vintage instruments with a 21st century attitude.“ Thomas Fletcher – Jazz Journal UK \n“A smokin‘ hot series of sessions featuring Klein and his superb band. Lars Zander on tenor is just sensational\, and his forays on bass clarinet add even more grit to the hard-swinging proceedings ****” JAZZWISE \n„Er spielt brilliant und gleichzeitig entspannt\, lässt die Melodien perlen und die Harmonien w \n 
URL:https://www.reigen.at/event/matti-klein-soul-trio/
ATTACH;FMTTYPE=image/jpeg:https://www.reigen.at/wp-content/uploads/2024/01/MattiKleinSoulTrio_cRobStirner_mittel-1-scaled.jpg
END:VEVENT
BEGIN:VEVENT
DTSTART;TZID=Europe/Berlin:20240912T203000
DTEND;TZID=Europe/Berlin:20240912T233000
DTSTAMP:20260420T000618
CREATED:20240302T112715Z
LAST-MODIFIED:20240711T003811Z
UID:3286-1726173000-1726183800@www.reigen.at
SUMMARY:Corky Laing's MOUNTAIN
DESCRIPTION:35 Jahre Reigenlive Festival \nGegründet wurde MOUNTAIN vom Produzenten von Cream\, Felix Pappalardi\, 1968 in New York. Im Mittelpunkt des Heavy-Blues-Rock-Trios stand der Gitarrist Leslie West. Zeitweise wurde das Trio mit einem Keyboarder zum Quartett erweitert. So auch beim berühmten Auftritt während des Woodstock-Festivals. Für MOUNTAIN charakteristisch sind die mächtigen Soundgebirge und der schwerfällige Dampframmenrock mit ausgeprägten weitläufigen Gitarrenimprovisationen. Hits wie „Mississippi Queen“ und „Nantucket Sleighride“ machten MOUNTAIN berühmt und sind noch heute aktuell. \nIn der wechselvollen Geschichte von MOUNTAIN wurde die Besetzung mehrfach verändert\, behielt jedoch die Konstante Corky Laing an den Drums. Corky Laing reformiert nun zum x-ten Mal die Band zu dem\, was sie immer war. Eine der kompetentesten Heavy-Bands die sich mit allerfeinstem Hochdruck-Rock mühelos mit jungen Bands messen kann. \nCorky Laing ist es nun gelungen mit Richie Scarlet (ex-Ace Frehley Band) an der Gitarre und mit Joe Venti (ex-Carmine Appice\, -Billy Squire\, -Frank Marino\, -Kofi Baker u.a.) am Bass eine neue Formation auf die Bühne zu bringen\, die an Qualität und Power dem Original in nichts nachsteht. \n  \n \n  \n 
URL:https://www.reigen.at/event/corky-laings-mountain/
LOCATION:REIGEN LIVE\, Hadikgasse 62\, Wien\, 1140\, Österreich
ATTACH;FMTTYPE=image/jpeg:https://www.reigen.at/wp-content/uploads/2024/03/laing-corky_2022-11-13_0910ed_foto-wolfgang-gonaus-scaled.jpg
END:VEVENT
BEGIN:VEVENT
DTSTART;TZID=Europe/Berlin:20240914T203000
DTEND;TZID=Europe/Berlin:20240914T233000
DTSTAMP:20260420T000618
CREATED:20240702T090815Z
LAST-MODIFIED:20240801T103524Z
UID:3796-1726345800-1726356600@www.reigen.at
SUMMARY:SHANNA WATERSTOWN BAND
DESCRIPTION:35 Jahre Reigenlive Festival \nShanna Waterstown is considered to be one of the most interesting female blues voices in recent years. Born in the South of the United States\,  she grew up in the „churches“ of her city singing mainly gospel\, and then moved to New York\, little more than a teenager. In thatcontext\, she comes into contact with jazz and musicals. These new musical expressions combined with some lucky tours of her around the world with the likes of Buddy Guy lead her to get closer and closer to  Paris\, a city that in a few years will become her new home. Her latest record\, Inside My Blues\, met the more than favorable opinion of the public and professionals who unanimously consecrated her as the most authoritative voice of the new world scene. Her band is made up of experienced musicians who boast prestigious collaborations with  artists from the Rock\, Blues\, Soul\, international Funky environment:SHANNA WATERSTOWN – VocalsMASSIMO CIRACI‘  – guitarWALTER CERASANI – bassGIANPAOLO FEOLA – drums INFO ARTIST: http://www.shannawaterstown.net
URL:https://www.reigen.at/event/shanna-waterstown-band/
LOCATION:REIGEN LIVE\, Hadikgasse 62\, Wien\, 1140\, Österreich
ATTACH;FMTTYPE=image/jpeg:https://www.reigen.at/wp-content/uploads/2023/03/shanna-waterstown.jpg
END:VEVENT
BEGIN:VEVENT
DTSTART;TZID=Europe/Berlin:20240917T203000
DTEND;TZID=Europe/Berlin:20240917T233000
DTSTAMP:20260420T000618
CREATED:20240105T111254Z
LAST-MODIFIED:20240719T092141Z
UID:2782-1726605000-1726615800@www.reigen.at
SUMMARY:Connolly Hayes
DESCRIPTION:35 Jahre Reigenlive Festival \nConnolly Hayes are a ’new‘ band\, already creating high expectations and excitement within\, and beyond\, the blues/rock/soul community\, largely on the reputations of the principal members. Young Jess Hayes is a blues-fuelled\, soulful singer/songwriter with a powerhouse of a voice. She emerged onto the South London scene as a teenager having been raised on the classic sounds of Stevie Nicks\, Bad Company\, Bonnie Raitt\, Little Feat etc by her musician parents\, tagging along to their gigs every weekend and catching ‚the bug‘.   \nJess quickly gained a reputation amongst the blues and soul cognesenti\, as well as being the ‚go to‘ singer of choice for (ex Mud member and noted songwriter\, not least for Kylie’s mega hit ‚Can’t Get You Out of My Head‘)\, Rob Davis\, with whom she has enjoyed a number of multi million streaming ‚hits‘. She has also recently enjoyed some prime time exposure on ITV’s ‚The Voice‘\, turning all 4 chairs. More importantly though\, Jess is looking to find her own ‚voice‘ as a songwriter with this new project\, with her friend Frankie Connolly\, who himself has gained a stellar reputation as both a great singer and astonishing guitar player\, who has wowed crowds wherever he has played\, including Ronnie Scotts and a number of festivals\, internationally.  Connolly Hayes aren’t just a duo though\, they are a fully fledged band with Richard Clarke\, another noted vocalist/guitarist alongside Beau Barnard on bass and Andy Wilder on drums. The ensemble have recently recorded their debut EP\, set for 2024 release and have already attracted interest and bookings for live work based on the reputation and pedigree of the band members alone. Hold tight\, it should be quite a ride! 
URL:https://www.reigen.at/event/connolly-hayes/
ATTACH;FMTTYPE=image/webp:https://www.reigen.at/wp-content/uploads/2024/01/Connolly-Hayes.webp
END:VEVENT
BEGIN:VEVENT
DTSTART;TZID=Europe/Berlin:20240918T203000
DTEND;TZID=Europe/Berlin:20240918T233000
DTSTAMP:20260420T000618
CREATED:20240123T164125Z
LAST-MODIFIED:20240918T160858Z
UID:2921-1726691400-1726702200@www.reigen.at
SUMMARY:Manlio Milazzi & JJ Appleton ABGESAGT!!
DESCRIPTION:35 Jahre Reigenlive Festival \n“It was a dark & stormy night – a late night jam in Denver at an international music conference. Guitarist/Vocalist JJ APPLETON and Harmonica Player MANLIO MILAZZI were brought together by a mutual friend and collaborator: Harmonica legend Jason Ricci. “You guys should meet”\, he said… the rest is history!”\nAPPLETON’S musical history includes 2 critically lauded acoustic blues/roots albums with Jason Ricci\, 3 independent solo albums\, and he was previously signed to AATW/Universal UK . He has made television appearances on Late Night with Stephen Colbert\, Good Morning America and Carson Daly.\nAPPLETON was handpicked by David Bowie as the original guitarist for Bowie’s award winning musical “Lazarus”. As a producer JJ has produced recordings for Kesha\, Grace Gaustad\, Erin Bowman and Darius Rucker.\nMILAZZI is one of the premier harmonica players of his generation and has been awarded at the World Harmonica Festival in Trossingen (2013) and at the International Blues Challenge (2006). A disciple of the harmonica genius Carlos Del Junco\, Manlio has played with some of the greatest of the contemporary blues scene such as Bob Margolin\, Chris Jagger\, Tonky De La Pena\, Enrico Crivellaro.
URL:https://www.reigen.at/event/manlio-milazzi-jj-appleton/
ATTACH;FMTTYPE=image/png:https://www.reigen.at/wp-content/uploads/2024/01/Screenshot-2024-06-01-at-12-19-26-Milazzi-Appleton-EPK-Milazzi-Appleton-EPK.pdf.png
END:VEVENT
BEGIN:VEVENT
DTSTART;TZID=Europe/Berlin:20240919T203000
DTEND;TZID=Europe/Berlin:20240919T233000
DTSTAMP:20260420T000618
CREATED:20240720T210957Z
LAST-MODIFIED:20240723T090114Z
UID:3948-1726777800-1726788600@www.reigen.at
SUMMARY:Sanat Deliorman Band
DESCRIPTION:35 Jahre Reigenlive Festival \nBorn in 1984 in Istanbul to painter parents\, Sanat Deliorman studied translation and graphic design at university. She sang as a contralto in the A Capella Boğaziçi jazz choir for two years and translated Janos Sipos‘ book „In the Wake of Bela Bartok in Anatolia“ into Turkish\, published in 2009. For over 15 years\, she worked as an editor\, and music critic for various institutions and festivals. Besides worked as a voice over artist for globally known brands. After taking jazz vocal lessons from reknown jazz singers in Turkey and visiting teachers from America\, she won a number of jazz competitions in 2011 and 2012. \nSoon after\, she formed her jazz group „Sanat Deliorman and Her Jazz Bros“\, tailoring concept jazz projects like Polish and Swedish jazz projects. Adapted jazz and pop songs into Turkish using her theatrical style\, also writing Turkish tangos and waltzes. Held concerts in Balkan countries\, Also she has been hosting the radio show „World’s Jazz“\, supporting Turkish and international  jazz musicians. Today Sanat gives private vocal lessons and acts as a mentor for jazz and pop singers living in Turkey. \nHer discography includes a single\, an EP\, and her debut album „Aşk Kumbarası“ (Love Bank) released in 2022. In 2023\, she released several singles\, including „Seslendim Sana“ (Called Out to You)\, „Devam Et“ (Go Ahead)\, and „Yürüyen Merdivenler“ (Escalators). \nNow she comes to Reigen to share with the Viennese audience\, a night of jazz standards and Turkish originals and adaptations. \nSanat Deliorman: Vocals \nArsén Gürer: Keys \nTimothy Luger: Bass \nGeorg Hinterberger: Drums \n 
URL:https://www.reigen.at/event/sanat-deliorman-band/
LOCATION:REIGEN LIVE\, Hadikgasse 62\, Wien\, 1140\, Österreich
ATTACH;FMTTYPE=image/webp:https://www.reigen.at/wp-content/uploads/2024/07/senat.webp
END:VEVENT
BEGIN:VEVENT
DTSTART;TZID=Europe/Berlin:20240920T203000
DTEND;TZID=Europe/Berlin:20240920T233000
DTSTAMP:20260420T000618
CREATED:20240723T123630Z
LAST-MODIFIED:20240724T132220Z
UID:3964-1726864200-1726875000@www.reigen.at
SUMMARY:Rudi Biber Band
DESCRIPTION:35 Jahre Reigenlive Festival \nRUDI BIBER   77 still going strong  \nContemporary Blues\, wie sie sein soll LIVE-EHRLICH-ERDIG  und vom HERZEN kommend – Einfach unvergesslich \nRudi Biber Vocals & Guitar \nMike Amon Drums \nWolfgang Glück   Bass \nTom Mueller Keyboards \nJimi Ivan Trumpet \nWolfgang Medlitsch Sax \n 
URL:https://www.reigen.at/event/rudi-biber-band/
ATTACH;FMTTYPE=image/jpeg:https://www.reigen.at/wp-content/uploads/2024/07/rudi-biber.jpg
END:VEVENT
BEGIN:VEVENT
DTSTART;TZID=Europe/Berlin:20240921T203000
DTEND;TZID=Europe/Berlin:20240921T203000
DTSTAMP:20260420T000618
CREATED:20231110T104515Z
LAST-MODIFIED:20240911T113405Z
UID:2506-1726950600-1726950600@www.reigen.at
SUMMARY:Mariana Mazu\, Leonardo Andersen Git\, Lysandre Donoso Bandoneon.
DESCRIPTION:35 Jahre Reigenlive Festival \n„Presenting my new Album I will be accompanied by one  of the country’s  leading guitarists\, Leonardo Anders as well as acclaimed French bandoneonist Lysandre Donoso. We are going to present my album. Includes tango\, flamenco as well as other Latin American genres like bolero\, balada and foxtrot.“ \n \n  \n \n 
URL:https://www.reigen.at/event/marianna-mazu-leonardo-andersen-git-lysandre-donoso-bandoneon/
LOCATION:REIGEN LIVE\, Hadikgasse 62\, Wien\, 1140\, Österreich
ATTACH;FMTTYPE=image/png:https://www.reigen.at/wp-content/uploads/2023/11/mariana.png
END:VEVENT
BEGIN:VEVENT
DTSTART;TZID=Europe/Berlin:20240924T203000
DTEND;TZID=Europe/Berlin:20240924T233000
DTSTAMP:20260420T000618
CREATED:20240412T175818Z
LAST-MODIFIED:20240710T232501Z
UID:3409-1727209800-1727220600@www.reigen.at
SUMMARY:Xime Monzón Band (Arg.)
DESCRIPTION:35 Jahre Reigenlive Festival \nXime Monzón is an Argentinian harp player and singer with a stunning career and a ringing Blues show that has led to her participation in countless festivals in Brazil\, Mexico\, Chile\, Uruguay\, Argentina\, Germany\, Czech Republic and Netherlands. Her first album\, My Harp My Soul\, has been edited by the distinguished Brazilian label ‘Chico Blues Records.’\nEver since then\, she emerged as an undisputed benchmark of the genre and the harmonica\, becoming an official endorser of the latter with one of the most important manufacturer’s in the word\, Seydel Harmonicas Germany. The band is composed by Mauro Bonamico on the bass\,\nGermán Pedraza on drums\, Federico Verteramo on guitar and Anita Fabiani on piano. With them she released a live albuat thelonious club in Argentina in February 2023. \n \n  \n 
URL:https://www.reigen.at/event/xime-monzon-band-arg-2/
LOCATION:REIGEN LIVE\, Hadikgasse 62\, Wien\, 1140\, Österreich
ATTACH;FMTTYPE=image/jpeg:https://www.reigen.at/wp-content/uploads/2024/04/xime-band-.jpeg
END:VEVENT
BEGIN:VEVENT
DTSTART;TZID=Europe/Berlin:20240925T203000
DTEND;TZID=Europe/Berlin:20240925T233000
DTSTAMP:20260420T000618
CREATED:20240706T221551Z
LAST-MODIFIED:20240728T125710Z
UID:3819-1727296200-1727307000@www.reigen.at
SUMMARY:Herby Dunkel & Band
DESCRIPTION:35 Jahre Reigenlive Festival \nHerby Dunkel & Band \nOb kerosingetränkter Jump Blues\, grobkörniger Honky Tonk oder virtuoser Western Swing – wenn es um amerikanische Roots-Music geht\, ist der Name Herby Dunkel seit vielen Jahren ein verlässlicher Garant für höchste musikalische Qualität. Fast ist dabei ein wenig in den Hintergrund gerückt\, was für ein eminenter Songwriter in ihm steckt! Jetzt offenbart Herby Dunkel erstmals die Essenz seines bisherigen musikalischen Schaffens\, seine eigenen Songs\, die in einer alten Tradition und Handwerkskunst ruhen und behutsam mit Werkzeugen gefertigt wurden\, die uns das Leben nur schenkt\, wenn wir ihm sehr aufmerksam zuhören. In Dunkels Liedern geht es ums Scheitern und ums Wiederaufstehen\, um Überschwang und Tristesse\, um Sehnsüchte\, Verlorenheit\, Zerbrechlichkeit und natürlich um jene hard luck guys and girls\, die sich ständig in den gleichen Alltagsdramen wiederfinden und ihre besten Jahre im Rückspiegel verschwinden sehen. Die Schönheit seiner Songs wirkt gebrochen\, fragil\, unverwechselbar und aus der Zeit gefallen\, besonders bei den schwerelosen Balladen\, in denen seine Band ein tiefes Blau an den zerdehnten Cinemascope-Himmel färbelt.                                                                                                                                                           Apropos Band: Herby hat für sein Vorhaben sein ganz persönliches Dream-Team um sich geschart: Stefan Haslinger an den Keyboards\, Bernd Rommel an den Drums\, Roman Kovacs am Bass und Alex Gantz an den Gitarren operieren mit ihren Instrumenten am offenen Herzen und im Dienste der Songs. Ihr Zutun lässt die Lieder atmen\, sie in verschiedenen Spektren schillern und ihr Innerstes hörbar werden: Ihre wunderbar erzählten Geschichten. \nLassen Sie sich dieses Konzert nicht entgehen!
URL:https://www.reigen.at/event/herby-dunkel-band/
LOCATION:REIGEN LIVE\, Hadikgasse 62\, Wien\, 1140\, Österreich
ATTACH;FMTTYPE=image/jpeg:https://www.reigen.at/wp-content/uploads/2024/07/Herby-Band.jpg
END:VEVENT
BEGIN:VEVENT
DTSTART;TZID=Europe/Berlin:20240927T203000
DTEND;TZID=Europe/Berlin:20240927T233000
DTSTAMP:20260420T000618
CREATED:20240605T155703Z
LAST-MODIFIED:20240712T015209Z
UID:3632-1727469000-1727479800@www.reigen.at
SUMMARY:MEENA CRYLE &Chris Fillmore „Rare & Intimate – The 30th Anniversary Tour“
DESCRIPTION:35 Jahre Reigenlive Festival \nAnlässlich ihres 30-jährigen gemeinsamen Bühnenjubiläums sind Meena Cryle & Chris Fillmore nun auch erstmals als Duo unterwegs und besuchen im Rahmen ihrer Jubiläums-Tour auch den „REIGEN live“ in Wien. „Eine außergewöhnlich ausdrucksstarke\, wandlungsfähige und vor allem berührende Sängerin und ein begnadeter Gitarrist\, dessen geradezu traumwandlerische Leichtigkeit an seinem Instrument jedes Mal von Neuem fasziniert“\, schwärmt man in zahlreichen Konzertberichten in den Medien. \nEs gibt viele außergewöhnliche musikalische Talente – aber nur ein paar wenige die auch international ihren Weg machen. Heißt es in der Kunst oft\, man muss nur zur richtigen Zeit am richtigen Ort sein\, so traf das für die beiden Musiker zu Beginn ihrer Karriere wohl eher nicht zu. Es war ihre Extravaganz\, ihr Talent und ihre Beharrlichkeit\, die sie vorwärts brachten. Der Cryle/Fillmore Sound war von Anfang an unverkennbar\, immer mit einer eigenen Note versehen\, niemals Klischee und immer in Bewegung. \nMittlerweile zählen Meena Cryle & Chris Fillmore seit vielen Jahren zu den erfolgreichsten österreichischen Musikexporten in der internationalen Blues ’n‘ Roots Szene und ihre Auftritte auf diversen Festivals in Europa und den USA sowie in der Wiener Staatsoper wurden nicht selten mit Standing Ovations honoriert. Nicht umsonst konnte sich der legendäre amerikanische Produzent und mehrfache Grammy-Preisträger Jim Gaines bei deren Zusammenarbeit der Faszination der beiden nicht entziehen. „She’s got the voice and she’s got the passion. One of the best acts I have worked with in recent years.“\, war sein treffsicheres Urteil. Und auf seiner Kundenliste finden sich immerhin Namen wie Carlos Santana\, John Lee Hooker\, Stevie Ray Vaughan\, Huey Lewis oder Van Morrison. \nMeena Cryle & Chris Fillmore – „Rare & Intimate – The 30th Anniversary Tour“.  Eine musikalische Reise und Geschichte – und keiner kann sie besser und persönlicher erzählen als die beiden gemeinsam im Duett\, nur mit Stimme und Gitarre. Southern Soul\, Blues\, Gospel\, Country & Rock`n`Roll… \nAls Zuhörer werden Sie an diesem Abend mit Sicherheit zur richtigen Zeit am richtigen Ort sein. \nMEENA CRYLE: Vocal\, Guitar\, Percussion\nCHRIS FILLMORE: Guitars\, Piano
URL:https://www.reigen.at/event/meena-cryle-the-chris-fillmore/
LOCATION:REIGEN LIVE\, Hadikgasse 62\, Wien\, 1140\, Österreich
ATTACH;FMTTYPE=image/jpeg:https://www.reigen.at/wp-content/uploads/2024/06/MeenaChris-live.jpg
END:VEVENT
BEGIN:VEVENT
DTSTART;TZID=Europe/Berlin:20240929T190000
DTEND;TZID=Europe/Berlin:20240929T230000
DTSTAMP:20260420T000618
CREATED:20240524T200559Z
LAST-MODIFIED:20240524T201710Z
UID:3579-1727636400-1727650800@www.reigen.at
SUMMARY:P.Mobil 50
DESCRIPTION:P.Mobil // BÉCS is organised by:\nDeath Star Productions \n\neventfrog.de \nKarten nur über diesen Link bestellen! Im Reigen sind keine Karten erhältlich.h \nhttps://eventfrog.de/en/p/concert/hard-rock-heavy-metal/p-mobil-becs-7196155013042764825.html
URL:https://www.reigen.at/event/p-mobil-50/
LOCATION:REIGEN LIVE\, Hadikgasse 62\, Wien\, 1140\, Österreich
END:VEVENT
END:VCALENDAR