BEGIN:VCALENDAR
VERSION:2.0
PRODID:-//reigen.at - ECPv6.0.12//NONSGML v1.0//EN
CALSCALE:GREGORIAN
METHOD:PUBLISH
X-WR-CALNAME:reigen.at
X-ORIGINAL-URL:https://www.reigen.at
X-WR-CALDESC:Veranstaltungen für reigen.at
REFRESH-INTERVAL;VALUE=DURATION:PT1H
X-Robots-Tag:noindex
X-PUBLISHED-TTL:PT1H
BEGIN:VTIMEZONE
TZID:Europe/Berlin
BEGIN:DAYLIGHT
TZOFFSETFROM:+0100
TZOFFSETTO:+0200
TZNAME:CEST
DTSTART:20260329T010000
END:DAYLIGHT
BEGIN:STANDARD
TZOFFSETFROM:+0200
TZOFFSETTO:+0100
TZNAME:CET
DTSTART:20261025T010000
END:STANDARD
END:VTIMEZONE
BEGIN:VEVENT
DTSTART;TZID=Europe/Berlin:20260113T203000
DTEND;TZID=Europe/Berlin:20260113T233000
DTSTAMP:20260419T220701
CREATED:20250411T142424Z
LAST-MODIFIED:20251213T101726Z
UID:5182-1768336200-1768347000@www.reigen.at
SUMMARY:Wildman
DESCRIPTION:Wildman is the rock sensation from Deventer. Their music is a blend of alternative rock\, garage rock\, and unpolished rock ’n’ roll. On stage\, the band delivers a energetic show that will be remembered. Wildman crafts contemporary rock songs with lyrics that stick\, delivered with the untamed power their name promises. It is dark\, intense and hypnotic. Drawing inspiration from the likes of The Black Keys\, Queens of the Stone Age and The Doors\, their sound breaks through boundaries and defies genres.
URL:https://www.reigen.at/event/wildman/
LOCATION:REIGEN LIVE\, Hadikgasse 62\, Wien\, 1140\, Österreich
ATTACH;FMTTYPE=image/jpeg:https://www.reigen.at/wp-content/uploads/2025/04/Wildman-1.jpg
END:VEVENT
BEGIN:VEVENT
DTSTART;TZID=Europe/Berlin:20260114T203000
DTEND;TZID=Europe/Berlin:20260114T233000
DTSTAMP:20260419T220701
CREATED:20250416T172729Z
LAST-MODIFIED:20260107T115841Z
UID:5219-1768422600-1768433400@www.reigen.at
SUMMARY:WISHBONE ASH auf „The Time Was Tour“ Tour 2026
DESCRIPTION:„Das war ein großes Abenteuer für die Fans und für die Band“\, erinnert sich Leader Andy Powell gern zurück. „Songs zu spielen\, die unser Publikum gewählt hat\, gibt dem Ganzen ein erfrischendes\, interaktives Gefühl\, ein neues Gefühl von Ziel und Richtung für das Live-Erlebnis.“\nIn diesem Sinne vereint die Setlist der kommenden Tour bekannte Klassiker mit selten gespielten Stücken aus der facettenreichen und langen Bandgeschichte von WISHBONE ASH. Besonderes Augenmerk liegt auf Songs\, die in den vergangenen Jahren seltener live zu hören waren – ein Wunsch vieler Fans\, dem die Band gerne nachkommt. Ergänzt wird die Show durch aktuelles Material sowie die unvergesslichen Highlights\, die seit Jahrzehnten zum festen Repertoire gehören.\nWISHBONE ASH wurde 1969 in London gegründet – mitten in der aufregenden Anfangszeit des Progressive Rock. Die britische Band nutzte das kreative Klima dieser Ära\, entwickelte einen charakteristischen\, melodischen Rocksound und etablierte sich damit als eine der prägendsten Gitarrenbands der Rockgeschichte. Kraftvolle Energie gepaart mit eingängigen Melodien machten „The ASH“ zu einem außergewöhnlichen Live-Act\, der heute auch von einer neuen Generation von Rockfans wiederentdeckt wird. Im Laufe ihrer Karriere wagte sich die Band immer wieder an unterschiedliche Stilrichtungen – von Folk\, Blues und Jazz bis hin zu hartem Rock und elektronischen Einflüssen. Was WISHBONE ASH jedoch stets unverwechselbar macht\, ist das harmonische Zusammenspiel ihrer beiden Leadgitarren – ein Markenzeichen\, das unter anderem Gruppen wie Thin Lizzy\, Lynyrd Skynyrd\, Iron Maiden und Opeth maßgeblich inspirierte. Mit ihrem Album „Argus“ setzten sie schließlich ein musikalisches Denkmal.\nClassic Rocks\, GoodTimes und Kulturnews präsentieren:\nWISHBONE ASH: The Time Was Tour – Tour 2026 \nAndy Powell – vocals & guitar\nBob Skeat – bass & vocals\nMark Abrahams – guitar\nWindsor McGilvray – drums \n 
URL:https://www.reigen.at/event/wishbone-ash-2/
LOCATION:REIGEN LIVE\, Hadikgasse 62\, Wien\, 1140\, Österreich
ATTACH;FMTTYPE=image/jpeg:https://www.reigen.at/wp-content/uploads/2025/04/IMG_4701.jpg
END:VEVENT
BEGIN:VEVENT
DTSTART;TZID=Europe/Berlin:20260121T203000
DTEND;TZID=Europe/Berlin:20260121T233000
DTSTAMP:20260419T220701
CREATED:20250820T105356Z
LAST-MODIFIED:20251214T172408Z
UID:5739-1769027400-1769038200@www.reigen.at
SUMMARY:Blues Caravan 2026 (20th Anniversary Edition)
DESCRIPTION:Bei Ruf Records jagt ein Meilenstein den nächsten: Erst neulich feierte das international renommierte Blues/Rocklabel sein 30-jähriges Bestehen im großen Stil\, nun ist seine beliebte Live-Revue Blues Caravan an der Reihe. Im Jahr 2026 geht die Show bereits zum 20. Mal auf Welttournee. Die Liste der Künstler:innen\, die den großen Karrieresprung im Rahmen des Blues Caravans schafften\, ist ebenso lang wie beeindruckend. Dazu zählen unter anderem Ana Popovic\, Samantha Fish\, Aynsley Lister und Joanne Shaw Taylor – um nur einige zu nennen. Die drei Headliner der Jubiläumsausgabe\, die nun in ihre Fußstapfen treten\, verkörpern eine spannende Mischung aus Erfahrung\, großer Emotion und jugendlicher Frische. \nDie aus Kalifornien stammende Laura Chavez ist sicherlich die Bekannteste im Bunde. Die begnadete Gitarristin war viele Jahre lang die treibende Kraft in der Band der Sängerin Candye Kane (Blues Caravan 2005 & 2008) und hat unzählige Konzerte an der Seite von Nikki Hill\, Vanessa Collier und Rock-’n’-Roll-Legende Mitch Ryder gespielt. Chavez weiß mit ihrer songdienlichen Rhythmusgitarre und ihren mitreißenden E-Gitarrensoli jedes Publikum zu begeistern. Ihr exzellenter Ruf in der Szene wurde endgültig bestätigt\, als sie 2023 den Blues Music Award als „Best Instrumentalist – Guitar“ gewann – als erste Gitarristin überhaupt. Chavez wird im Rahmen des Blues Caravan zum ersten Mal als Solokünstlerin auf der Bühne stehen. \nMatthew Curry ist ein echter Geheimtipp für alle\, die sich in der Blues- und Rockszene auskennen. Der US-Amerikaner steht seit über einem Jahrzehnt auf den Bühnen Nordamerikas und begeistert dort mit seinem unverkennbaren Sound zwischen Blues\, Rock und Americana. Er teilte die Bühne mit echten Größen wie Peter Frampton\, der Steve Miller Band\, den Doobie Brothers oder Blackberry Smoke. \nNewcomerin im Bunde ist die Französin Elise Frank. Als Frontfrau der 2021 gegründeten Formation FRANK ist sie bereits bei namhaften Musikfestivals wie dem Cognac Blues Passions Festival und dem Rory Gallagher International Tribute Festival aufgetreten. Ihre Auftritte bei der anstehenden Caravan-Tour darf man mit Spannung erwarten. \nAuch nach 20 Jahren und hunderten von Shows bleibt das bewährte Konzept des Blues Caravans unverändert. Zunächst spielt jeder der drei Headliner ein komplettes Live-Set\, bevor am Ende alle gemeinsam bei einer aufregenden Jamsession auftreten. Weitere Informationen über den Blues Caravan finden Sie unter: http://wordpress.bluescaravan.de \n 
URL:https://www.reigen.at/event/ruf-blues-caravan-2026/
LOCATION:REIGEN LIVE\, Hadikgasse 62\, Wien\, 1140\, Österreich
ATTACH;FMTTYPE=image/jpeg:https://www.reigen.at/wp-content/uploads/2025/08/A4_Poster_BC2026-1.jpg
END:VEVENT
BEGIN:VEVENT
DTSTART;TZID=Europe/Berlin:20260128T203000
DTEND;TZID=Europe/Berlin:20260128T233000
DTSTAMP:20260419T220701
CREATED:20250416T173046Z
LAST-MODIFIED:20260114T182924Z
UID:5221-1769632200-1769643000@www.reigen.at
SUMMARY:Todd Sharpville Trio
DESCRIPTION:Todd Sharpville ist seit 30 Jahren eine feste Größe in der britischen Blues-Szene. Sein erstes Album Touch Of Your Love erschien 1992 bei Red Lightnin Records und wurde bei den British Blues Awards als „Bestes Album“ und „Bester Gitarrist“ ausgezeichnet. Dies war der Beginn einer internationalen Karriere\, die Todd Sharpville und seine Band auf den meisten Blues-Locations und -Festivals rund um den Globus auftreten ließ. Todds jüngstes Album „Medication Time“ ist bei Dixiefrog Records erhältlich und führte zu seinem jüngsten „Rockpalast“-Auftritt im nationalen Fernsehen in Deutschland\, Österreich\, der Schweiz und Kroatien. Es wurde international im Oktober 2023 von Repertoire Records als Live-Doppelalbum/DVD-Boxset veröffentlicht. \n  \n \n  \n 
URL:https://www.reigen.at/event/todd-sharpville/
LOCATION:REIGEN LIVE\, Hadikgasse 62\, Wien\, 1140\, Österreich
ATTACH;FMTTYPE=image/jpeg:https://www.reigen.at/wp-content/uploads/2025/04/Sharpville.jpg
END:VEVENT
BEGIN:VEVENT
DTSTART;TZID=Europe/Berlin:20260129T180000
DTEND;TZID=Europe/Berlin:20260129T233000
DTSTAMP:20260419T220701
CREATED:20250421T203608Z
LAST-MODIFIED:20250628T073756Z
UID:5228-1769709600-1769729400@www.reigen.at
SUMMARY:Privatveranstaltung- Direct Mind
DESCRIPTION:
URL:https://www.reigen.at/event/reserviert-direct-mind/
END:VEVENT
BEGIN:VEVENT
DTSTART;TZID=Europe/Berlin:20260131T203000
DTEND;TZID=Europe/Berlin:20260131T233000
DTSTAMP:20260419T220701
CREATED:20250203T131845Z
LAST-MODIFIED:20251231T180809Z
UID:4726-1769891400-1769902200@www.reigen.at
SUMMARY:KRIS POHLMANN (UK/DE)  ABGESAGT!
DESCRIPTION:Die Tour wurde leider abgesagt! Wir bedauern… \n  \nKRIS POHLMANN (UK/DE) featuring Ben Forrester (USA) – “Relentless Tour”\nBritish-born guitarist/singer KRIS POHLMANN is teaming up with New York guitarist BEN FORRESTER to bring explosive blues-rock to stages across Europe. On the back of KRIS POHLMANN’s latest album release\, ‘Relentless’\, this exciting new live-collaboration promises to deliver everything you’d expect and more from two guitarists\, who were schooled in the classics of the genre\, with the likes of Freddie King\, Free\, Gary Moore & ZZ Top influencing both musicians.\nWith BEN FORRESTER joining KRIS POHLMANN & his band on tour\, the new extended line up will explore all facets of blues-rock\, pushing the boundaries into album-oriented & classic rock as well as softer heartfelt ballads.\nRenowned for his high energy and endlessly entertaining shows\, KRIS POHLMANN has built up a loyal fan base across Europe. Now\, with BEN FORRESTER added to the mix\, it’s guaranteed to be electrifying.\nJonas Bareiter: Bass & Backing Vocals\nRoman Midleja: Drums & Backing Vocals.
URL:https://www.reigen.at/event/kris-pohlmann/
LOCATION:REIGEN LIVE\, Hadikgasse 62\, Wien\, 1140\, Österreich
ATTACH;FMTTYPE=image/jpeg:https://www.reigen.at/wp-content/uploads/2025/02/Kris-Pohlmann-Live-credit-John-Bull.jpg
END:VEVENT
END:VCALENDAR