BEGIN:VCALENDAR
VERSION:2.0
PRODID:-//reigen.at - ECPv6.0.12//NONSGML v1.0//EN
CALSCALE:GREGORIAN
METHOD:PUBLISH
X-WR-CALNAME:reigen.at
X-ORIGINAL-URL:https://www.reigen.at
X-WR-CALDESC:Veranstaltungen für reigen.at
REFRESH-INTERVAL;VALUE=DURATION:PT1H
X-Robots-Tag:noindex
X-PUBLISHED-TTL:PT1H
BEGIN:VTIMEZONE
TZID:Europe/Berlin
BEGIN:DAYLIGHT
TZOFFSETFROM:+0100
TZOFFSETTO:+0200
TZNAME:CEST
DTSTART:20260329T010000
END:DAYLIGHT
BEGIN:STANDARD
TZOFFSETFROM:+0200
TZOFFSETTO:+0100
TZNAME:CET
DTSTART:20261025T010000
END:STANDARD
END:VTIMEZONE
BEGIN:VEVENT
DTSTART;TZID=Europe/Berlin:20260214T203000
DTEND;TZID=Europe/Berlin:20260214T233000
DTSTAMP:20260419T234627
CREATED:20250731T105117Z
LAST-MODIFIED:20260107T121539Z
UID:5641-1771101000-1771111800@www.reigen.at
SUMMARY:The New Ancients special Guest: Fritz Weiss
DESCRIPTION:Wir sind ein Team das zumindest altersmäßig mit den (jetzt wieder in aller Munde) Rolling Stones  mithalten kann. Erfahren aus verschiedenen Bands  gibt es bei uns  Rock\, Blues und Klassiker der 70er  sowie natürlich Songs unserer Altersgenossen zu hören. Eben auch der Stones. Wenn das genau die Musik ist\, die Sie gerne live erleben wollen dann sind Sie bei uns richtig. Sollten Sie aber vorher noch etwas mehr über uns wissen wollen dann bitte nur einen Blick in die Homepage www.newancients.at  werfen und schon geht`s los. Wir freuen uns auf alle Fälle darauf\, für Sie zu spielen.
URL:https://www.reigen.at/event/the-new-ancients-2/
LOCATION:REIGEN LIVE\, Hadikgasse 62\, Wien\, 1140\, Österreich
ATTACH;FMTTYPE=image/jpeg:https://www.reigen.at/wp-content/uploads/2025/07/REIGEN-Plakat-2026.jpg
END:VEVENT
BEGIN:VEVENT
DTSTART;TZID=Europe/Berlin:20260221T203000
DTEND;TZID=Europe/Berlin:20260221T233000
DTSTAMP:20260419T234627
CREATED:20250602T071512Z
LAST-MODIFIED:20260111T120614Z
UID:5323-1771705800-1771716600@www.reigen.at
SUMMARY:Carl Sentance support: Black Tiger
DESCRIPTION:Carl Sentance – Ein außergewöhnlicher Rock-Sänger live mit neuem Album und Klassikern von Nazareth\nCarl Sentance ist ein renommierter britischer Rocksänger\, bekannt für seine kraftvolle Stimme und seine dynamische Bühnenpräsenz. Geboren am 28. Juni 1961 in Loughborough\, England\, begann Sentance seine musikalische Karriere in den frühen 1980er Jahren als Leadsänger der Band Persian Risk. Größere Bekanntheit erlangte er 2015\, als er der legendären Band Nazareth beitrat und den langjährigen Frontmann Dan McCafferty ersetzte.\nIm Laufe seiner Karriere hat Sentance mit namhaften Künstlern und Bands wie Krokus\, Geezer Butler und Don Aireyzusammengearbeitet und dabei seine Vielseitigkeit in verschiedenen Rockgenres unter Beweis gestellt. Seine umfassende Karriere zeichnet sich durch eine leidenschaftliche Hingabe zur Musik und eine beeindruckende Fähigkeit aus\, das Publikum mit elektrisierenden Auftritten zu begeistern.\nCarl Sentance wird sein neues Album „Silent Angels“ vorstellen und gleichzeitig einige Klassiker von Nazarethpräsentieren. Mit seiner kraftvollen Stimme und seiner charismatischen Bühnenpräsenz ist er seit 2015 der Leadsänger von Nazareth. Sein bevorstehendes Konzert verspricht eine dynamische Mischung aus frischem Material und beliebten Klassikern von Nazareth – eine einzigartige Verbindung aus Vergangenheit und Gegenwart der Rockmusik. \nsupport: Black Tiger – only one AOR / melodic rock band from Czech Republic. Produced by Mario Percudani – direttore Modern Music Institute Lodi\, Piacenza e Pavia. They played as a support for House Of Lords\, Pretty Maids or Michael Schenker before. \n \n 
URL:https://www.reigen.at/event/carl-sentance-2/
LOCATION:REIGEN LIVE\, Hadikgasse 62\, Wien\, 1140\, Österreich
ATTACH;FMTTYPE=image/jpeg:https://www.reigen.at/wp-content/uploads/2024/09/Carl_Sentance.jpg
END:VEVENT
BEGIN:VEVENT
DTSTART;TZID=Europe/Berlin:20260225T203000
DTEND;TZID=Europe/Berlin:20260225T233000
DTSTAMP:20260419T234627
CREATED:20250416T172529Z
LAST-MODIFIED:20260222T014918Z
UID:5217-1772051400-1772062200@www.reigen.at
SUMMARY:BONESHAKERS (USA)
DESCRIPTION:New album Live To Be This now out on Gulf Coast Records. Billboard Top 10 Blues Chart. IBBA Pick of the Month (UK). Order Today! One Foot In the Groove- #1 on US Soul Blues Radio Charts & #1 on UK Blues Radio Charts\nWammie Winners: Best Funk/Blues Album\, Best Funk/Blues Artist\nFeatured in Guitar World Magazine\nThe iconic band lead by world-renowned guitarist Randy Jacobs of Was (Not Was). The Boneshakers and members have toured and recorded with Bonnie Raitt\, BB King\, Buddy Guy\, Seal\, Keb Mo\, Aretha Franklin\, Elton John\, Mindi Abair\, Bootsy Collins\, Tears 4 Fears\, Bob Dylan\, Stevie Wonder\, Iggy Pop…just to name a few. A stirring blend of Detroit soul with Muscle Shoals-style R&B on full display every show. \n \n 
URL:https://www.reigen.at/event/boneshakers-usa/
LOCATION:REIGEN LIVE\, Hadikgasse 62\, Wien\, 1140\, Österreich
ATTACH;FMTTYPE=image/jpeg:https://www.reigen.at/wp-content/uploads/2025/04/Boneshakers.jpg
END:VEVENT
END:VCALENDAR