BEGIN:VCALENDAR
VERSION:2.0
PRODID:-//reigen.at - ECPv6.0.12//NONSGML v1.0//EN
CALSCALE:GREGORIAN
METHOD:PUBLISH
X-WR-CALNAME:reigen.at
X-ORIGINAL-URL:https://www.reigen.at
X-WR-CALDESC:Veranstaltungen für reigen.at
REFRESH-INTERVAL;VALUE=DURATION:PT1H
X-Robots-Tag:noindex
X-PUBLISHED-TTL:PT1H
BEGIN:VTIMEZONE
TZID:Europe/Berlin
BEGIN:DAYLIGHT
TZOFFSETFROM:+0100
TZOFFSETTO:+0200
TZNAME:CEST
DTSTART:20260329T010000
END:DAYLIGHT
BEGIN:STANDARD
TZOFFSETFROM:+0200
TZOFFSETTO:+0100
TZNAME:CET
DTSTART:20261025T010000
END:STANDARD
END:VTIMEZONE
BEGIN:VEVENT
DTSTART;TZID=Europe/Berlin:20260502T203000
DTEND;TZID=Europe/Berlin:20260502T233000
DTSTAMP:20260420T114540
CREATED:20251204T215538Z
LAST-MODIFIED:20260102T222358Z
UID:6024-1777753800-1777764600@www.reigen.at
SUMMARY:Cradle Collective
DESCRIPTION:Cradle Collective ist eine Blues/Rock-Band aus Graz\, gegründet 2016 von Florian Trummer\, Egon Marbler und Claus Konrad. Der Bandname „Cradle“ – englisch für Ursprung – steht für die musikalischen Wurzeln der Band im Blues\, Rock und Pop. Ihr Sound ist ehrlich\, handgemacht und direkt\, getragen von eigenen Songs und einem starken Live-Groove. \nNach der EP Blue Mood (2018) erschien 2019 das Debütalbum Timeless Future\, produziert von Kurt Keinrath. Es folgten zahlreiche Konzerte und Festivalauftritte\, unter anderem beim Most & Jazz Festival und der Jazzliebe. Mit Day & Night (2022) erweiterte die Band ihre stilistische Bandbreite. \nZum 10-jährigen Bandjubiläum veröffentlicht Cradle Collective das neue Studioalbum City of Blues\, welches beim Vienna Blues Spring im Wiener REIGEN präsentiert wird\, auf BLIND ROPE RECORDS. In einem kompromisslosen One-Take-Recording live im Studio eingespielt\, kehrt die Band zurück zu ihren musikalischen Anfängen: dem Blues – roh\, ehrlich und unmittelbar. Mit dabei sind Kurt Keinrath sowie der international renommierte Bluesman „Sir“ Oliver Mally. \nFlorian Trummer – Guitar & Vocals\nEgon Marbler – Bass\nClaus Konrad – Drums \n 
URL:https://www.reigen.at/event/cradle-collective/
LOCATION:REIGEN LIVE\, Hadikgasse 62\, Wien\, 1140\, Österreich
ATTACH;FMTTYPE=image/jpeg:https://www.reigen.at/wp-content/uploads/2025/12/CC-Bandfoto_small_Credits_-Simon-Schwaerzer.jpg
END:VEVENT
BEGIN:VEVENT
DTSTART;TZID=Europe/Berlin:20260505T203000
DTEND;TZID=Europe/Berlin:20260505T233000
DTSTAMP:20260420T114540
CREATED:20251026T111906Z
LAST-MODIFIED:20260125T210134Z
UID:5971-1778013000-1778023800@www.reigen.at
SUMMARY:Jonah Smith
DESCRIPTION:Jonah Smith is a critically acclaimed singer-songwriter based in Los Angeles. His music ranges over his twenty-year career from soul-jazz to folk and Americana and he moves effortlessly on stage between keyboards and guitar. Smith’s vocals are soulful\, bringing to mind Steve Winwood and even Ray Charles\, but his songs are crafted stories with lineage traced back to his love of Bob Dylan and Paul Simon. Jonah has appeared at Bonnaroo and other festivals\, and has been an opening act and guest singer with artists such as Los Lobos\, Little Feat\, Taj Mahal\, Madeline Peyroux and many others.\n\n\n\n  \n 
URL:https://www.reigen.at/event/jonah-smith/
LOCATION:REIGEN LIVE\, Hadikgasse 62\, Wien\, 1140\, Österreich
ATTACH;FMTTYPE=image/jpeg:https://www.reigen.at/wp-content/uploads/2025/10/yonah-smith.jpg
END:VEVENT
BEGIN:VEVENT
DTSTART;TZID=Europe/Berlin:20260506T203000
DTEND;TZID=Europe/Berlin:20260506T233000
DTSTAMP:20260420T114540
CREATED:20251209T151351Z
LAST-MODIFIED:20260109T204111Z
UID:6034-1778099400-1778110200@www.reigen.at
SUMMARY:The Cold Stares
DESCRIPTION:Nun schlägt die Band eine ganz neue Art von Chemie an\, wenn sie ihr nächstes Kapitel aufschlägt\, indem sie ein drittes Mitglied hinzufügt und den klassischen Power-Trio-Sound\, mit dem sie aufgewachsen ist\, mit ihrem explosiven neuen Album „Voices“ wieder aufleben lässt. \n„Als wir dieses Album aufnahmen\, waren die Ketten gelöst“\, sagt Gitarrist und Sänger Chris Tapp. „Plötzlich verschwanden alle Parameter\, die uns vorschrieben\, was wir tun konnten und was nicht\, und wir waren frei\, den Sound zu kreieren\, den wir wollten. „Dieses Gefühl der totalen künstlerischen Befreiung ist das Herzstück von „Voices“\, das die für The Cold Stares typische Mischung aus Blues\, Southern und Hard Rock zu neuen Höhen treibt. Das Album wurde fast vollständig in nur zwei Tagen mit Produzent/Engineer/Mixer Mark Needham (Taj Mahal\, The Killers\, Imagine Dragons\, Walk the Moon\, Fleetwood Mac) aufgenommen wurde\, ist das Album die bisher reifste und vielseitigste Sammlung der Band\, die gleichermaßen kraftvoll und gefühlvoll ist. \nEs wäre für Tapp und Schlagzeuger Brian Mullins ein Leichtes gewesen\, einfach die Lautstärke zu erhöhen\, aber stattdessen nutzen sie die Ankunft von Bassist Bryce Klueh\, indem sie ihren Ansatz nuancierter und abenteuerlicher gestalten und einen rohen\, ungeschminkten Sound schaffen\, der sich gleichzeitig altmodisch und modern anfühlt. Alles zusammengenommen ergibt eine mutige\, filmische Platte\, die ebenso ehrlich wie berauschend ist\, eine hochoktanige Dosis unverfälschten Rock’n’Rolls\, der sich an alles von Cream bis Led Zeppelin\, die mit Liebe und Verlust\, Sünde und Erlösung\, Hoffnung und Reue abrechnet. \n  \n\n\n\nlinkwww.thecoldstares.com\n\n\n\n\n\n \n\nTickets zur Abholung reservieren\n\n\n\n Pflichtfeld Anzahl der Tickets*  \n Vorname  \n Pflichtfeld Name*  \n Pflichtfeld E-Mail*  \n Ihre Nachricht  \n\n\n\n\n\n  \n\n\n\n\nZurück zum Programm \n\n\n\n 
URL:https://www.reigen.at/event/the-cold-stars/
LOCATION:REIGEN LIVE\, Hadikgasse 62\, Wien\, 1140\, Österreich
ATTACH;FMTTYPE=image/jpeg:https://www.reigen.at/wp-content/uploads/2025/12/the_cold_stares_001_copyright_manny_manson.jpg
END:VEVENT
BEGIN:VEVENT
DTSTART;TZID=Europe/Berlin:20260507T203000
DTEND;TZID=Europe/Berlin:20260507T233000
DTSTAMP:20260420T114540
CREATED:20251004T235348Z
LAST-MODIFIED:20260201T201425Z
UID:5919-1778185800-1778196600@www.reigen.at
SUMMARY:Amanda
DESCRIPTION:Das Orgelintro von Maximilian Mitterwallner setzt ein\, sphärischer Gesang gesellt sich hinzu\, doch bevor die älteren Semester an Eela Craig denken\, springt Klaus Meissnitzers Gitarre mit einer David-Gilmour-Sequenz ein\, gleich darauf groovend mitgetragen von Michael Meissnitzers Bass und dem Schlagzeug Herbert Adelwöhrers. Pink Floyd der „Dark Side“- bzw. „Wish You Were Here“-Arä schimmern ebenso durch wie Erinnerungen an Keith Emerson\, Rick Wakeman\, Jimmy Page oder Jethro Tull. Die poetischen Dialekt-Texte offenbaren\, dass das Klangkollektiv von Amanda nicht aus britischen\, sondern heimischen Gefilden stammt. Dicht instrumentiert\, akzentuiert von den Vocals\, die weit mehr als bloße Textvermittlung sind\, vielmehr integraler Bestandteil der Gesamtatmosphäre des Amanda-Sounds. Ein Sound\, der unerschrocken in der Progrockgeschichte wildert\, ohne Rücksicht auf Kommerz oder gar Hitparade. Da stemmen sich vier junge Musiker doch glatt gegen den Zeitstrom und tun ausschließlich das\, was ihnen selbst gefällt\, mit schweren Grooves\, luftig ziselierten Einschüben und elegischen Soli. Perfekte Harmonie im Bandgefüge\, blindes Einverständnis. Dass die Musik von Amanda besonders live ihren vollen Druck entwickelt\, liegt in der Natur der Sache und hat über die Jahre in unzähligen Konzerten diesen Beweis eindrucksvoll erbracht. \n 
URL:https://www.reigen.at/event/amanda/
ATTACH;FMTTYPE=image/jpeg:https://www.reigen.at/wp-content/uploads/2025/10/amanda_002_copyright_dietmar-hoscher-scaled.jpg
END:VEVENT
BEGIN:VEVENT
DTSTART;TZID=Europe/Berlin:20260508T203000
DTEND;TZID=Europe/Berlin:20260508T203000
DTSTAMP:20260420T114540
CREATED:20250426T114917Z
LAST-MODIFIED:20251203T210420Z
UID:5240-1778272200-1778272200@www.reigen.at
SUMMARY:Henrik Freischlader Band
DESCRIPTION:Henrik Freischlader gilt bis heute als Geheimtipp für alle\, die noch nie von ihm gehört haben. Der deutsche Gitarrist und Sänger teilte die Bühnen mit B.B. King\, Gary Moore\, Peter Green\, Johnny Winter\, Joe Bonamassa und der Tedeschi Trucks Band und ist nach zahlreichen europaweiten Tourneen aus der internationaen Bluesszene nicht mehr wegzudenken. Sein virtuoses und leidenschaftliches Gitarrenspiel\, seine raue markante Stimme und ein Gespür für gute Grooves haben über die Jahre seinen unverwechselbaren Stil geprägt. 11 Studioalben und 7 Livealben hat der Multiinstrumentalist seit 2006 veröffentlicht\, und es ist fast immer ein neues Album auf seinem Label Cable Car Records in Planung.  Mit seiner eingespielten Band geht es auch 2025 wieder auf Tour. KEEP PLAYING ist das Motto\, unter dem jedes Konzert zu einem einzigartigen und besonderen Erlebnis wird\, denn jeder Abend ist anders – es wird improvisiert\, frei gejammt\, und auch die Setliste wird regelmäßig erweitert. \n„Viel besser kann man handgemachten und musikalisch virtuosen Bluesrock kaum zelebrieren. … Für mich das Konzert des Jahres und der abermalige Beweis\, dass die Magie eines Livekonzertes in kleineren Clubs durch nichts zu ersetzen ist.“ (Chris Strieder\, Darkstars.de) \n \n  \n  \n 
URL:https://www.reigen.at/event/henrik-freischlader-band-2/
LOCATION:REIGEN LIVE\, Hadikgasse 62\, Wien\, 1140\, Österreich
ATTACH;FMTTYPE=image/jpeg:https://www.reigen.at/wp-content/uploads/2023/03/Freischlader.jpg
END:VEVENT
BEGIN:VEVENT
DTSTART;TZID=Europe/Berlin:20260509T203000
DTEND;TZID=Europe/Berlin:20260509T233000
DTSTAMP:20260420T114540
CREATED:20260211T232118Z
LAST-MODIFIED:20260211T233302Z
UID:6407-1778358600-1778369400@www.reigen.at
SUMMARY:Blues Jam Band - Ungarn
DESCRIPTION:Auf dem Programm: eine musikalische Reise durch die Welt des Blues und verwandter Gospel-\, Country- und Jazzmusik von den 1930er Jahren bis heute … vom Mississippi-Delta bis Chicago … unter anderem Fred McDowell\, Robert Johnson\, Muddy Waters\, Eric Clapton\, J.J. Cale\, Bob Seger\, Otis Redding\, Pink Floyd\, The Doobie Brothers…..Akustische Instrumente: Resonator\, Akustikgitarren\, Saxophon\, Klarinette\, Mundharmonika\, E-Gitarren\, Klavier\, Hammond – Orgelklang. .. \nIldikó Csombor – Gesang\, Gábor Kiss – Gesang\, Tibor Horváth – Gitarren\, Mundharmonika\, Dénes Varga -Keyboard Krisztián Keresztesi – Gitarre\, Tibor Moldvai – Saxophon\, Klarinette\, Gergely Kusztor – Bassgitarre\, Bernát Varga – Schlagzeug \n 
URL:https://www.reigen.at/event/blues-jam-band-ungarn-3/
LOCATION:REIGEN LIVE\, Hadikgasse 62\, Wien\, 1140\, Österreich
ATTACH;FMTTYPE=image/jpeg:https://www.reigen.at/wp-content/uploads/2025/09/Blues-Jam-Band.jpg
END:VEVENT
BEGIN:VEVENT
DTSTART;TZID=Europe/Berlin:20260513T203000
DTEND;TZID=Europe/Berlin:20260513T233000
DTSTAMP:20260420T114540
CREATED:20251003T181131Z
LAST-MODIFIED:20251226T113736Z
UID:5917-1778704200-1778715000@www.reigen.at
SUMMARY:Blau AG & Katie Kern Doppelkonzert
DESCRIPTION:Doppelkonzert Katie Kern und Blau AG\nZwischen Sehnsucht und Ironie\, Weltschmerz und Galgenhumor bewegen sich die Texte der Wiener Gitarristin und Liedermacherin Katie Kern.\nMit der Unterstützung von Paul Reschenhofer (Git.) erzählt Katie von stilistischer Vielfalt geprägte musikalische Geschichten und hält dabei die Balance zwischen interessanten Arrangements und verspielter Improvisation. \n\n\nBlau AG\nMit dem Blues als Motor\, dem Wiener Schmäh als Sprit und sechs Alben im Kofferraum ist die Blau AG unterwegs\, um die Frohe Botschaft des ‚Wiener Blues ‚ zu verbreiten. Zu hören gibt’s Lieder von ihrem im Herbst 2024 veröffentlichten Album ‚Schädlweh‘\, aber auch einige überraschende alte und neue Songs.
URL:https://www.reigen.at/event/blau-ag-2/
LOCATION:REIGEN LIVE\, Hadikgasse 62\, Wien\, 1140\, Österreich
ATTACH;FMTTYPE=image/jpeg:https://www.reigen.at/wp-content/uploads/2025/10/blau-ag_tisch_rgb.jpg
END:VEVENT
BEGIN:VEVENT
DTSTART;TZID=Europe/Berlin:20260515T203000
DTEND;TZID=Europe/Berlin:20260515T233000
DTSTAMP:20260420T114540
CREATED:20250718T070243Z
LAST-MODIFIED:20250721T075001Z
UID:5553-1778877000-1778887800@www.reigen.at
SUMMARY:DICK TAYLOR  (Pretty Things)  & TALLYMAN
DESCRIPTION:DICK TAYLOR\, in den Sixties erster Bassist der Rolling Stones\, um dann etwas später\nals Gitarrist zusammen mit Sänger PHIL MAY (†2020) die PRETTY THINGS an den Start zu\nbringen.\nErst 2018\, beim Final Bow Concert in der Londoner Indigo/O2 Arena endete die Story einer\nder rauesten und prägendsten Bands des britischen RnB\, respektvoll supported von\nMusikstars wie Pink Floyd’s David Gilmour sowie Van Morrison.\n2024 Kooperation von DICK TAYLOR mit der engagierten\, authentischen deutschen Band\nTALLYMAN um Ex-Wallenstein JUERGEN PLUTA.\nVor allem das frühe Songbook der Pretty Things wird live performed\, von Rosalyn über\nMidnight to Six Man bis hin zu L.S.D.\, sukzessive um spätere Werke der PRETTIES erweitert.\nIci DICK TAYLOR sera accompagne par l’excellent groupe allemande TALLYMAN!\nSo die Vorankündigung zum Konzert in der Kultlocation Spirit Of 66 im belgischen Verviers.\nMehr Wertschätzung geht eigentlich nicht! \nDICK TAYLOR (gt) &\nAndy Jähne (dr)\, Klaus Tinteloa (bs)\, Shorty Franzen (sax/fl/perc/vc)\,\nHauke Schlüter (gt/vc)\, Markus Doms (gt)\, Juergen Pluta (keys/vc) \n 
URL:https://www.reigen.at/event/tallyman-dick-taylor-pretty-things/
LOCATION:REIGEN LIVE\, Hadikgasse 62\, Wien\, 1140\, Österreich
ATTACH;FMTTYPE=image/png:https://www.reigen.at/wp-content/uploads/2025/07/Dick-Taylor.png
END:VEVENT
BEGIN:VEVENT
DTSTART;TZID=Europe/Berlin:20260516T180000
DTEND;TZID=Europe/Berlin:20260516T233000
DTSTAMP:20260420T114540
CREATED:20250718T070423Z
LAST-MODIFIED:20250718T070423Z
UID:5555-1778954400-1778974200@www.reigen.at
SUMMARY:Privatveranstaltung
DESCRIPTION:
URL:https://www.reigen.at/event/privatveranstaltung-12/
LOCATION:REIGEN LIVE\, Hadikgasse 62\, Wien\, 1140\, Österreich
END:VEVENT
BEGIN:VEVENT
DTSTART;TZID=Europe/Berlin:20260519T203000
DTEND;TZID=Europe/Berlin:20260519T233000
DTSTAMP:20260420T114540
CREATED:20250411T142708Z
LAST-MODIFIED:20260112T002000Z
UID:5186-1779222600-1779233400@www.reigen.at
SUMMARY:SEAN WEBSTER
DESCRIPTION:Einst brachte die British Blues Invasion in den 1960ern den Blues zurück in die Staaten. Danach wurde es auf der Insel etwas stiller um dieses Genre. Doch in den letzten Jahren wenden sich wieder verstärkt britische Musikerinnen und Musiker dem Bluesrock zu. Ein „Veteran“ in dieser Hinsicht ist Sean Webster\, der mit seiner Band bereits mehr als zwei Jahrzehnte den weltumspannenden Bluescircuit „unsicher“ macht. \nWebster überzeugt dabei mit gediegener Gitarrenarbeit ebenso wie mit seiner markanten Stimme. Seine Inspirationsquellen sind die drei Könige des Blues. B.B.\, Albert und Freddie ebenso wie Gary Moore\, Robert Cray oder vor allem Eric Clapton. Song und Melodie stehen bei Webster im Zentrum\, auch soulige Momente darf man erwarten. Stilistische Einordnungen spielen für ihn keine Rolle\, weder richtet er sein Augenmerk ausschließlich auf Historisches\, noch biedert er sich irgendwelchen Zeittrends an. Nachzuhören etwa auf dem erstklassigen Live-Album „Three Nights Live“\, welches kurz vor der Pandemie an drei Abenden eingespielt wurde. Doch Tonträger hin\, Tonträger her\, Sean Webster selbst auf der Bühne zu sehen\, das ist „the real blues deal“. \n 
URL:https://www.reigen.at/event/sean-webster/
LOCATION:REIGEN LIVE\, Hadikgasse 62\, Wien\, 1140\, Österreich
ATTACH;FMTTYPE=image/jpeg:https://www.reigen.at/wp-content/uploads/2025/04/Sean_Webster_001_copyright_Nicki_Vinall.jpg
END:VEVENT
BEGIN:VEVENT
DTSTART;TZID=Europe/Berlin:20260520T203000
DTEND;TZID=Europe/Berlin:20260520T233000
DTSTAMP:20260420T114540
CREATED:20251130T003152Z
LAST-MODIFIED:20251217T193459Z
UID:6007-1779309000-1779319800@www.reigen.at
SUMMARY:Rudi Biber
DESCRIPTION:Rudi Biber steht für feinsten Contemporary Blues Musik wie sie sein soll-live\,ehrlich\,erdig und vom Herzen kommend \nEinfach unvergesslich \nSein neuestes Werk „Still Going Strong“ ist kein Album\, das Trends bedienen will. \nEs ist vielmehr das musikalische Statement eines Künstlers\, der seinen Weg kennt und ihn konsequent geht. \nHome
URL:https://www.reigen.at/event/rudi-biber-2/
LOCATION:REIGEN LIVE\, Hadikgasse 62\, Wien\, 1140\, Österreich
ATTACH;FMTTYPE=image/jpeg:https://www.reigen.at/wp-content/uploads/2025/11/biber-26.jpeg
END:VEVENT
BEGIN:VEVENT
DTSTART;TZID=Europe/Berlin:20260521T203000
DTEND;TZID=Europe/Berlin:20260521T233000
DTSTAMP:20260420T114540
CREATED:20250702T225022Z
LAST-MODIFIED:20251220T212250Z
UID:5490-1779395400-1779406200@www.reigen.at
SUMMARY:Last House (USA)
DESCRIPTION:Last House is where soul meets swagger—a powerhouse ensemble blending roots rock\, blues grit\, and a touch of vintage Vegas charm. At lead vocals is Jeanette Jurado\, the platinum-selling voice behind Exposé\, bringing unparalleled vocal strength and emotional depth to every performance. She’s joined by the magnetic twin talents Rashell and Laura Coates\, whose harmonies add richness and fire to the band’s dynamic sound. Backed by a lineup of arena-tested musicians\, Last House doesn’t just play music—they craft stories you can dance to.
URL:https://www.reigen.at/event/last-house-usa/
LOCATION:REIGEN LIVE\, Hadikgasse 62\, Wien\, 1140\, Österreich
ATTACH;FMTTYPE=image/jpeg:https://www.reigen.at/wp-content/uploads/2025/07/LAST-HOUSE-PROMO-PIC-1.jpeg
END:VEVENT
BEGIN:VEVENT
DTSTART;TZID=Europe/Berlin:20260522T203000
DTEND;TZID=Europe/Berlin:20260522T233000
DTSTAMP:20260420T114540
CREATED:20250622T083000Z
LAST-MODIFIED:20260112T005843Z
UID:5401-1779481800-1779492600@www.reigen.at
SUMMARY:Ellis Manu Band
DESCRIPTION:Im Programm hat die ELLIS MANO BAND neben Kostproben vom aktuellen Tonträger zudem Lieder ihrer vorangegangenen Werke. Dazu gehört der Publikumsfavorit „A Lifetime“. Er ist bekannt aus ihrem vom „Rockpalast“ mitgeschnittenen und auf 3sat ausgestrahlten sowie bei YouTube verfügbaren Konzert. Dieses wurde kurz nach der Veröffentlichung des hochgelobten Albums „Live: Access All Areas“ aufgezeichnet. Bezeichnend\, was dazu im britischen Online-Portal Great Music Stories steht: „…in dieser Welt brauchen wir tatsächlich Bands\, die uns daran erinnern\, worum es bei dem Kunststück namens ‚gute Musik‘ geht. Wir brauchen keine Rockgötter mehr\, sondern großartige Musiker – Menschen\, deren Berufung die Kunst der qualitativen Musik ist\, die gut gespielt wird. Willkommen in der Welt der Musik der Ellis Mano Band – und ihrem fesselnden Klanguniversum!“ \nLukas Bosshardt – Keys\nNico Looser – Drums                                                                                                                              Chris Ellis – Vocals\nEdis Mano – Guitars\nSeverin Graf – Bass \n \n 
URL:https://www.reigen.at/event/ellis-manu-band/
LOCATION:REIGEN LIVE\, Hadikgasse 62\, Wien\, 1140\, Österreich
ATTACH;FMTTYPE=image/jpeg:https://www.reigen.at/wp-content/uploads/2024/07/ELLIS_MANO_BAND_Looser-Bosshardt-Mano-Ellis-Graf_Credit-Tabea-Hueberli.jpg
END:VEVENT
BEGIN:VEVENT
DTSTART;TZID=Europe/Berlin:20260523T203000
DTEND;TZID=Europe/Berlin:20260523T233000
DTSTAMP:20260420T114540
CREATED:20251004T235716Z
LAST-MODIFIED:20260122T102122Z
UID:5921-1779568200-1779579000@www.reigen.at
SUMMARY:Moritz Gamper  supp. Somerset Barnard
DESCRIPTION:Der Südtiroler Musiker Moritz Gamper bringt knapp 2 Jahre nach seinem Solo – Debut Sketches Of Imagination & Beyond – nun ein zweites Album auf den Markt. Für dessen offizielle Präsentation beim Vienna Blues Spring im Reigen hat er sich eine hochkarätige Live – Band mit MusikerInnen aus Südtirol\, aber auch Österreich und anderen Ländern zusammengestellt. Diese haben Gamper auch bei der Kreation seiner neuen Platte verholfen\, welche einmal mehr im Zeichen der Acoustic Blues steht\, aber musikalisch auch in terra incognita vordringt: Man freue sich auf ein buntes Konzert mit mehrsprachigen Songs\, Ausflüge in den Jazz und der Gipsy Musik\, vorgetragen von einmaligen KünstlerInnen. \nBesetzung: Gesang\, Gitarre\, Kontrabass\, Blues Harp\, Trompete\, Flügelhorn\, Akkordeon. \nSupport: Somerset Barnard (AUS) – Solo Acoustic
URL:https://www.reigen.at/event/moritz-gamper/
ATTACH;FMTTYPE=image/jpeg:https://www.reigen.at/wp-content/uploads/2025/10/Moritz-Gamper-c-Christophe-Losberger-1.jpg
END:VEVENT
BEGIN:VEVENT
DTSTART;TZID=Europe/Berlin:20260526T203000
DTEND;TZID=Europe/Berlin:20260526T233000
DTSTAMP:20260420T114540
CREATED:20260106T153255Z
LAST-MODIFIED:20260201T151838Z
UID:6227-1779827400-1779838200@www.reigen.at
SUMMARY:Paul Quinn  (Saxon) & Harrison Young (Doro)
DESCRIPTION:Paul Anthony Quinn (born December 26\, 1951\, in Barnsley) is a renowned English guitarist\, best known as a founding member\, songwriter\, and guitarist for the heavy metal band Saxon. As one of the original members\, he has appeared on every Saxon album. Quinn also plays in a blues-rock trio called The Cards \nEin intimer Abend mit Saxon-Songs und weiteren Klassikern in einem Akustik-Duo mit Harrison Young\, inklusive Storytelling\, Anekdoten und einer Q&A-Session. \nPaul Quinn ist einer der Architekten der New Wave of British Heavy Metal und prägt seit 1977 den typischen Sound von Saxon. Harrison Young ist ein Multi-Instrumentalist und Sänger\, bekannt durch seine Arbeit mit U.D.O.\, Doro sowie durch seine vielseitigen Solo-Projekte. \n  \n \n 
URL:https://www.reigen.at/event/paul-quinn-saxon-harrison-young-doro/
LOCATION:REIGEN LIVE\, Hadikgasse 62\, Wien\, 1140\, Österreich
ATTACH;FMTTYPE=image/jpeg:https://www.reigen.at/wp-content/uploads/2026/01/Paul-Quinn.jpg
END:VEVENT
BEGIN:VEVENT
DTSTART;TZID=Europe/Berlin:20260527T223000
DTEND;TZID=Europe/Berlin:20260527T233000
DTSTAMP:20260420T114540
CREATED:20260112T002943Z
LAST-MODIFIED:20260112T003833Z
UID:6267-1779921000-1779924600@www.reigen.at
SUMMARY:Tom Müller Band feat. Lilli Kern
DESCRIPTION:An diesem Abend heizt die Tom Mueller Band gemeinsam mit der großartigen Lilli Kern im Reigen ein. Freut euch auf mitreißenden Swing\, Rhythm & Blues und Jump Blues der 40er- und 50er-Jahre – perfekt um die Tanzschuhe auszupacken. \nLadies and Gentlemen: bring your dancing shoes and let the good times roll! \nLilli Kern (Vocals) | Tom Mueller (Sax\, Vocals) | Valentin Oman (Piano) | Thomas Milacher (Double Bass) | Thomas Froschauer(Drums)
URL:https://www.reigen.at/event/tom-mueller-band-feat-lilli-kern/
LOCATION:REIGEN LIVE\, Hadikgasse 62\, Wien\, 1140\, Österreich
ATTACH;FMTTYPE=image/png:https://www.reigen.at/wp-content/uploads/2026/01/lilli_kern_peter_mueller_001_copyright_own.png
END:VEVENT
BEGIN:VEVENT
DTSTART;TZID=Europe/Berlin:20260528T203000
DTEND;TZID=Europe/Berlin:20260528T233000
DTSTAMP:20260420T114540
CREATED:20251128T102015Z
LAST-MODIFIED:20251128T102138Z
UID:6003-1780000200-1780011000@www.reigen.at
SUMMARY:Backyard – Lords Of Music
DESCRIPTION:Backyard – Lords Of Music ist eine Coverband deren Ursprünge im Jahr 1990 liegen und die seit Oktober 2022 wieder aktiv ist. \nDie Aufführungen stehen stets unter einem anderen Thema. Dabei werden Juwelen der populären Musik mit kleinen Geschichten kombiniert und passendem Bühnenbild präsentiert. Die Show am 28.05.2026 im Reigen Live wird den Titel ROYAL FLUSH tragen und ist Teil einer Tour\, die 5 Shows auf 5 verschiedenen Bühnen umfasst.\nAls Special Guests erwarten wir den Bläsersatz (2 x Sax\, 1 x Trompete) der jungen aufstrebenden Funk- und Soul-Band Majestätsbedarf.
URL:https://www.reigen.at/event/backyard-lords-of-music/
LOCATION:REIGEN LIVE\, Hadikgasse 62\, Wien\, 1140\, Österreich
ATTACH;FMTTYPE=image/jpeg:https://www.reigen.at/wp-content/uploads/2025/11/backyard-lords-of-music.jpg
END:VEVENT
BEGIN:VEVENT
DTSTART;TZID=Europe/Berlin:20260529T203000
DTEND;TZID=Europe/Berlin:20260529T233000
DTSTAMP:20260420T114540
CREATED:20250710T163330Z
LAST-MODIFIED:20260126T215854Z
UID:5524-1780086600-1780097400@www.reigen.at
SUMMARY:Jo Aldinger's Downbeatclub
DESCRIPTION:„Das Trio – bestehend aus E-Gitarre\, Hammondorgel und Schlagzeug – beeindruckte mit einer energetischen Performance\, bei der Genregrenzen spielerisch durchbrochen wurden. Besonders hervorzuheben war das Zusammenspiel der Musiker: Während das wuchtige Schlagzeug rhythmisch vorantrieb\, legte die Hammondorgel mit souligen Akkorden und virtuosen Improvisationen ein klangliches Fundament\, das von der E-Gitarre mit expressiven Soli durchbrochen wurde.\nMit einer Mischung aus Funk\, Groove und jazziger Experimentierfreude zeigte der Downbeatclub\, dass moderner Jazz nicht nur anspruchsvoll\, sondern auch überaus unterhaltsam sein kann. Ein Abend\, der in Erinnerung bleibt – nicht nur für eingefleischte Jazzfans.“ \nKonni Behrendt – guitar\nJo Aldinger – hammond organ / keys\nClaas Lausen – drums \n 
URL:https://www.reigen.at/event/jo-aldingers-downbeatclub/
LOCATION:REIGEN LIVE\, Hadikgasse 62\, Wien\, 1140\, Österreich
ATTACH;FMTTYPE=image/jpeg:https://www.reigen.at/wp-content/uploads/2025/07/Jo_Aldingers_Downbeatclub_Foto_Harry_101.jpg
END:VEVENT
BEGIN:VEVENT
DTSTART;TZID=Europe/Berlin:20260530T203000
DTEND;TZID=Europe/Berlin:20260530T233000
DTSTAMP:20260420T114540
CREATED:20250825T172702Z
LAST-MODIFIED:20260312T232427Z
UID:5770-1780173000-1780183800@www.reigen.at
SUMMARY:SISTAS -  Neues Album: "forward to the roots"
DESCRIPTION:Das lange Warten der Fans hat sich gelohnt! SISTAS – forward to the roots 2026\nWas vor zwei Jahrzehnten als musikalische Seelenverwandtschaft begann\, hat die Zeit überdauert. Getrennte Wege und persönliche Entwicklung haben die Voraussetzungen für einen vertieften gemeinsamen Sound geschaffen. Heute verbinden sich die individuellen Stimmen der SISTAS Meena Cryle (Vocals\, Guitar\, Percussion)\, Anja Wiesinger (Vocals\, Percussion) und Mary Broadcast (Vocals\, Guitar\, Ukulele\, Percussion) zu einem leidenschaftlichen Erlebnis für Soul und Blues. Gemeinsam mit Andrea Fränzel (Double Bass\, Bass)\, Dani Schölm (Piano\, Organ) und Melissa Jank (Drums\, Percussion) malt die Frauenband ein virtuoses Klangbild voller Authentizität\, Ehrlichkeit und Emotion.  Der musikalischen Wiedervereinigung setzen die SISTAS 2026 mit dem Album „forward to the roots“ ein\nzeitloses Statement. \n  \n \n  \n 
URL:https://www.reigen.at/event/sistas-das-comeback-einer-legende/
LOCATION:REIGEN LIVE\, Hadikgasse 62\, Wien\, 1140\, Österreich
ATTACH;FMTTYPE=image/jpeg:https://www.reigen.at/wp-content/uploads/2025/08/sistas-scaled.jpg
END:VEVENT
END:VCALENDAR