BEGIN:VCALENDAR
VERSION:2.0
PRODID:-//reigen.at - ECPv6.0.12//NONSGML v1.0//EN
CALSCALE:GREGORIAN
METHOD:PUBLISH
X-WR-CALNAME:reigen.at
X-ORIGINAL-URL:https://www.reigen.at
X-WR-CALDESC:Veranstaltungen für reigen.at
REFRESH-INTERVAL;VALUE=DURATION:PT1H
X-Robots-Tag:noindex
X-PUBLISHED-TTL:PT1H
BEGIN:VTIMEZONE
TZID:Europe/Berlin
BEGIN:DAYLIGHT
TZOFFSETFROM:+0100
TZOFFSETTO:+0200
TZNAME:CEST
DTSTART:20260329T010000
END:DAYLIGHT
BEGIN:STANDARD
TZOFFSETFROM:+0200
TZOFFSETTO:+0100
TZNAME:CET
DTSTART:20261025T010000
END:STANDARD
END:VTIMEZONE
BEGIN:VEVENT
DTSTART;TZID=Europe/Berlin:20261003T203000
DTEND;TZID=Europe/Berlin:20261003T233000
DTSTAMP:20260420T192354
CREATED:20260301T193733Z
LAST-MODIFIED:20260404T083146Z
UID:6435-1791059400-1791070200@www.reigen.at
SUMMARY:Joey Green & The RayVille Big Band
DESCRIPTION:Großartige Neuigkeiten für 2026!\n RayVille freut sich riesig\, den Zuwachs von drei fantastisch talentierten Sängerinnen in der Big Band bekannt geben zu dürfen: Renate Reich\, Dorothea Jaburek\, und Daisy Hearts werden ihr Debüt mit der RayVille Big Band am Samstag\, dem 3. Oktober\, im Reigen-Live geben.\nIm Namen der gesamten Band sind wir „außer uns vor Freude“\, die „Ladies“ bei uns willkommen zu heißen.\nDarüber hinaus freuen wir uns darauf\, unseren gemeinsamen musikalischen Horizont durch die Aufnahme dieser fabelhaften Sängerinnen in die RayVille-Familie noch weiter zu erweitern.\n„Washington’s Town“ ist die jüngste Eigenveröffentlichung der RayVille Big Band. Sie wurde am 24. Januar dieses Jahres live in „Die Bühne“ in Purkersdorf aufgenommen. Vor dem Hintergrund wachsender Angst und Ignoranz in den Vereinigten Staaten ist „Washington’s Town“ ein eindringlicher Appell an all jene\, die Gleichheit\, Gerechtigkeit\, Wissen und Freiheit hochhalten.\nSeit 2015 begeistert die 18-köpfige RayVille Big Band das Wiener Publikum im Casanova\, im ORF Radio Kulturhaus\, auf der Bühne\, im Reigen\, im Porgy & Bess und im Metropol mit authentischen\, kraftvollen Tributen die legendäre Ray Charles. Ray Charles‘ Einfluss auf die Popmusik auf unzähligen Platten von Künstlern aus den frühen Jahrzehnten des Blues\, Jazz\, R&B und Soul hörbar.  RayVille erweitert außerdem seinen stetig wachsenden Katalog erfrischender\, authentischer Big-Band-Titel – darunter viele Eigenkompositionen von Joey Green und dem Posaunisten und Bandleader Alex Lag.\nFreuen Sie sich auf zeitlose Klassiker der genannten Künstler\, interpretiert von einigen der talentiertesten und Von seinen Anfängen bis zu seiner Zusammenarbeit mit dem Count Basie Orchestra ist Ray Charles‘ Einfluss auf die Popmusik auf unzähligen Platten von Künstlern aus den frühen Jahrzehnten des Blues\, Jazz\, R&B und Soul hörbar.  RayVille erweitert außerdem seinen stetig wachsenden Katalog erfrischender\, authentischer Big-Band-Titel – darunter viele Eigenkompositionen von Joey Green und dem Posaunisten und Bandleader Alex Lag.\nwww.rayVillebigband.com
URL:https://www.reigen.at/event/joey-green/
ATTACH;FMTTYPE=image/jpeg:https://www.reigen.at/wp-content/uploads/2023/03/Rayville.jpg
END:VEVENT
BEGIN:VEVENT
DTSTART;TZID=Europe/Berlin:20261006T203000
DTEND;TZID=Europe/Berlin:20261006T233000
DTSTAMP:20260420T192354
CREATED:20260323T204649Z
LAST-MODIFIED:20260323T204649Z
UID:6543-1791318600-1791329400@www.reigen.at
SUMMARY:Freedom Hawk (USA)
DESCRIPTION:
URL:https://www.reigen.at/event/freedom-hawk-usa/
LOCATION:REIGEN LIVE\, Hadikgasse 62\, Wien\, 1140\, Österreich
END:VEVENT
BEGIN:VEVENT
DTSTART;TZID=Europe/Berlin:20261007T203000
DTEND;TZID=Europe/Berlin:20261007T233000
DTSTAMP:20260420T192354
CREATED:20260119T234228Z
LAST-MODIFIED:20260129T100527Z
UID:6291-1791405000-1791415800@www.reigen.at
SUMMARY:Krissy Mathews Band
DESCRIPTION:
URL:https://www.reigen.at/event/krissy-mathews-band-2/
LOCATION:REIGEN LIVE\, Hadikgasse 62\, Wien\, 1140\, Österreich
END:VEVENT
BEGIN:VEVENT
DTSTART;TZID=Europe/Berlin:20261009T203000
DTEND;TZID=Europe/Berlin:20261009T233000
DTSTAMP:20260420T192354
CREATED:20251007T132042Z
LAST-MODIFIED:20260322T114241Z
UID:5923-1791577800-1791588600@www.reigen.at
SUMMARY:LEELAH SKY & Band
DESCRIPTION:LEELAH SKY  & Band ‘Love Over Time’  Support: KE’REM&YATIKA AURORA \n\n\nLEELAH SKY schafft es spielend erdigen Soul und solidem Pop mit Blues -\, Gospel-und Jazz-Elementen so zu kombinieren\, dass die Frage nach dem Stil obsolet wird. Die Salzburger Sängerin und Pianistin setzt dabei auf powervoll-fragile Stimmakrobatik und dampfende Beats\, auf geschmackvoll arrangierte und eingängige Eigenkompositionen und stellt ein faszinierendes musikalisches Feuerwerk auf die Bühne\, das seinesgleichen sucht.\nAls ‚hitverdächtig‘ wird das eben erschienene 2. Album ‚LOVE OVER TIME‘\, produziert von Mastermind Christian Kolonovits beschrieben\, und von der Fachwelt bereits als ‚durch Qualität\, musikalische Reife und Authentizität\nüberzeugend‘ gelobt. Die Singer Songwriterin mit ukrainischen Wurzeln die u.a. schon mit Bobby McFerrin\, Richard Österreicher und Alexander Goebel zusammenarbeitete\, schreibt hier in einer ungewöhnlichen Klarheit über Themen\, die bewegen und zeigt auch kompositorisch und stilistisch eine große Spannweite\, die ‚ gleichermaßen berührt\, reflektiert und inspiriert‘ (MICA\, 2025).\nNeben ihrer außerordentlichen Musikalität besticht LEELAH SKY auch durch ihren kräftigen Soul-\, R ́ n ́ B- und Blues Gesang\, der in einer überaus gefühlvollen\, subtilen und song-dienlich eingesetzten Vokalästhetik eingebettet ist. Es ist kein Zufall\, dass beim An- und Zuhören Namen wie Christina Aguiliera\, Mariah Carey oder Vanessa Amorosi in den Sinn kommen.\n\nMit ihrer hochkarätig besetzten Band (Thomas Mora – b\, Gerald Gradwohl – git\, Stephan Gleixner – perc\, bvoc\, Christian Zieglwanger -dr) berührt LEELAH SKY live die Zuhörer dort\, wo Musik berühren soll – im Herzen\, und liefert eine ‚mitreißende Show\, die das Publikum von Anfang an fesselt‘ (NÖN\, 2025). \n\n\n\n\nhttps://youtu.be/mGCXm_3dDEI?si=4VWxF6JJkzGYW5xV\n\n\n\n\nhttps://youtu.be/2YOhr5gmdpU?si=8afOHy3NPtQc1rF5
URL:https://www.reigen.at/event/leelah-sky/
LOCATION:REIGEN LIVE\, Hadikgasse 62\, Wien\, 1140\, Österreich
ATTACH;FMTTYPE=image/jpeg:https://www.reigen.at/wp-content/uploads/2025/10/Leelah-Sky-Single-Cover1.jpeg
END:VEVENT
BEGIN:VEVENT
DTSTART;TZID=Europe/Berlin:20261014T203000
DTEND;TZID=Europe/Berlin:20261014T233000
DTSTAMP:20260420T192354
CREATED:20260121T162821Z
LAST-MODIFIED:20260121T162821Z
UID:6302-1792009800-1792020600@www.reigen.at
SUMMARY:Katie Henry
DESCRIPTION:
URL:https://www.reigen.at/event/katie-henry/
LOCATION:REIGEN LIVE\, Hadikgasse 62\, Wien\, 1140\, Österreich
END:VEVENT
BEGIN:VEVENT
DTSTART;TZID=Europe/Berlin:20261015T203000
DTEND;TZID=Europe/Berlin:20261015T233000
DTSTAMP:20260420T192354
CREATED:20260208T132832Z
LAST-MODIFIED:20260208T132832Z
UID:6397-1792096200-1792107000@www.reigen.at
SUMMARY:Vanesa Harbek
DESCRIPTION:
URL:https://www.reigen.at/event/vanesa-harbek/
LOCATION:REIGEN LIVE\, Hadikgasse 62\, Wien\, 1140\, Österreich
END:VEVENT
BEGIN:VEVENT
DTSTART;TZID=Europe/Berlin:20261017T203000
DTEND;TZID=Europe/Berlin:20261017T233000
DTSTAMP:20260420T192354
CREATED:20260116T201122Z
LAST-MODIFIED:20260116T215313Z
UID:6286-1792269000-1792279800@www.reigen.at
SUMMARY:Republic
DESCRIPTION:
URL:https://www.reigen.at/event/republic/
LOCATION:REIGEN LIVE\, Hadikgasse 62\, Wien\, 1140\, Österreich
ATTACH;FMTTYPE=image/jpeg:https://www.reigen.at/wp-content/uploads/2026/01/republik.jpeg
END:VEVENT
BEGIN:VEVENT
DTSTART;TZID=Europe/Berlin:20261021T203000
DTEND;TZID=Europe/Berlin:20261021T233000
DTSTAMP:20260420T192354
CREATED:20260112T011307Z
LAST-MODIFIED:20260112T011730Z
UID:6276-1792614600-1792625400@www.reigen.at
SUMMARY:ERJA LYYTINEN – THE QUEEN OF SLIDE GUITAR
DESCRIPTION:Erja Lyytinen is one of the leading blues-rock guitarists on the international touring circuit. During a recording career spanning more than 20 years\, the High-Flying Finn has released thirteen studio albums as well as several live albums. Lyytinen’s musical pallet is vast\, encompassing the very best of contemporary blues-rock whilst inspired and influenced by the blues greats of yore.Lyytinen is known for her stellar and energetic live performances. Live album ”Diamonds on the Road” (2023) received magnificent reviews from the global music media. She celebrated her 20 year career by releasing the CD/DVD “20 Years of Blues Rock!” that was recorded at the legendary Tavastia Club in Helsinki in 2023. For this spectacular event\, she brought together the rhythm sections from her studio albums to date and other guest artists. Lyytinen has been acknowledged for her work by her fans\, peers\, and the industry alike with a treasure trove of accolades. This includes being ranked #2 on Total Guitar Magazine’s “10 Best Guitarists Now” poll as well as being awarded “Best Guitarist” at the 2017 European Blues Awards. Erja made history by becoming the first Finnish artist to be nominated for the „BB King International Artist of the Year“ at the Maple Blues Awards in Canada in 2022.She has played alongside world-famous guitarists like Carlos Santana\, Sonny Landreth\, and Jennifer Batten.The artist’s last studio album\, “Smell the Roses\,” was released in March 2025 and was ranked #6on the IBBA April Charts in the UK. This riff-heavy laden album has lots of Lyytinen ́s mesmerizing slide and epic solos\, and she is further expanding her repertoire by honouring the hard rock sounds of the ’60s and ’70s. “Smell the Roses” has received praising reviews around the globe and has lifted Lyytinen among the best modern blues/rock artists of our time.“Erja Lyytinen’s one of the best guitarists on the scene at the moment –forget male or female\, forget rock or Blues –just one of the best.” -Music News. „Smell The Roses is her heaviest\, most riff-laden album to date.“ -Guitarist Magazine. \n\n  \n  \n\nhttps://youtu.be/-Kffohn2P-Y?si=Ma_xLtpTRgQFhbjd\n\n\n\n\n\n 
URL:https://www.reigen.at/event/erja-lyytinen-the-queen-of-slide-guitar/
LOCATION:REIGEN LIVE\, Hadikgasse 62\, Wien\, 1140\, Österreich
ATTACH;FMTTYPE=image/png:https://www.reigen.at/wp-content/uploads/2026/01/Erja.png
END:VEVENT
END:VCALENDAR