BEGIN:VCALENDAR
VERSION:2.0
PRODID:-//reigen.at - ECPv6.0.12//NONSGML v1.0//EN
CALSCALE:GREGORIAN
METHOD:PUBLISH
X-ORIGINAL-URL:https://www.reigen.at
X-WR-CALDESC:Veranstaltungen für reigen.at
REFRESH-INTERVAL;VALUE=DURATION:PT1H
X-Robots-Tag:noindex
X-PUBLISHED-TTL:PT1H
BEGIN:VTIMEZONE
TZID:Europe/Berlin
BEGIN:DAYLIGHT
TZOFFSETFROM:+0100
TZOFFSETTO:+0200
TZNAME:CEST
DTSTART:20260329T010000
END:DAYLIGHT
BEGIN:STANDARD
TZOFFSETFROM:+0200
TZOFFSETTO:+0100
TZNAME:CET
DTSTART:20261025T010000
END:STANDARD
BEGIN:DAYLIGHT
TZOFFSETFROM:+0100
TZOFFSETTO:+0200
TZNAME:CEST
DTSTART:20270328T010000
END:DAYLIGHT
BEGIN:STANDARD
TZOFFSETFROM:+0200
TZOFFSETTO:+0100
TZNAME:CET
DTSTART:20271031T010000
END:STANDARD
END:VTIMEZONE
BEGIN:VEVENT
DTSTART;TZID=Europe/Berlin:20261104T203000
DTEND;TZID=Europe/Berlin:20261104T233000
DTSTAMP:20260420T211115
CREATED:20251210T155226Z
LAST-MODIFIED:20251210T155646Z
UID:6050-1793824200-1793835000@www.reigen.at
SUMMARY:Patrik Jansson Band
DESCRIPTION:
URL:https://www.reigen.at/event/patrik-jansson-band-2/
END:VEVENT
BEGIN:VEVENT
DTSTART;TZID=Europe/Berlin:20261105T203000
DTEND;TZID=Europe/Berlin:20261105T233000
DTSTAMP:20260420T211115
CREATED:20250906T180449Z
LAST-MODIFIED:20260210T105046Z
UID:5787-1793910600-1793921400@www.reigen.at
SUMMARY:Gram Parsons Tribute
DESCRIPTION:“Cosmic American Music“ nannte Gram Parsons seine Version von Country\, Westcoast\, Rock’n’Roll und sämtlichen musikalischen Schattierungen dazwischen. Mit den Byrds und den Flying Burrito Brothers ging er auf Country-Rock Trip\, holte Emmylou Harris ins Americana-Spotlight und inspirierte die Stones zu „Wild Horses“. \n1973\, im Alter von 26 Jahren war Grams irdische Reise zu Ende. Seine „Cosmic American Music“ aber lebt bis heute weiter. Anlässlich seines 80. Geburtstags erinnert die heimische Americana-Community musikalisch an diesen Ausnahmekünstler der Rockgeschichte. \nDie Mitwirkenden: \nHerby Dunkel: Vocals\, Gitarre \nInga Lynch: Vocals \nDominik Plangger\, Vocals\, Gitarre \nJanne Kliegl: Vocals \nRobert Tauber: Vocals\, Gitarre \nClaudia Fenzl: Geige \nHelmut Mitteregger: Mandoline\, Gitarre \nMäx Mayerhofer: Pedal Steel \nRob Niedl: Drums \nRoman Kovacs: Bass \nBen Brokke: Keyboards \nAlex Gantz: Gitarre
URL:https://www.reigen.at/event/gram-parsons-tribute-res/
ATTACH;FMTTYPE=image/jpeg:https://www.reigen.at/wp-content/uploads/2025/09/Gram-Parsons-REIGEN.jpg
END:VEVENT
BEGIN:VEVENT
DTSTART;TZID=Europe/Berlin:20261107T080000
DTEND;TZID=Europe/Berlin:20261107T170000
DTSTAMP:20260420T211115
CREATED:20251206T101328Z
LAST-MODIFIED:20251206T101328Z
UID:6029-1794038400-1794070800@www.reigen.at
SUMMARY:Classic Rock Project
DESCRIPTION:
URL:https://www.reigen.at/event/classic-rock-project/
END:VEVENT
BEGIN:VEVENT
DTSTART;TZID=Europe/Berlin:20261110T203000
DTEND;TZID=Europe/Berlin:20261110T233000
DTSTAMP:20260420T211115
CREATED:20260409T122613Z
LAST-MODIFIED:20260409T125355Z
UID:6597-1794342600-1794353400@www.reigen.at
SUMMARY:Eric Johanson (US/Full Band)
DESCRIPTION:Eric Johanson is not your typical rock or blues artist. His music strikes a compelling balance between gritty rock intensity and deep blues emotion\, delivering a sound that feels both raw and refreshingly original. Johanson’s skillful guitar playing and distinctive voice form a captivating blend that is drawing increasing attention from audiences and critics alike. His newest album\, The Deep And The Dirty (2023)\, continues to make waves\, debuting at #1 on the Billboard Blues Chart. Since its release\, Johanson has been on a whirlwind tour\, hitting stages across the US and Europe in over ten countries. The buzz around him is real—he was named one of Guitar Player magazine’s 25 best new blues guitarists and earned a spot in Total Guitar magazine’s Top 50 blues guitarists of all time. Industry veterans have also taken notice\, with Bob Lefsetz remarking\, “It’s like he digested all the music of the sixties – just like those musicians listened to the progenitors – and kept the flame a-burnin’. This guy has a place in the firmament.”  Born and raised in Louisiana\, Johanson’s roots run deep in the blues and rock traditions. His early years were spent performing at local venues and leading underground rock bands. After experimenting with his style\, and a stint living overseas\, Johanson returned to New Orleans and quickly became a sought after guitarist\, blending his southern roots with a forward-thinking approach. \nIt wasn’t long before his unique style caught the eye of blues luminary Tab Benoit. Benoit signed Johanson to his new Whiskey Bayou record label\, producing Johanson’s debut solo record\, Burn It Down (2017). The album established Johanson as a skilled guitarist with a deep connection to blues traditions\, yet also someone unafraid to push boundaries. The two embarked on a two-year tour\, with Benoit himself playing drums in Johanson’s band during his opening sets. Johanson’s sound soon gained the attention of Luther Dickinson (North Mississippi Allstars)\, who produced Johanson’s sophomore album\, Below Sea Level (2020). The album marked a creative leap for Johanson\, combining raw\, emotional songwriting with heavier guitar tones and darker\, more introspective themes. For his most recent album\, The Deep And The Dirty\, Johanson teamed up with producer Jesse Dayton\, crafting what many critics are calling his strongest work yet. The album’s raw\, powerful sound and masterful guitar playing are further illuminated by meaningful and catchy songwriting. As American Songwriter put it\, “Johanson pens solid material that\, like Hendrix\, displays his guitar prowess but within the borders of melodies and lyrics that push the boundaries of blues/rock.” \n  \n  \n \n 
URL:https://www.reigen.at/event/eric-johanson-us-full-band/
LOCATION:REIGEN LIVE\, Hadikgasse 62\, Wien\, 1140\, Österreich
ATTACH;FMTTYPE=image/jpeg:https://www.reigen.at/wp-content/uploads/2026/04/Eric-Johanson-IMG_2158.jpg
END:VEVENT
BEGIN:VEVENT
DTSTART;TZID=Europe/Berlin:20261112T203000
DTEND;TZID=Europe/Berlin:20261112T233000
DTSTAMP:20260420T211115
CREATED:20251210T154842Z
LAST-MODIFIED:20251211T090430Z
UID:6046-1794515400-1794526200@www.reigen.at
SUMMARY:Julijan Eric "Jimi Hendrix Tribute"
DESCRIPTION:
URL:https://www.reigen.at/event/julijan-eric/
END:VEVENT
BEGIN:VEVENT
DTSTART;TZID=Europe/Berlin:20261113T233000
DTEND;TZID=Europe/Berlin:20261113T233000
DTSTAMP:20260420T211115
CREATED:20251031T161824Z
LAST-MODIFIED:20260327T005629Z
UID:5982-1794612600-1794612600@www.reigen.at
SUMMARY:DANIELLE NICOLE BAND (US | Bluesrock)
DESCRIPTION:“That girl gets down to the nitty gritty.” Koko Taylor  \nDanielle Nicole\, Sängerin\, Bassistin und Songwriterin aus Kansas City\, Missouri\, hat ihr Leben damit verbracht\, Musik zu machen und Fans im In- und Ausland zu begeistern. Nicole wurde zunächst von ihren Eltern beeinflusst\, die in Bands spielten und in der Musikszene von Kansas City tätig waren. Sie erinnert sich daran\, wie ihr Vater Bluesgitarre spielte und ihre Mutter mit der Gruppe Little Eva and The Works sang\, und das war der Auslöser. Zusammen mit ihren beiden Brüdern Nick und Kris gründete sie die „Heavy Blues”-Band Trampled Under Foot\, die zunächst im Mittleren Westen populär wurde und dann über 10 Jahre lang weltweit für Furore sorgte. An Lob mangelt es nicht: Guitar World schrieb: „Danielle Nicole hat sich mit ihrem gefühlvollen\, einfallsreichen Spiel und ihrer unermüdlichen Arbeitsmoral den Respekt und die Bewunderung der gesamten amerikanischen Blues-Szene verdient.“ Das Blues Music Magazine schwärmte: „Nicole bringt es\, backt es und serviert es glühend heiß auf einem silbernen Soul-Rock-Teller.“ Der Kansas City Star erklärte: „Blues- und Soul-Sängerinnen werden mit zunehmendem Alter oft besser. Bettye LaVette gehört zu den Künstlerinnen\, die mit zunehmender Reife immer glaubwürdiger wurden. Danielle Nicole scheint in ihre Fußstapfen zu treten.“ \nDanielle begann ihre Solokarriere mit Wolf Den (2015)\, das Platz 2 der Billboard Blues Charts erreichte und 7\,5 Millionen Streams auf Spotify erzielte. Es folgte Cry No More (2018)\, das für einen Grammy in der Kategorie Contemporary Blues nominiert wurde und auf Platz 1 der Billboard Blues Charts debütierte – außerdem kann es über 10 Millionen Streams auf Spotify vorweisen. The Love You Bleed (2024) hat in weniger als einem Jahr seit seiner Veröffentlichung bei Forty Below Records über 1\,2 Millionen Streams erzielt. Mit acht Blues Music Awards für Bassistin und zeitgenössische Künstlerin des Jahres in ihrer Karriere hat sich Danielle Nicole gerade erst warmgelaufen.
URL:https://www.reigen.at/event/danielle-nicole-band-us-bluesrock/
ATTACH;FMTTYPE=image/jpeg:https://www.reigen.at/wp-content/uploads/2025/10/Danielle_Niocle_Promo_Photo.jpg
END:VEVENT
BEGIN:VEVENT
DTSTART;TZID=Europe/Berlin:20261114T203000
DTEND;TZID=Europe/Berlin:20261114T233000
DTSTAMP:20260420T211115
CREATED:20260312T142103Z
LAST-MODIFIED:20260314T100136Z
UID:6471-1794688200-1794699000@www.reigen.at
SUMMARY:ASHLEY SHERLOCK (UK) - high-energy blues-rock
DESCRIPTION:Fronted by UK powerhouse guitarist and songwriter Ashley Sherlock\, the Ashley Sherlock Band delivers high-energy blues-rock with a modern edge and a deep respect for the genre’s roots. Think blistering guitar work\, soulful vocals\, and a band that knows exactly when to hit hard AND when to let a groove breathe.\nAshley Sherlock first gained attention in the UK blues scene as a teenage guitar prodigy\, but it’s his songwriting and commanding live presence that set the band apart today. Sherlock gained wider international attention after joining the *Ruf Records Blues Caravan*\, touring extensively and cementing his status as one of the most exciting young voices in contemporary blues-rock. Drawing influence from classic blues and rock while keeping both feet firmly in the present\, the band bridges generations with ease\, equally at home in intimate clubs and on festival stages.\nLive\, the Ashley Sherlock Band is all about connection and momentum. No backing tracks\, no gimmicks\, just tight musicianship\, good energy\, and songs that stick long after the last note rings out. Their shows are dynamic\, emotional\, and unapologetically loud when they need to be.
URL:https://www.reigen.at/event/ashley-sherlock-uk/
LOCATION:REIGEN LIVE\, Hadikgasse 62\, Wien\, 1140\, Österreich
ATTACH;FMTTYPE=image/jpeg:https://www.reigen.at/wp-content/uploads/2026/03/Ashley-Sherlock.jpeg
END:VEVENT
BEGIN:VEVENT
DTSTART;TZID=Europe/Berlin:20261117T203000
DTEND;TZID=Europe/Berlin:20261117T233000
DTSTAMP:20260420T211115
CREATED:20251210T155749Z
LAST-MODIFIED:20251210T155749Z
UID:6052-1794947400-1794958200@www.reigen.at
SUMMARY:Dudley Taft
DESCRIPTION:
URL:https://www.reigen.at/event/dudley-taft/
END:VEVENT
BEGIN:VEVENT
DTSTART;TZID=Europe/Berlin:20261118T203000
DTEND;TZID=Europe/Berlin:20261118T233000
DTSTAMP:20260420T211115
CREATED:20260402T165949Z
LAST-MODIFIED:20260402T170839Z
UID:6562-1795033800-1795044600@www.reigen.at
SUMMARY:MAXIE FREEMAN BAND
DESCRIPTION:Maxie Freeman is a legend in the blues scene of Stockholm\, Sweden\, all-round awesome dude\, and undeniably great guitar player with a burning passion for life and music and a musical repertoire that spans from down home style delta grooves to high octane funk\, via a large portion Chicago roar and motown beats. He is known for his trademark extended solos that range from a whisper to full on primal screams\, taking the crowd to a frenzy\, all the time on the edge. Influences  include Muddy Waters\, Jimi Hendrix and Hound Dog Taylor among others.\n\n\n*Discography:*\nMaxie FreeMan EP „No Illusions 2“ available on Spotify\nSiena Root Live Album „Root Jam“\nRobert Athill Album „Biding my time“\nNga Han Album „The Living stream“
URL:https://www.reigen.at/event/maxie-freeman-band/
LOCATION:REIGEN LIVE\, Hadikgasse 62\, Wien\, 1140\, Österreich
END:VEVENT
BEGIN:VEVENT
DTSTART;TZID=Europe/Berlin:20261119T223000
DTEND;TZID=Europe/Berlin:20261119T233000
DTSTAMP:20260420T211115
CREATED:20260130T212620Z
LAST-MODIFIED:20260201T154817Z
UID:6334-1795127400-1795131000@www.reigen.at
SUMMARY:Gerald Gradwohl Group
DESCRIPTION:„High energy Jazzrock“ ist das Motto der GG Group\, die durch stilistische Vielfalt glänzt und ein kreatives Feuerwerk an musikalischen Ideen präsentiert.\nDas weite Spektrum basiert auf moderner Jazzharmonik und ist durch Einflüsseaus Funk\, Blues und Metal geprägt. Dynamische Eigenkompositionen\, ob komponiert oder improvisiert\, werden in den Themen und ausführlichen\nsolistischen Beiträgen mit einer großen Portion Power und Energie versehen – spannende Musik die nicht nur Hörer aus dem Jazz- und Fusion-Lager zum aktiven\, mitfiebernden Zuhören verführt.\nDiese Energie brachte der GG Group auch eine Nominierung zum besten Live Act in Österreich ein: www.jazzpreis.at.\nDas aktuelle Album „ … Or What?“ featured mit Adam Nitti\, Kirk Covington\, Bill Evans\, Gergo Borlai die Crème de la Crème der Fusion Szene und zeigt Gerald’s Stellenwert in dieser!                                                                                             Thomas Kugi – sax I Harry Tanschek – dr I Gerald Gradwoh – git l I Juraj Griglak – b \n 
URL:https://www.reigen.at/event/gerald-gradwohl-group-3/
LOCATION:REIGEN LIVE\, Hadikgasse 62\, Wien\, 1140\, Österreich
ATTACH;FMTTYPE=image/jpeg:https://www.reigen.at/wp-content/uploads/2026/01/GGG.jpeg
END:VEVENT
BEGIN:VEVENT
DTSTART;TZID=Europe/Berlin:20261120T203000
DTEND;TZID=Europe/Berlin:20261120T233000
DTSTAMP:20260420T211115
CREATED:20260404T103240Z
LAST-MODIFIED:20260404T103240Z
UID:6582-1795206600-1795217400@www.reigen.at
SUMMARY:Rootsmusic from Southern Africa
DESCRIPTION:
URL:https://www.reigen.at/event/rootsmusic-from-southern-africa-2/
END:VEVENT
BEGIN:VEVENT
DTSTART;TZID=Europe/Berlin:20261121T203000
DTEND;TZID=Europe/Berlin:20261121T233000
DTSTAMP:20260420T211115
CREATED:20251126T222202Z
LAST-MODIFIED:20260316T105513Z
UID:6001-1795293000-1795303800@www.reigen.at
SUMMARY:Sari Schorr - Running Wild European Tour
DESCRIPTION:Sari Schorr returns to Europe this fall with the Running Wild European Tour\, following the #1 Billboard Blues Chart success of Joyful Sky\, her collaboration with Robin Trower. The tour precedes the September release of Schorr’s new studio album Running Wild. “Schorr is an absolute knockout!” — Robin Trower\nWith Running Wild\, Schorr expands her sound while staying rooted in the blues-rock grit that defines her work. Soul and blues textures run through powerful guitar-driven\narrangements that broaden the music’s scope while retaining the classic songcraft at the heart of her writing. The album explores themes of freedom\, reckoning\, and selfdetermination — not as slogans\, but as lived experience. Running Wild marks Schorr’s most ambitious studio work to date.\nSchorr explains: “With this new repertoire\, it became a mission to create a body of work that feels fully realized — rooted in soul and grit while opening a wider space for artistic freedom.” Schorr has built her international following the traditional way: onstage\, through relentless touring and emotionally charged performances that build from intimate intensity into commanding crescendos. Her electrifying performances have taken her to stages including Carnegie Hall\, the Montreux Jazz Festival\, and WDR Rockpalast.\nFor longtime listeners\, Running Wild represents an expansion of Schorr’s musical reach. For new audiences\, it offers a powerful first encounter: direct\, fearless\, and unconcerned with trends. This fall\, the Running Wild European Tour brings Schorr’s powerful live show to audiences across Europe.\nSari Schorr – vocals\nAsh Wilson – Guitar\nRuss Parker – Drums\nCarl Stanbrige – Bass\nBennett Holland – Keyboards
URL:https://www.reigen.at/event/sari-schorr-2/
LOCATION:REIGEN LIVE\, Hadikgasse 62\, Wien\, 1140\, Österreich
ATTACH;FMTTYPE=image/jpeg:https://www.reigen.at/wp-content/uploads/2025/11/SARI-_SCHORR_by_Michel-Petit-WEB.jpg
END:VEVENT
BEGIN:VEVENT
DTSTART;TZID=Europe/Berlin:20261124T203000
DTEND;TZID=Europe/Berlin:20261124T233000
DTSTAMP:20260420T211115
CREATED:20260130T212150Z
LAST-MODIFIED:20260130T212150Z
UID:6332-1795552200-1795563000@www.reigen.at
SUMMARY:GREG BLACK
DESCRIPTION:
URL:https://www.reigen.at/event/greg-black/
LOCATION:REIGEN LIVE\, Hadikgasse 62\, Wien\, 1140\, Österreich
END:VEVENT
BEGIN:VEVENT
DTSTART;TZID=Europe/Berlin:20261125T203000
DTEND;TZID=Europe/Berlin:20271125T233000
DTSTAMP:20260420T211115
CREATED:20251229T003922Z
LAST-MODIFIED:20260409T083701Z
UID:6202-1795638600-1827185400@www.reigen.at
SUMMARY:Atomic Rooster
DESCRIPTION:
URL:https://www.reigen.at/event/atomic-rooster-4/
END:VEVENT
BEGIN:VEVENT
DTSTART;TZID=Europe/Berlin:20261126T180000
DTEND;TZID=Europe/Berlin:20261126T233000
DTSTAMP:20260420T211115
CREATED:20260406T100814Z
LAST-MODIFIED:20260406T100938Z
UID:6589-1795716000-1795735800@www.reigen.at
SUMMARY:Reserviert
DESCRIPTION:
URL:https://www.reigen.at/event/reserviert-7/
LOCATION:REIGEN LIVE\, Hadikgasse 62\, Wien\, 1140\, Österreich
END:VEVENT
BEGIN:VEVENT
DTSTART;TZID=Europe/Berlin:20261127T203000
DTEND;TZID=Europe/Berlin:20261127T233000
DTSTAMP:20260420T211115
CREATED:20260312T140017Z
LAST-MODIFIED:20260312T140653Z
UID:6468-1795811400-1795822200@www.reigen.at
SUMMARY:Soundstairs
DESCRIPTION:Die Musik fetzt\, die Musik groovt! „Soundstairs“ bieten einen virtuosen und stimmungsvollen Mix aus Pop\, Jazz\, Soul\, Funk und Fusion. Die Songs gehen ins Ohr\, die Bläsersätze liefern zusätzlichen Punch und bieten einen reizvollen Kontrast zu den souligen Vocals der Sängerin. Mastermind von „Soundstairs“ ist der Gitarrist Stefan Wagner\, der auch alle Songs für die Band schreibt – Songs die international auch ihren Weg ins Radio finden! Die Musik von „Soundstairs“ hört man in den USA und Westeuropa auf zahlreichen Sendern! Live brechen die Musiker von „Soundstairs“ die radiotauglichen Arrangements auch immer wieder auf und lassen ihren solistischen Ambitionen freien Lauf!\nSophie Schollum – vocals\nStefan Wagner – guitar\nGeorg Barnert – sax\nJohannes Probst – trumpet\nKarel Eriksson – trombone\nChristian “Gigi” Skokan – keyboards\nGerhard Burda – bass\nHans Nemetz – drums\nwww.soundstairs.com
URL:https://www.reigen.at/event/soundstairs-3/
ATTACH;FMTTYPE=image/png:https://www.reigen.at/wp-content/uploads/2026/03/Soundstairs-2026-mit-Sophie.png
END:VEVENT
BEGIN:VEVENT
DTSTART;TZID=Europe/Berlin:20261128T203000
DTEND;TZID=Europe/Berlin:20261128T233000
DTSTAMP:20260420T211115
CREATED:20260313T083247Z
LAST-MODIFIED:20260313T083247Z
UID:6474-1795897800-1795908600@www.reigen.at
SUMMARY:VIENNA SÜNDIKATE
DESCRIPTION:
URL:https://www.reigen.at/event/vienna-suendikate/
LOCATION:REIGEN LIVE\, Hadikgasse 62\, Wien\, 1140\, Österreich
END:VEVENT
END:VCALENDAR