BEGIN:VCALENDAR
VERSION:2.0
PRODID:-//reigen.at - ECPv6.0.12//NONSGML v1.0//EN
CALSCALE:GREGORIAN
METHOD:PUBLISH
X-ORIGINAL-URL:https://www.reigen.at
X-WR-CALDESC:Veranstaltungen für reigen.at
REFRESH-INTERVAL;VALUE=DURATION:PT1H
X-Robots-Tag:noindex
X-PUBLISHED-TTL:PT1H
BEGIN:VTIMEZONE
TZID:Europe/Berlin
BEGIN:DAYLIGHT
TZOFFSETFROM:+0100
TZOFFSETTO:+0200
TZNAME:CEST
DTSTART:20260329T010000
END:DAYLIGHT
BEGIN:STANDARD
TZOFFSETFROM:+0200
TZOFFSETTO:+0100
TZNAME:CET
DTSTART:20261025T010000
END:STANDARD
END:VTIMEZONE
BEGIN:VEVENT
DTSTART;TZID=Europe/Berlin:20260421T203000
DTEND;TZID=Europe/Berlin:20260421T233000
DTSTAMP:20260420T123704
CREATED:20251022T184122Z
LAST-MODIFIED:20251217T014725Z
UID:5964-1776803400-1776814200@www.reigen.at
SUMMARY:Neil Black
DESCRIPTION:Neal Black\, Sohn einer deutschen Mutter und eines indianischen Vaters aus Alabama\, verbrachte die meiste Zeit seines Lebens in Texas. In der dortigen Bluesszene ist er bekannt geworden als der Musiker\, der regelmäßig die Konzerte von Stevie Ray Vaughn\, The Fabulous Thunderbirds\, Omar & The Howlers u.v.a. eröffnete. \nZitat aus dem Rolling Stone: „Neal Black ist einer der wichtigsten Blues Musiker und einer der besten neuen Musiker der letzten 10 Jahre aus Texas. Er hat seinen ureigensten Gitarren-Stil entwickelt und seine Stimme klingt wie eine Mischung aus Tom Waits und Howling Wolf.“ \nNeal Black hat den Blues gelebt. Es ist nichts\, was er aus einem Video Clip oder aus einem Buch gelernt hat\, es sind wahre Geschichten des Lebens\, seine Geschichten. Neal verbrachte harte Zeiten in Texas\, wo er mit dem Gesetz in Konflikt geriet\, einsame Zeiten in New York\, Heimweh in Mexico… \nNeal Black singt den Blues mit einer Stimme\, die irgendwo zwischen Tom Waits und Howling Wolf angesiedelt ist nach einer Stange Zigaretten. Sein Gesang ist getönt mit dunkler Wut und süßer Melancholie getränkt in „smoking guitarwork that burns like a Tequila Sunrise“. Seine Texte kratzen an der Seele und berühren dich tief. Dies auch wieder zu hören auf seinem neuestem Album.
URL:https://www.reigen.at/event/neil-black/
ATTACH;FMTTYPE=image/jpeg:https://www.reigen.at/wp-content/uploads/2025/10/neal_black_001_copyright_dietmar_hoscher-e7bd0aa0.jpg
END:VEVENT
BEGIN:VEVENT
DTSTART;TZID=Europe/Berlin:20260422T203000
DTEND;TZID=Europe/Berlin:20260422T233000
DTSTAMP:20260420T123704
CREATED:20250604T113842Z
LAST-MODIFIED:20260419T170650Z
UID:5339-1776889800-1776900600@www.reigen.at
SUMMARY:Paul Childers & The Makers  "Wanna Be Famous Tour 2026." 
DESCRIPTION:Nashville-based singer-songwriter Paul Childers is a leading force in the modern guitar movement. Blending virtuosic skill with the blues-rooted souls of Hendrix and SRV\, Childers crafts infectious pop anthems infused with R&B\, jazz\, and soul. From his 2017 Billboard debut\, Naked Poetry\, to opening for legends like Vince Gill and Robert Cray\, Childers has earned a reputation for his dual nature: a mild-mannered gentleman off-stage who transforms into a „guitar-slinging virtuoso“ the moment the lights hit. \nSince first crossing the Atlantic in 2019\, Childers and his band\, The Makers\, have built a dedicated European following through relentless touring: \n\n2019–2023: Established a foothold in the UK and mainland Europe with the This Is All We Have Now and Love Again tours.\n2024: Expanded into Poland and Italy with the successful 17-date Feeling Alright run.\n2025: Set a new milestone with the Time Flies tour\, a record-breaking 21-show European leg followed by a massive US run including a performance at the legendary Woodstock.\n\nSpring 2026 marks a bold new chapter with the release of Paul’s fourth studio album\, „Everything Computer.“ The record propels his R&B-driven sound into the digital age\, offering a sharp\, soulful commentary on the modern music industry and the nuances of „social“ media. \nTo celebrate the release\, Paul Childers & The Makers return to Europe for the „Wanna Be Famous Tour 2026.“   New for 2026: We are thrilled to welcome guitarist Kor Nelis to the lineup. Expect an elevated level of „guitar madness“ as the band expands its sonic footprint for their most ambitious live show yet. \n  \n  \n \n  \n 
URL:https://www.reigen.at/event/reserviert-9/
ATTACH;FMTTYPE=image/jpeg:https://www.reigen.at/wp-content/uploads/2025/06/PC-The-makers-2.jpg
END:VEVENT
BEGIN:VEVENT
DTSTART;TZID=Europe/Berlin:20260423T193000
DTEND;TZID=Europe/Berlin:20260423T233000
DTSTAMP:20260420T123704
CREATED:20250411T142910Z
LAST-MODIFIED:20251230T111719Z
UID:5188-1776972600-1776987000@www.reigen.at
SUMMARY:Philip Gerber & BLUEDÖG
DESCRIPTION:DER SOLOTHURNER BLUESHEXENMEISTER PHILIPP BLUEDÖG GERBER HAT SICH VOLL UND GANZ DEN BLUENOTES VERSCHRIEBEN. UNZÄHLIGE PROJEKTE UND BANDS\, WIE DIE HARDCORE BLUESBAND ODER DÖGZ\, AUFNAHMEN UND JAMS GEHEN AUF SEIN KONTO. EIN UNERMÜDLICHER KÄMPFER FÜR DEN BLUES. \nDIE MAGIE ENTSTEHT IM KLEINEN. EINE BLUESROCK BAND IST DIE PERFEKTE PLATTFORM UM MAGIE ZU ERZEUGEN.  \nGUITAR / VOCALS PHILIPP BLUEDÖG GERBER \nBASS YVES HORISBERGER \nDRUM ETIENNE ISSARTEL \nKEYS BRIGITTE GEISER \n  \n​
URL:https://www.reigen.at/event/phillip-gerber/
LOCATION:REIGEN LIVE\, Hadikgasse 62\, Wien\, 1140\, Österreich
ATTACH;FMTTYPE=image/jpeg:https://www.reigen.at/wp-content/uploads/2025/04/Philip-Gerber.jpg
END:VEVENT
BEGIN:VEVENT
DTSTART;TZID=Europe/Berlin:20260424T203000
DTEND;TZID=Europe/Berlin:20260424T233000
DTSTAMP:20260420T123704
CREATED:20250710T093433Z
LAST-MODIFIED:20250828T083801Z
UID:5522-1777062600-1777073400@www.reigen.at
SUMMARY:Tünde Jakab & Band
DESCRIPTION:Ein Jahr nach ihrem erfolgreichen Debüt kehrt die Künstlerin nach Reigen zurück. 2025 feierte sie die Musik ihres zweiten Albums „Enigma”. In diesem Jahr präsentiert Tünde Jakab zusammen mit ihrer phänomenalen Band eine Auswahl der besten Songs ihrer beiden Alben „The Love Revolution” und „Enigma” und gibt einen Vorgeschmack auf ihr geplantes drittes Album. Ohne zu viel zu verraten\, können sich die Zuhörer:innen auf den charakteristischen glamourösen Pop mit jazzigen und bluesigen Klängen freuen. An Unterhaltung wird es an diesem Abend nicht mangeln\, denn viele von Tündes Songs sind unter höchst ungewöhnlichen Lebensumständen entstanden\, die sie gerne mit dem Publikum teilt. \nTünde Jakab wird von der Presse für ihre sinnliche Stimme und ihre Fähigkeit\, das Publikum zu fesseln\, gelobt. Im Mittelpunkt von Tündes Musik steht eine Künstlerin\, deren Lieder ein lebendiges Bild von einer Liebe zeichnen\, für die es sich zu kämpfen lohnt. Ihre Musik ist eine perfekte Mischung aus eingängigen Melodien\, gefühlvollem Gesang\, ansteckenden Rhythmen und nachvollziehbaren\, klugen Texten. In ihrer Band sind Thomas Hechenberger an der Gitarre\, Valentin Oman am Keyboard\, Thomas Mora am Bass und Wolfgang Luckner am Schlagzeug zu hören. Im Laufe des Abends dürfen Sie sich auf einige Überraschungen freuen. \nFotocredit: Tonband Media \n \n 
URL:https://www.reigen.at/event/tuende-jakab-2/
LOCATION:REIGEN LIVE\, Hadikgasse 62\, Wien\, 1140\, Österreich
ATTACH;FMTTYPE=image/png:https://www.reigen.at/wp-content/uploads/2025/07/Tuende-Jakab-@-TonbandMedia.png
END:VEVENT
BEGIN:VEVENT
DTSTART;TZID=Europe/Berlin:20260425T203000
DTEND;TZID=Europe/Berlin:20260425T233000
DTSTAMP:20260420T123704
CREATED:20251027T224319Z
LAST-MODIFIED:20260111T234810Z
UID:5973-1777149000-1777159800@www.reigen.at
SUMMARY:Leas Shuffle Gangster & Junior & The Fat Cats
DESCRIPTION:Lea’s Shuffle Gangsters : R&B vom Feinsten – Tanzmusik aus den 40er und 50ern. Jimmy McCracklin\,Roy Brown Wynnonie Harris und Solche. Wer damit etwas anfangen kann\, wird begeistert sein und hat viel mit uns gemeinsam … \nDie Besetzung klassisch: 2 Saxophone\, Posaune\, Kontrabass\, Klavier\, Schlagzeug\, Gesang von Mann und Frau und immer wieder einmal ein Klavier\, ein anderer Bläser oder eine Gitarre – zaubern wir die 40er/50er wieder her – mit viel Liebe zum Detail und zur Authentizität. \n\n\nJump\, Jive and Wail mit Junior & The Fat Cats \nEine siebenköpfige internationale Rhythm and Blues Band\, die sich der Musik der 40er und 50er Jahre verschrieben hat. Das breite Repertoire erstreckt sich von Boogie\, Blues\, Jive\, Rhythm and Blues bis Rock ’n‘ Roll. Das Programm deckt Klassiker sowie auch zahlreiche Raritäten ab. Dank der klassischen R&B Besetzung mit 3-stimmigem Bläsersatz ist es möglich\, den Rhythm and Blues Sound der 40er und 50er authentisch und druckvoll auf die Bühne zu bringen. Die Band liebt die Bühne\, das Publikum und die Emotionen! Die Bühnenshow begeistert sofort und lässt das Publikum am Lebensgefühl der damaligen Zeit teilhaben. Eine außergewöhnliche Show ist garantiert und das Publikum will nur noch eins: Tanzen\, Tanzen\, Tanzen! \n \n  \n  \n 
URL:https://www.reigen.at/event/leas-shuffle-gangster/
LOCATION:REIGEN LIVE\, Hadikgasse 62\, Wien\, 1140\, Österreich
ATTACH;FMTTYPE=image/jpeg:https://www.reigen.at/wp-content/uploads/2025/10/leas-Shuffle-Gangsters-scaled.jpeg
END:VEVENT
BEGIN:VEVENT
DTSTART;TZID=Europe/Berlin:20260428T223000
DTEND;TZID=Europe/Berlin:20260428T233000
DTSTAMP:20260420T123704
CREATED:20250820T081844Z
LAST-MODIFIED:20251217T020140Z
UID:5735-1777415400-1777419000@www.reigen.at
SUMMARY:Bex Marshall (UK)
DESCRIPTION:Die Gewinnerin des UK British Blues Awards und viermalige Nominierte der European Blues Awards\, Bex Marshall\, hat einen einzigartigen Gitarrenstil\, der eine Kombination aus Slide\, Blues Rock\, Ragtime und Roots Pickin‘ ist. \nIhre Stimme ist ein kraftvoller Schmelztiegel aus dem Herzschmerz einer alten schwarzen Frau und der Seele einer Rock-Diva. Bex ist eine herausragende und bemerkenswerte Songwriterin\, die die Grenzen des Blues erweitert. Ihre Songs wurden als zeitlos und genial bezeichnet. Sie tourt international solo oder mit einer 3-köpfigen Band\, die ihren einzigartigen virtuosen Stil ergänzt. Bex‘ neueste Veröffentlichung ‚Fortuna‘ wurde von Blues Blast Magazine (USA) für das prestigeträchtige ‚Rock Blues Album of the Year‘ für 2024 nominiert. Dies ist eine äußerst angesehene Nominierung und zeigt ihr Talent. \nGeboren in Plymouth\, Devon\, ist sie das Produkt zweier sehr unterschiedlicher Familien: einerseits aus dem blaublütigen Landadel (ihr Urgroßvater war der Gutsherr von Cornwall) und andererseits aus der irischen Romani-Seite ihrer Mutter (ihre Urgroßmutter war die ursprüngliche Jahrmarkt-Wahrsagerin Madame Olga). Sie hatte schon immer eine Leidenschaft für das Reisen\, es liegt ihr im Blut. Mit 18 Jahren begann Bex als ausgebildete Croupière ihre Reisen um die Welt\, arbeitete an Spieltischen auf Kreuzfahrtschiffen bis hin zu Park Lane und leitete sogar illegale Pokerspiele in Amsterdam. Sie trampte die Küste Australiens auf Viehzügen entlang und immer mit einer Gitarre auf dem Rücken\, lebte und sammelte Geschichten. \nBex wurde von Janis Joplins erster Band ‚Big Brother and the Holding Company‘ eingeladen\, als Gast auf deren Europatournee 2014 mit dem Original-Gitarristen Sam Andrews zu sein.
URL:https://www.reigen.at/event/bex-marshall-uk-2/
LOCATION:REIGEN LIVE\, Hadikgasse 62\, Wien\, 1140\, Österreich
ATTACH;FMTTYPE=image/jpeg:https://www.reigen.at/wp-content/uploads/2025/01/bex_marshall_001_copyright_ben_radford.jpg
END:VEVENT
BEGIN:VEVENT
DTSTART;TZID=Europe/Berlin:20260429T203000
DTEND;TZID=Europe/Berlin:20260429T233000
DTSTAMP:20260420T123704
CREATED:20250822T093955Z
LAST-MODIFIED:20251217T021058Z
UID:5744-1777494600-1777505400@www.reigen.at
SUMMARY:NEIL ZAZA BAND  supp. Florian Hamela
DESCRIPTION:Der Gitarrist Neil Zaza hat nicht nur dazu beigetragen\, das Genre der melodischen Instrumentalgitarre zu definieren\, er ist auch ein weltweiter Botschafter für das Instrument selbst geworden. Seine melodischen Kompositionen haben die Art und Weise verändert\, wie Musiker spielen\, und was das Publikum weltweit von seinen Gitarrenhelden verlangt. Mit feuriger technischer Brillanz un atemberaubender musikalischer Interpretation hat sich Neil Zaza als Instrumentalgitarrist definiert\, der wie kein anderer in der Lage ist\, solides\, eingängiges Songwriting mit einem ausgeprägten Sinn für Melodie und technischer Wucht zu verbinden. Von seinen virtuosen Rock-Soli über Funk-Grooves bis hin zu klassischen Kompositionen von Bach und Mozart – Zazas extreme Vielseitigkeit wurde weltweit bei Konzerten und Festivals sowie auf seinen eigenen Solo-Instrumentalalben unter Beweis gestellt. Zaza hat unter anderem mit Joe Satriani\, Steve Vai\, Dweezil Zappa\, Steve & Mike Porcaro (Toto)\, Yngwie Malmsteen\, Vinnie Moore und Andy Summers zusammengespielt. Er hat auf Alben von Dweezil Zappa\, Eric Carmen und Michael Stanley mitgewirkt und auch Gitarrenspuren für einen von Stewart Copeland produzierten Filmsoundtrack geliefert. \nSeit Jahren steht Neil an der Spitze der Instrumentalgitarrenbewegung und an der Spitze der genreerfahrenen A-Liste. Mit seinem unnachahmlichen melodischen Stil hat er die Massen begeistert\, Fans verzaubert und Staus auf der ganzen Welt verursacht. Er ist Endorser von Carvin mit einer Signature-Gitarre. \n  \n 
URL:https://www.reigen.at/event/neil-zaza-band-instrumental-melodic-rock-2/
LOCATION:REIGEN LIVE\, Hadikgasse 62\, Wien\, 1140\, Österreich
ATTACH;FMTTYPE=image/jpeg:https://www.reigen.at/wp-content/uploads/2025/08/neil_zaza_001_copyright_brigitte_mistelbacher-2995386c.jpg
END:VEVENT
BEGIN:VEVENT
DTSTART;TZID=Europe/Berlin:20260430T203000
DTEND;TZID=Europe/Berlin:20260430T233000
DTSTAMP:20260420T123704
CREATED:20260117T212826Z
LAST-MODIFIED:20260206T223739Z
UID:6289-1777581000-1777591800@www.reigen.at
SUMMARY:MEENA CRYLE & The Chris Fillmore Band
DESCRIPTION:Meena Cryle & Chris Fillmore zählen seit vielen Jahren zu den erfolgreichsten österreichischen Musikexporten in der internationalen Blues ’n‘ Roots Szene und ihre Auftritte auf diversen Festivals in Europa und den USA sowie in namhaften Häusern wie der Wiener Staatsoper wurden nicht selten mit Standig Ovations honoriert. \n„Eine außergewöhnlich ausdrucksstarke\, wandlungsfähige und vor allem berührende Sängerin und ein begnadeter Gitarrist\, dessen geradezu traumwandlerische Leichtigkeit an seinem Instrument jedes Mal von Neuem fasziniert“\, schwärmt man in diversen Konzertberichten in den Medien.\nBegleitet werden die beiden von zwei Legenden\, die für sich stehen. Angus Thomas am Bass\, der unter anderem in der Band von Miles Davis spielte - und Lenny Dickson am Schlagzeug\, dessen Arbeit man auf so mancher Tom Waits Platte hören kann.\nNach ihrer erfolgreichen Show beim VBS 2025 sind sie dieses Jahr wieder fixer Bestandteil des Festivals.\nMEENA CRYLE: Vocals\, Acoustic Guitar\nCHRIS FILLMORE: Electric Guitar\nANGUS THOMAS: Bass\nLENNY DICKSON: Drums\nFoto Credits: Manuela Fuchs Instagram: konzertfotografie_fuchs\n\nhttps://youtu.be/oOgO40WqGRE?si=pp9MvU450LJk1frM
URL:https://www.reigen.at/event/meena-cryle-the-chris-fillmore-band-2/
LOCATION:REIGEN LIVE\, Hadikgasse 62\, Wien\, 1140\, Österreich
ATTACH;FMTTYPE=image/jpeg:https://www.reigen.at/wp-content/uploads/2026/01/Meena-Chris-19_2.jpg
END:VEVENT
END:VCALENDAR